{"text_format":"1","workbook":"xlsx","n_sheets":6,"sheets":["Instructions ","Start List Team Scoring","Bib Lists","Placing by Gender","Placing Overall","ScTbl"],"not_rendered":{"charts":0,"images":2,"macros":1,"external_links":0,"defined_names":12,"comments":0,"pivot_tables":0},"unopened":[],"bounds":{"document_bytes":16777216,"sheet_cells":100000,"rows_first":2000,"rows_last":500,"rows_between":2000,"halvings":0,"cell_chars":16384,"cell_head_chars":4096},"cells_cut":0,"cells_raw":0,"read":"whole","date_system":"1900"}

{"sheet":"Instructions ","index":0,"n_rows":42,"n_cols":7,"rows_kept":42,"cut":false,"hidden":false,"merged":[[6,1,6,6],[9,1,9,6],[26,1,26,6],[24,1,24,6],[25,1,25,6],[10,1,10,6],[11,1,11,6],[7,1,7,6],[21,1,21,6],[23,1,23,6],[32,1,32,6],[34,1,34,6],[32,7,32,12],[33,1,33,6],[20,1,20,6],[29,1,29,6],[31,1,31,6],[28,1,28,6],[41,1,41,6],[35,1,35,6],[36,1,36,6],[37,1,37,6],[39,1,39,6],[38,1,38,6],[19,1,19,6],[30,1,30,6],[8,1,8,6],[13,1,13,6],[18,1,18,6],[12,1,12,6],[15,1,15,6],[16,1,16,6],[27,1,27,6]]}
["Adult Masters Race Series Scoring Template Instructions",null,null,null,null,null,"Last updated January 7, 2010"]
["A step-by-step guide to scoring using this template…"]
[]
["DAY BEFORE THE RACE"]
[1,"Have each team submit their start lists by 10am prior to the day of the race using the following format:"]
[null,null,"Individual Start Order (ISO)","First Name Last Name","Age Group","Gender (M/F)","Start Order"]
[2,"To use the \"Create Start List\" and \"Score Race\" buttons to automate these tasks, click on \"Enable Macros\" when prompted.  "]
[3,"Set up teams in the team lookup table in alphabetical order (on the right side in the 'Start List Team Scoring' worksheet).  Assign the start order to the teams in this table (in Column Y) - with the host team starting last.  KEEP TEAM NAMES IN ALPHABETICAL ORDER."]
[{"$f":"A8+1","v":4},"Copy team start lists into the template so that columns match columns in template.  DO NOT ENTER ANY DATA IN THE PALE YELLOW CELLS.  THESE CELLS CONTAIN THE FORMULAS NEEDED TO DO THE SCORING.  Insert the team names using the same acronyms in column H as you used in the team lookup table.  Check that the age categories match the age categories in the age and gender category table.  Edit as req'd.  Check that each team has entered their racer names as firstname lastname (which will help the race announcers), and that they have properly assigned the ISO.  Make necessary corrections."]
[{"$f":"A9+1","v":5},"Press the \"Create Start List\" button at the bottom.  Click \"Yes\" when prompted to do so.  Skip #6 below."]
[null,"- OR -"]
[null,"follow instruction #6"]
[{"$f":"A10+1","v":6},"Sort data in columns B through H for all rows with racers entered in ascending order by column B, then by column D, then by column C to create your start list (with no header row).  This has the effect of assigning appropriate bib numbers to each racer.  DO NOT INCLUDE THE PALE YELLOW CELLS ON THE RIGHT SIDE OF THIS WORKSHEET IN THIS SORT."]
[{"$f":"A13+1","v":7},"Go into the 'Bib Lists' worksheet and sort ALL data in the spreadsheet by team name and bib number (ie by columns H & A) in order to create a bib list for each team.  Reset the page breaks as needed so that each team is printed on a separate page.  Print and use these bib lists when assembling the bibs for each team."]
["RACE DAY MORNING"]
[{"$f":"A14+1","v":8},"Provide at least 2 copies of the appropriate bib list to each team with their bibs, along with at least 2 copies of the full startlist."]
[{"$f":"A16+1","v":9},"Ensure that the race computer has the final version of the start list for purposes of recording the race times during the race, and that the person operating the computer knows that they should not enter or otherwise adjust any of the pale yellow cells."]
["DURING THE RACE"]
[{"$f":"A17+1","v":10},"Enter forerunner names and times - to a max of 4 forerunners;  DO NOT ADD ANY ADDITIONAL ROWS IN THIS SPREADSHEET."]
[{"$f":"A19+1","v":11},"For each racer, enter run time or DNS, or 888 for any DNFs, or 999 for any DQs in 1st and 2nd run columns as racers finish…  save the data file regularly!"]
[{"$f":"A20+1","v":12},"After all racers have finished, or during a break in the racing, check times compared to manual record to ensure there are no inputting errors.  Check that the DNF and DQ entries are correctly reflected as 888 or 999 - as these are needed for the formulas.  Make necessary corrections."]
[{"$f":"A21+1","v":13},"Check that the 'best run' column has correctly determined the best run times for a few racers (as a double check that the best run formulas are working properly)."]
["IMMEDIATELY AFTER THE RACE"]
[14,"Press the \"Score Race\" button at the bottom.  Click \"Yes\" when prompted to do so.  Steps #15 and #16-#21 should be done for you, but the person performing the scoring should check them and do the hilighting.  Proceed to step #22."]
[null,"- OR -"]
[null,"continue to instruction #15"]
[{"$f":"A24+1","v":15},"Sort racers' data (excluding forerunner data) in columns A through K in the 'Start List Team Scoring' worksheet in ascending order by column B, then by column K (with no header row).  This sort has the effect of assigning placing within each category and calculating points earned for each racer and their team.  DO NOT INCLUDE THE PALE YELLOW CELLS ON THE RIGHT SIDE OF THIS WORKSHEET IN THIS SORT.  The spreadsheet now has the gross points assigned to each racer.  The gross points for the team are in row 170."]
[16,"Hilite alternating categories of racers to make it easier to check the final results for each category of racer (bold yellow works well), or add bold borders as dividing lines between each category."]
[17,"Check that the fastest racers for each category are identified as the 1st place finishers, and that each such racer earned the highest points in their category."]
[18,"Check that the points for each racer are properly allocated to the correct team."]
[19,"If any team had more than 24 starters (ie finishers + DQs and DNFs), manually delete the \"best run results\" for their top scoring racer(s) so that only 24 starters are included in the race results.  Hilight any manual adjustments using a different colour than you've used in the spreadsheet so far."]
[20,"For each team, count the number of female finishers - and note this count in the appropriate row near the bottom of the race results (row 173)."]
[21,"Check for ties in each category; manually adjust the points so that the same # of points are awarded to each of the racers who tie.  For example:  6 racers finish - a tie for 2nd - both racers get 23 points.  The next racer is 4th and gets 21 points.  Hilight any scores that you have manually adjusted."]
[22,"For each team, identify the lowest scores in the 'drops' section while ensuring a maximum of 16 males and 21 racers overall are included for each team.  Some drops may have been done automatically;  if so, this should be checked.  Hilight the scores that are being dropped in the detailed results, using a colour that is different than other colours used in the scoring spreadsheet.  Adjust for any late submission 'drops'.  The spreadsheet now has the correct net points assigned to each team (row 182)."]
[23,"Manually enter the team positions based on net points (row 184).  IMPORTANT:  Save the spreadsheet!"]
[24,"Ask the Jury members to check the overall reasonableness of the results - either before or after the 'Start List Team Scoring' results are printed.  They should also specifically check all manual adjustments and drops.  This check can be done by having the Jury members review the electronic version on the screen, or they can review a printed copy."]
[25,"Go into the 'Placing by Gender' worksheet, then sort the results by M/F then by best run, in order to determine the fastest males and females for the race.  Create a dividing line between the Female and Male racers using the Border feature in Excel."]
[26,"Go into the 'Placing Overall' worksheet, and sort the results by best run, in order to determine the overall placing for the race."]
[27,"Print the full set of race results for each Jury member so they can perform a final check of the results."]
[28,"When all Jury members have agreed to the results, announce the key results at the apres race reception, and enjoy the celebrations!  \n(3rd fastest female, 2nd fastest female, fastest female; 3rd fastest male, 2nd fastest male, fastest male; and team results - from least points to most points)"]
["AFTER RACE DAY"]
[{"$f":"A40+1","v":29},"Send an electronic copy of the unofficial results to the other team managers by email within 24 hours of the race and ask them to confirm they are still ok with the results within 48 hours of the race, with a copy to the League Scoring & Results Chairs and to the AOA;  if no response from the team managers, assume ok;  if there are concerns, the host team manager must address any issues;  by 7pm on Monday after each race (or earlier if the results have been fully confirmed), either confirm the results or provide updated results to the League Scoring & Results Chairs and the AOA race manager, so the updated results can be posted online, and the League standings can be updated."]

{"sheet":"Start List Team Scoring","index":1,"n_rows":192,"n_cols":30,"rows_kept":192,"cut":false,"hidden":false,"merged":[[9,26,9,29],[17,22,20,24],[1,0,1,10],[4,14,4,19],[4,8,4,10],[9,22,9,24]]}
[]
["AOS Druxy's Master Race League - HOST TEAM, DATE OF RACE",null,null,null,null,null,null,null,null,null,null,null,null,null,null,null,null,null,"UNOFFICIAL RESULTS"]
["Team and Age Category Placing"]
[]
[null,null,null,null,null,null,null,null,"TIME (secs) or DNS, \nDNF (888), DQ (999)",null,null,null,null,null,"Team Points"]
["BIB#","CSO","TSO","ISO","NAME","AGE GRP","M/F","TEAM","1ST RUN","2ND RUN","BEST RUN","Place","FIN","Points",{"$f":"W12","v":"ALP"},{"$f":"W13","v":"CAL"},{"$f":"W14","v":"CRA"},{"$f":"W15","v":"GP"},{"$f":"W16","v":"TDG"},{"$f":"W17","v":0}]
["FORERUNNERS:",null,null,null,null,null,null,null,null,null,{"$f":"MIN(I7,J6)","v":0},null,null,null,{"$f":"+O182","v":272},386,351,333,227,0]
[null,null,null,null,null,null,null,null,null,null,{"$f":"MIN(I8,J7)","v":0},null,"Note:"]
[null,null,null,null,null,null,null,null,null,null,{"$f":"MIN(I9,J8)","v":0},null,"DNS = DNS,  DNF = 888,  DQ = 999"]
[null,null,null,null,null,null,null,null,null,null,{"$f":"MIN(I10,J9)","v":0},null,null,null,null,null,null,null,null,null,null,null,"Team Set Up",null,null,null,"Age and Gender Categories"]
[null,null,null,null,null,null,null,null,null,null,null,null,null,null,null,null,null,null,null,null,null,null,"Acronym","Team Name","Start Order",null,"Gender","Age Group","Start Order","Starters"]
[1,{"$f":"IF(G12=\"F\",VLOOKUP(F12,$AB$12:$AC$25,2),IF(G12=\"M\",VLOOKUP(F12,$AB$26:$AC$39,2),-1))","v":9},{"$f":"IF(ISERROR(VLOOKUP(H12,$W$12:$Y$17,3,FALSE)),-1,VLOOKUP(H12,$W$12:$Y$17,3,FALSE))","v":3},1,"Margaret-Anne Gold *","65-69","F","TDG","DNS","DNS",{"$f":"MIN(I12,J12)","v":0},{"$f":"IF(B12=B11,IF(K12<>0,L11+1,0),IF(K12<>0,1,0))","v":0},{"$f":"VLOOKUP(B12,AC$12:AD$39,2,FALSE)","v":1},{"$f":"IF(L12>0,HLOOKUP(M12,ScTbl!B$3:Y$27,L12+1,FALSE),0)","v":0},{"$f":"IF($H12=O$6,IF($K12=888,0.01,IF($K12=999,0.01,$N12)),0)","v":0},0,0,0,0,0,null,null,"ALP","ALPINE",2,null,"F","18-29",23,{"$f":"SUM(IF(B$11:B$168=AC12,IF(K$11:K$168>0,1,0),0))","v":6}]
[2,{"$f":"IF(G13=\"F\",VLOOKUP(F13,$AB$12:$AC$25,2),IF(G13=\"M\",VLOOKUP(F13,$AB$26:$AC$39,2),-1))","v":9},{"$f":"IF(ISERROR(VLOOKUP(H13,$W$12:$Y$17,3,FALSE)),-1,VLOOKUP(H13,$W$12:$Y$17,3,FALSE))","v":3},2,"Patricia Bain","65-69","F","TDG",48.24,"DNS",{"$f":"MIN(I13,J13)","v":48.24},1,{"$f":"VLOOKUP(B13,AC$12:AD$39,2,FALSE)","v":1},{"$f":"IF(L13>0,HLOOKUP(M13,ScTbl!B$3:Y$27,L13+1,FALSE),0)","v":21},0,0,0,0,21,0,null,null,"CAL","CALEDON",5,null,"F","30-34",22,{"$f":"SUM(IF(B$11:B$168=AC13,IF(K$11:K$168>0,1,0),0))","v":1}]
[3,{"$f":"IF(G14=\"F\",VLOOKUP(F14,$AB$12:$AC$25,2),IF(G14=\"M\",VLOOKUP(F14,$AB$26:$AC$39,2),-1))","v":10},{"$f":"IF(ISERROR(VLOOKUP(H14,$W$12:$Y$17,3,FALSE)),-1,VLOOKUP(H14,$W$12:$Y$17,3,FALSE))","v":4},1,"Jane Willson","60-64","F","GP",39.03,39.29,{"$f":"MIN(I14,J14)","v":39.03},1,2,{"$f":"IF(L14>0,HLOOKUP(M14,ScTbl!B$3:Y$27,L14+1,FALSE),0)","v":22},0,0,0,22,0,0,null,null,"CRA","CRAIGLEITH",1,null,"F","35-39",21,{"$f":"SUM(IF(B$11:B$168=AC14,IF(K$11:K$168>0,1,0),0))","v":0}]
[4,{"$f":"IF(G15=\"F\",VLOOKUP(F15,$AB$12:$AC$25,2),IF(G15=\"M\",VLOOKUP(F15,$AB$26:$AC$39,2),-1))","v":10},{"$f":"IF(ISERROR(VLOOKUP(H15,$W$12:$Y$17,3,FALSE)),-1,VLOOKUP(H15,$W$12:$Y$17,3,FALSE))","v":5},1,"Sharon Regan","60-64","F","CAL",39.53,40.729999999999997,{"$f":"MIN(I15,J15)","v":39.53},2,2,{"$f":"IF(L15>0,HLOOKUP(M15,ScTbl!B$3:Y$27,L15+1,FALSE),0)","v":21},0,21,0,0,0,0,null,null,"GP","GEORGIAN PEAKS",4,null,"F","40-44",18,{"$f":"SUM(IF(B$11:B$168=AC15,IF(K$11:K$168>0,1,0),0))","v":0}]
[5,{"$f":"IF(G16=\"F\",VLOOKUP(F16,$AB$12:$AC$25,2),IF(G16=\"M\",VLOOKUP(F16,$AB$26:$AC$39,2),-1))","v":11},{"$f":"IF(ISERROR(VLOOKUP(H16,$W$12:$Y$17,3,FALSE)),-1,VLOOKUP(H16,$W$12:$Y$17,3,FALSE))","v":2},1,"Ken Lackner","75-79","M","ALP",37.61,"DNS",{"$f":"MIN(I16,J16)","v":37.61},1,4,{"$f":"IF(L16>0,HLOOKUP(M16,ScTbl!B$3:Y$27,L16+1,FALSE),0)","v":23},{"$f":"IF($H16=O$6,IF($K16=888,0.01,IF($K16=999,0.01,$N16)),0)","v":23},0,0,0,0,0,null,null,"TDG","TSC/DG",3,null,"F","45-49",17,{"$f":"SUM(IF(B$11:B$168=AC16,IF(K$11:K$168>0,1,0),0))","v":0}]
[8,{"$f":"IF(G17=\"F\",VLOOKUP(F17,$AB$12:$AC$25,2),IF(G17=\"M\",VLOOKUP(F17,$AB$26:$AC$39,2),-1))","v":11},{"$f":"IF(ISERROR(VLOOKUP(H17,$W$12:$Y$17,3,FALSE)),-1,VLOOKUP(H17,$W$12:$Y$17,3,FALSE))","v":4},3,"Geoff Lowe","75-79","M","GP",38.01,888,{"$f":"MIN(I17,J17)","v":38.01},2,4,{"$f":"IF(L17>0,HLOOKUP(M17,ScTbl!B$3:Y$27,L17+1,FALSE),0)","v":22},0,0,0,22,0,0,null,null,null,null,null,null,"F","50-54",14,{"$f":"SUM(IF(B$11:B$168=AC17,IF(K$11:K$168>0,1,0),0))","v":4}]
[6,{"$f":"IF(G18=\"F\",VLOOKUP(F18,$AB$12:$AC$25,2),IF(G18=\"M\",VLOOKUP(F18,$AB$26:$AC$39,2),-1))","v":11},{"$f":"IF(ISERROR(VLOOKUP(H18,$W$12:$Y$17,3,FALSE)),-1,VLOOKUP(H18,$W$12:$Y$17,3,FALSE))","v":4},1,"Gene Kinoshita","75-79","M","GP",38.479999999999997,888,{"$f":"MIN(I18,J18)","v":38.479999999999997},3,4,{"$f":"IF(L18>0,HLOOKUP(M18,ScTbl!B$3:Y$27,L18+1,FALSE),0)","v":21},0,0,0,21,0,0,null,null,"Note:  Teams must be entered in this table in alphabetical order by acronym in order for the formulae to work properly;  the start order s/b adjusted so that the host team starts last",null,null,null,"F","55-59",13,{"$f":"SUM(IF(B$11:B$168=AC18,IF(K$11:K$168>0,1,0),0))","v":2}]
[7,{"$f":"IF(G19=\"F\",VLOOKUP(F19,$AB$12:$AC$25,2),IF(G19=\"M\",VLOOKUP(F19,$AB$26:$AC$39,2),-1))","v":11},{"$f":"IF(ISERROR(VLOOKUP(H19,$W$12:$Y$17,3,FALSE)),-1,VLOOKUP(H19,$W$12:$Y$17,3,FALSE))","v":4},2,"John Hethrington","75-79","M","GP",70.040000000000006,"DNS",{"$f":"MIN(I19,J19)","v":70.040000000000006},4,4,{"$f":"IF(L19>0,HLOOKUP(M19,ScTbl!B$3:Y$27,L19+1,FALSE),0)","v":20},0,0,0,20,0,0,null,null,null,null,null,null,"F","60-64",10,{"$f":"SUM(IF(B$11:B$168=AC19,IF(K$11:K$168>0,1,0),0))","v":2}]
[13,{"$f":"IF(G20=\"F\",VLOOKUP(F20,$AB$12:$AC$25,2),IF(G20=\"M\",VLOOKUP(F20,$AB$26:$AC$39,2),-1))","v":12},{"$f":"IF(ISERROR(VLOOKUP(H20,$W$12:$Y$17,3,FALSE)),-1,VLOOKUP(H20,$W$12:$Y$17,3,FALSE))","v":4},2,"Gerry Young","70-74","M","GP","DNS","DNS",{"$f":"MIN(I20,J20)","v":0},0,4,{"$f":"IF(L20>0,HLOOKUP(M20,ScTbl!B$3:Y$27,L20+1,FALSE),0)","v":0},0,0,0,0,0,0,null,null,null,null,null,null,"F","65-69",9,{"$f":"SUM(IF(B$11:B$168=AC20,IF(K$11:K$168>0,1,0),0))","v":1}]
[11,{"$f":"IF(G21=\"F\",VLOOKUP(F21,$AB$12:$AC$25,2),IF(G21=\"M\",VLOOKUP(F21,$AB$26:$AC$39,2),-1))","v":12},{"$f":"IF(ISERROR(VLOOKUP(H21,$W$12:$Y$17,3,FALSE)),-1,VLOOKUP(H21,$W$12:$Y$17,3,FALSE))","v":4},1,"Heinz Grossmann ","70-74","M","GP",999,31.06,{"$f":"MIN(I21,J21)","v":31.06},1,4,{"$f":"IF(L21>0,HLOOKUP(M21,ScTbl!B$3:Y$27,L21+1,FALSE),0)","v":23},0,0,0,23,0,0,null,null,null,null,null,null,"F","70-74",5,{"$f":"SUM(IF(B$11:B$168=AC21,IF(K$11:K$168>0,1,0),0))","v":0}]
[12,{"$f":"IF(G22=\"F\",VLOOKUP(F22,$AB$12:$AC$25,2),IF(G22=\"M\",VLOOKUP(F22,$AB$26:$AC$39,2),-1))","v":12},{"$f":"IF(ISERROR(VLOOKUP(H22,$W$12:$Y$17,3,FALSE)),-1,VLOOKUP(H22,$W$12:$Y$17,3,FALSE))","v":5},1,"Peter Pusitz","70-74","M","CAL",36.380000000000003,39.46,{"$f":"MIN(I22,J22)","v":36.380000000000003},2,4,{"$f":"IF(L22>0,HLOOKUP(M22,ScTbl!B$3:Y$27,L22+1,FALSE),0)","v":22},0,22,0,0,0,0,null,null,null,null,null,null,"F","75-79",4,{"$f":"SUM(IF(B$11:B$168=AC22,IF(K$11:K$168>0,1,0),0))","v":0}]
[9,{"$f":"IF(G23=\"F\",VLOOKUP(F23,$AB$12:$AC$25,2),IF(G23=\"M\",VLOOKUP(F23,$AB$26:$AC$39,2),-1))","v":12},{"$f":"IF(ISERROR(VLOOKUP(H23,$W$12:$Y$17,3,FALSE)),-1,VLOOKUP(H23,$W$12:$Y$17,3,FALSE))","v":2},1,"Rudy Berrang","70-74","M","ALP",37.58,"DNS",{"$f":"MIN(I23,J23)","v":37.58},3,4,{"$f":"IF(L23>0,HLOOKUP(M23,ScTbl!B$3:Y$27,L23+1,FALSE),0)","v":21},21,0,0,0,0,0,null,null,null,null,null,null,"F","80-84",3,{"$f":"SUM(IF(B$11:B$168=AC23,IF(K$11:K$168>0,1,0),0))","v":0}]
[10,{"$f":"IF(G24=\"F\",VLOOKUP(F24,$AB$12:$AC$25,2),IF(G24=\"M\",VLOOKUP(F24,$AB$26:$AC$39,2),-1))","v":12},{"$f":"IF(ISERROR(VLOOKUP(H24,$W$12:$Y$17,3,FALSE)),-1,VLOOKUP(H24,$W$12:$Y$17,3,FALSE))","v":3},1,"Thomas Bain","70-74","M","TDG",44.77,48.19,{"$f":"MIN(I24,J24)","v":44.77},4,4,{"$f":"IF(L24>0,HLOOKUP(M24,ScTbl!B$3:Y$27,L24+1,FALSE),0)","v":20},0,0,0,0,20,0,null,null,null,null,null,null,"F","85-89",2,{"$f":"SUM(IF(B$11:B$168=AC24,IF(K$11:K$168>0,1,0),0))","v":0}]
[16,{"$f":"IF(G25=\"F\",VLOOKUP(F25,$AB$12:$AC$25,2),IF(G25=\"M\",VLOOKUP(F25,$AB$26:$AC$39,2),-1))","v":13},{"$f":"IF(ISERROR(VLOOKUP(H25,$W$12:$Y$17,3,FALSE)),-1,VLOOKUP(H25,$W$12:$Y$17,3,FALSE))","v":5},1,"Brenda Tweel","55-59","F","CAL","DNS","DNS",{"$f":"MIN(I25,J25)","v":0},0,2,{"$f":"IF(L25>0,HLOOKUP(M25,ScTbl!B$3:Y$27,L25+1,FALSE),0)","v":0},0,0,0,0,0,0,null,null,null,null,null,null,"F","90+",1,{"$f":"SUM(IF(B$11:B$168=AC25,IF(K$11:K$168>0,1,0),0))","v":0}]
[17,{"$f":"IF(G26=\"F\",VLOOKUP(F26,$AB$12:$AC$25,2),IF(G26=\"M\",VLOOKUP(F26,$AB$26:$AC$39,2),-1))","v":13},{"$f":"IF(ISERROR(VLOOKUP(H26,$W$12:$Y$17,3,FALSE)),-1,VLOOKUP(H26,$W$12:$Y$17,3,FALSE))","v":3},2,"Mary Ferguson","55-59","F","TDG","DNS","DNS",{"$f":"MIN(I26,J26)","v":0},0,2,{"$f":"IF(L26>0,HLOOKUP(M26,ScTbl!B$3:Y$27,L26+1,FALSE),0)","v":0},0,0,0,0,0,0,null,null,null,null,null,null,"M","18-29",28,{"$f":"SUM(IF(B$11:B$168=AC26,IF(K$11:K$168>0,1,0),0))","v":5}]
[15,{"$f":"IF(G27=\"F\",VLOOKUP(F27,$AB$12:$AC$25,2),IF(G27=\"M\",VLOOKUP(F27,$AB$26:$AC$39,2),-1))","v":13},{"$f":"IF(ISERROR(VLOOKUP(H27,$W$12:$Y$17,3,FALSE)),-1,VLOOKUP(H27,$W$12:$Y$17,3,FALSE))","v":4},1,"Heather Morris Lawler","55-59","F","GP",35.06,35.549999999999997,{"$f":"MIN(I27,J27)","v":35.06},1,2,{"$f":"IF(L27>0,HLOOKUP(M27,ScTbl!B$3:Y$27,L27+1,FALSE),0)","v":22},0,0,0,22,0,0,null,null,null,null,null,null,"M","30-34",27,{"$f":"SUM(IF(B$11:B$168=AC27,IF(K$11:K$168>0,1,0),0))","v":3}]
[14,{"$f":"IF(G28=\"F\",VLOOKUP(F28,$AB$12:$AC$25,2),IF(G28=\"M\",VLOOKUP(F28,$AB$26:$AC$39,2),-1))","v":13},{"$f":"IF(ISERROR(VLOOKUP(H28,$W$12:$Y$17,3,FALSE)),-1,VLOOKUP(H28,$W$12:$Y$17,3,FALSE))","v":3},1,"Lee Anne Underwood","55-59","F","TDG",35.590000000000003,36.64,{"$f":"MIN(I28,J28)","v":35.590000000000003},2,2,{"$f":"IF(L28>0,HLOOKUP(M28,ScTbl!B$3:Y$27,L28+1,FALSE),0)","v":21},{"$f":"IF($H28=O$6,IF($K28=888,0.01,IF($K28=999,0.01,$N28)),0)","v":0},0,0,0,21,0,null,null,null,null,null,null,"M","35-39",26,{"$f":"SUM(IF(B$11:B$168=AC28,IF(K$11:K$168>0,1,0),0))","v":1}]
[20,{"$f":"IF(G29=\"F\",VLOOKUP(F29,$AB$12:$AC$25,2),IF(G29=\"M\",VLOOKUP(F29,$AB$26:$AC$39,2),-1))","v":14},{"$f":"IF(ISERROR(VLOOKUP(H29,$W$12:$Y$17,3,FALSE)),-1,VLOOKUP(H29,$W$12:$Y$17,3,FALSE))","v":3},1,"Patricia Butler","50-54","F","TDG","DNS","DNS",{"$f":"MIN(I29,J29)","v":0},0,4,{"$f":"IF(L29>0,HLOOKUP(M29,ScTbl!B$3:Y$27,L29+1,FALSE),0)","v":0},0,0,0,0,0,0,null,null,null,null,null,null,"M","40-44",25,{"$f":"SUM(IF(B$11:B$168=AC29,IF(K$11:K$168>0,1,0),0))","v":5}]
[23,{"$f":"IF(G30=\"F\",VLOOKUP(F30,$AB$12:$AC$25,2),IF(G30=\"M\",VLOOKUP(F30,$AB$26:$AC$39,2),-1))","v":14},{"$f":"IF(ISERROR(VLOOKUP(H30,$W$12:$Y$17,3,FALSE)),-1,VLOOKUP(H30,$W$12:$Y$17,3,FALSE))","v":1},2,"Tiana Boyman","50-54","F","CRA","DNS","DNS",{"$f":"MIN(I30,J30)","v":0},0,4,{"$f":"IF(L30>0,HLOOKUP(M30,ScTbl!B$3:Y$27,L30+1,FALSE),0)","v":0},0,0,0,0,0,0,null,null,null,null,null,null,"M","45-49",24,{"$f":"SUM(IF(B$11:B$168=AC30,IF(K$11:K$168>0,1,0),0))","v":8}]
[21,{"$f":"IF(G31=\"F\",VLOOKUP(F31,$AB$12:$AC$25,2),IF(G31=\"M\",VLOOKUP(F31,$AB$26:$AC$39,2),-1))","v":14},{"$f":"IF(ISERROR(VLOOKUP(H31,$W$12:$Y$17,3,FALSE)),-1,VLOOKUP(H31,$W$12:$Y$17,3,FALSE))","v":4},1,"Tracey Granger","50-54","F","GP",30.24,888,{"$f":"MIN(I31,J31)","v":30.24},1,4,{"$f":"IF(L31>0,HLOOKUP(M31,ScTbl!B$3:Y$27,L31+1,FALSE),0)","v":23},0,0,0,23,0,0,null,null,null,null,null,null,"M","50-54",20,{"$f":"SUM(IF(B$11:B$168=AC31,IF(K$11:K$168>0,1,0),0))","v":15}]
[18,{"$f":"IF(G32=\"F\",VLOOKUP(F32,$AB$12:$AC$25,2),IF(G32=\"M\",VLOOKUP(F32,$AB$26:$AC$39,2),-1))","v":14},{"$f":"IF(ISERROR(VLOOKUP(H32,$W$12:$Y$17,3,FALSE)),-1,VLOOKUP(H32,$W$12:$Y$17,3,FALSE))","v":1},1,"Daina Dunlop","50-54","F","CRA",32.86,32.979999999999997,{"$f":"MIN(I32,J32)","v":32.86},2,4,{"$f":"IF(L32>0,HLOOKUP(M32,ScTbl!B$3:Y$27,L32+1,FALSE),0)","v":22},0,0,22,0,0,0,null,null,null,null,null,null,"M","55-59",19,{"$f":"SUM(IF(B$11:B$168=AC32,IF(K$11:K$168>0,1,0),0))","v":9}]
[19,{"$f":"IF(G33=\"F\",VLOOKUP(F33,$AB$12:$AC$25,2),IF(G33=\"M\",VLOOKUP(F33,$AB$26:$AC$39,2),-1))","v":14},{"$f":"IF(ISERROR(VLOOKUP(H33,$W$12:$Y$17,3,FALSE)),-1,VLOOKUP(H33,$W$12:$Y$17,3,FALSE))","v":2},1,"Sydney Graham","50-54","F","ALP",36.630000000000003,37.21,{"$f":"MIN(I33,J33)","v":36.630000000000003},3,4,{"$f":"IF(L33>0,HLOOKUP(M33,ScTbl!B$3:Y$27,L33+1,FALSE),0)","v":21},21,0,0,0,0,0,null,null,null,null,null,null,"M","60-64",16,{"$f":"SUM(IF(B$11:B$168=AC33,IF(K$11:K$168>0,1,0),0))","v":6}]
[22,{"$f":"IF(G34=\"F\",VLOOKUP(F34,$AB$12:$AC$25,2),IF(G34=\"M\",VLOOKUP(F34,$AB$26:$AC$39,2),-1))","v":14},{"$f":"IF(ISERROR(VLOOKUP(H34,$W$12:$Y$17,3,FALSE)),-1,VLOOKUP(H34,$W$12:$Y$17,3,FALSE))","v":5},1,"Judy Donaldson","50-54","F","CAL",999,38.53,{"$f":"MIN(I34,J34)","v":38.53},4,4,{"$f":"IF(L34>0,HLOOKUP(M34,ScTbl!B$3:Y$27,L34+1,FALSE),0)","v":20},0,20,0,0,0,0,null,null,null,null,null,null,"M","65-69",15,{"$f":"SUM(IF(B$11:B$168=AC34,IF(K$11:K$168>0,1,0),0))","v":1}]
[24,{"$f":"IF(G35=\"F\",VLOOKUP(F35,$AB$12:$AC$25,2),IF(G35=\"M\",VLOOKUP(F35,$AB$26:$AC$39,2),-1))","v":15},{"$f":"IF(ISERROR(VLOOKUP(H35,$W$12:$Y$17,3,FALSE)),-1,VLOOKUP(H35,$W$12:$Y$17,3,FALSE))","v":3},1,"Doug Goodall","65-69","M","TDG",42.53,"DNS",{"$f":"MIN(I35,J35)","v":42.53},1,1,{"$f":"IF(L35>0,HLOOKUP(M35,ScTbl!B$3:Y$27,L35+1,FALSE),0)","v":21},0,0,0,0,21,0,null,null,null,null,null,null,"M","70-74",12,{"$f":"SUM(IF(B$11:B$168=AC35,IF(K$11:K$168>0,1,0),0))","v":4}]
[28,{"$f":"IF(G36=\"F\",VLOOKUP(F36,$AB$12:$AC$25,2),IF(G36=\"M\",VLOOKUP(F36,$AB$26:$AC$39,2),-1))","v":16},{"$f":"IF(ISERROR(VLOOKUP(H36,$W$12:$Y$17,3,FALSE)),-1,VLOOKUP(H36,$W$12:$Y$17,3,FALSE))","v":4},1,"Chris Sadler","60-64","M","GP","DNS","DNS",{"$f":"MIN(I36,J36)","v":0},0,6,{"$f":"IF(L36>0,HLOOKUP(M36,ScTbl!B$3:Y$27,L36+1,FALSE),0)","v":0},0,0,0,0,0,0,null,null,null,null,null,null,"M","75-79",11,{"$f":"SUM(IF(B$11:B$168=AC36,IF(K$11:K$168>0,1,0),0))","v":4}]
[31,{"$f":"IF(G37=\"F\",VLOOKUP(F37,$AB$12:$AC$25,2),IF(G37=\"M\",VLOOKUP(F37,$AB$26:$AC$39,2),-1))","v":16},{"$f":"IF(ISERROR(VLOOKUP(H37,$W$12:$Y$17,3,FALSE)),-1,VLOOKUP(H37,$W$12:$Y$17,3,FALSE))","v":3},2,"Chuck Reynolds *","60-64","M","TDG","DNS","DNS",{"$f":"MIN(I37,J37)","v":0},0,6,{"$f":"IF(L37>0,HLOOKUP(M37,ScTbl!B$3:Y$27,L37+1,FALSE),0)","v":0},0,0,0,0,0,0,null,null,null,null,null,null,"M","80-84",8,{"$f":"SUM(IF(B$11:B$168=AC37,IF(K$11:K$168>0,1,0),0))","v":0}]
[32,{"$f":"IF(G38=\"F\",VLOOKUP(F38,$AB$12:$AC$25,2),IF(G38=\"M\",VLOOKUP(F38,$AB$26:$AC$39,2),-1))","v":16},{"$f":"IF(ISERROR(VLOOKUP(H38,$W$12:$Y$17,3,FALSE)),-1,VLOOKUP(H38,$W$12:$Y$17,3,FALSE))","v":4},2,"Boyd Van Allen","60-64","M","GP","DNS","DNS",{"$f":"MIN(I38,J38)","v":0},0,6,{"$f":"IF(L38>0,HLOOKUP(M38,ScTbl!B$3:Y$27,L38+1,FALSE),0)","v":0},0,0,0,0,0,0,null,null,null,null,null,null,"M","85-89",7,{"$f":"SUM(IF(B$11:B$168=AC38,IF(K$11:K$168>0,1,0),0))","v":0}]
[29,{"$f":"IF(G39=\"F\",VLOOKUP(F39,$AB$12:$AC$25,2),IF(G39=\"M\",VLOOKUP(F39,$AB$26:$AC$39,2),-1))","v":16},{"$f":"IF(ISERROR(VLOOKUP(H39,$W$12:$Y$17,3,FALSE)),-1,VLOOKUP(H39,$W$12:$Y$17,3,FALSE))","v":5},1,"Ralph Ferguson","60-64","M","CAL",27.36,888,{"$f":"MIN(I39,J39)","v":27.36},1,6,{"$f":"IF(L39>0,HLOOKUP(M39,ScTbl!B$3:Y$27,L39+1,FALSE),0)","v":24},0,24,0,0,0,0,null,null,null,null,null,null,"M","90+",6,{"$f":"SUM(IF(B$11:B$168=AC39,IF(K$11:K$168>0,1,0),0))","v":0}]
[33,{"$f":"IF(G40=\"F\",VLOOKUP(F40,$AB$12:$AC$25,2),IF(G40=\"M\",VLOOKUP(F40,$AB$26:$AC$39,2),-1))","v":16},{"$f":"IF(ISERROR(VLOOKUP(H40,$W$12:$Y$17,3,FALSE)),-1,VLOOKUP(H40,$W$12:$Y$17,3,FALSE))","v":4},3,"Grant Willson","60-64","M","GP",28.22,28.41,{"$f":"MIN(I40,J40)","v":28.22},2,6,{"$f":"IF(L40>0,HLOOKUP(M40,ScTbl!B$3:Y$27,L40+1,FALSE),0)","v":23},0,0,0,23,0,0]
[30,{"$f":"IF(G41=\"F\",VLOOKUP(F41,$AB$12:$AC$25,2),IF(G41=\"M\",VLOOKUP(F41,$AB$26:$AC$39,2),-1))","v":16},{"$f":"IF(ISERROR(VLOOKUP(H41,$W$12:$Y$17,3,FALSE)),-1,VLOOKUP(H41,$W$12:$Y$17,3,FALSE))","v":1},2,"Chris Clark","60-64","M","CRA",31.3,31.81,{"$f":"MIN(I41,J41)","v":31.3},3,6,{"$f":"IF(L41>0,HLOOKUP(M41,ScTbl!B$3:Y$27,L41+1,FALSE),0)","v":22},0,0,22,0,0,0]
[25,{"$f":"IF(G42=\"F\",VLOOKUP(F42,$AB$12:$AC$25,2),IF(G42=\"M\",VLOOKUP(F42,$AB$26:$AC$39,2),-1))","v":16},{"$f":"IF(ISERROR(VLOOKUP(H42,$W$12:$Y$17,3,FALSE)),-1,VLOOKUP(H42,$W$12:$Y$17,3,FALSE))","v":1},1,"Paul Woodhouse","60-64","M","CRA",888,32.72,{"$f":"MIN(I42,J42)","v":32.72},4,6,{"$f":"IF(L42>0,HLOOKUP(M42,ScTbl!B$3:Y$27,L42+1,FALSE),0)","v":21},0,0,21,0,0,0]
[27,{"$f":"IF(G43=\"F\",VLOOKUP(F43,$AB$12:$AC$25,2),IF(G43=\"M\",VLOOKUP(F43,$AB$26:$AC$39,2),-1))","v":16},{"$f":"IF(ISERROR(VLOOKUP(H43,$W$12:$Y$17,3,FALSE)),-1,VLOOKUP(H43,$W$12:$Y$17,3,FALSE))","v":3},1,"James Peacock","60-64","M","TDG",33.090000000000003,33.049999999999997,{"$f":"MIN(I43,J43)","v":33.049999999999997},5,6,{"$f":"IF(L43>0,HLOOKUP(M43,ScTbl!B$3:Y$27,L43+1,FALSE),0)","v":20},0,0,0,0,20,0]
[26,{"$f":"IF(G44=\"F\",VLOOKUP(F44,$AB$12:$AC$25,2),IF(G44=\"M\",VLOOKUP(F44,$AB$26:$AC$39,2),-1))","v":16},{"$f":"IF(ISERROR(VLOOKUP(H44,$W$12:$Y$17,3,FALSE)),-1,VLOOKUP(H44,$W$12:$Y$17,3,FALSE))","v":2},1,"Tony Petrella","60-64","M","ALP",33.29,34.06,{"$f":"MIN(I44,J44)","v":33.29},{"$f":"IF(B44=B43,IF(K44<>0,L43+1,0),IF(K44<>0,1,0))","v":6},6,{"$f":"IF(L44>0,HLOOKUP(M44,ScTbl!B$3:Y$27,L44+1,FALSE),0)","v":19},19,0,0,0,0,0]
[34,{"$f":"IF(G45=\"F\",VLOOKUP(F45,$AB$12:$AC$25,2),IF(G45=\"M\",VLOOKUP(F45,$AB$26:$AC$39,2),-1))","v":17},{"$f":"IF(ISERROR(VLOOKUP(H45,$W$12:$Y$17,3,FALSE)),-1,VLOOKUP(H45,$W$12:$Y$17,3,FALSE))","v":3},1,"Barbara Fydell","45-49","F","TDG","DNS","DNS",{"$f":"MIN(I45,J45)","v":0},0,0,{"$f":"IF(L45>0,HLOOKUP(M45,ScTbl!B$3:Y$27,L45+1,FALSE),0)","v":0},0,0,0,0,0,0]
[37,{"$f":"IF(G46=\"F\",VLOOKUP(F46,$AB$12:$AC$25,2),IF(G46=\"M\",VLOOKUP(F46,$AB$26:$AC$39,2),-1))","v":19},{"$f":"IF(ISERROR(VLOOKUP(H46,$W$12:$Y$17,3,FALSE)),-1,VLOOKUP(H46,$W$12:$Y$17,3,FALSE))","v":3},1,"Michael Gagnon","55-59","M","TDG","DNS","DNS",{"$f":"MIN(I46,J46)","v":0},0,9,{"$f":"IF(L46>0,HLOOKUP(M46,ScTbl!B$3:Y$27,L46+1,FALSE),0)","v":0},0,0,0,0,0,0]
[45,{"$f":"IF(G47=\"F\",VLOOKUP(F47,$AB$12:$AC$25,2),IF(G47=\"M\",VLOOKUP(F47,$AB$26:$AC$39,2),-1))","v":19},{"$f":"IF(ISERROR(VLOOKUP(H47,$W$12:$Y$17,3,FALSE)),-1,VLOOKUP(H47,$W$12:$Y$17,3,FALSE))","v":3},4,"Steve Dryden","55-59","M","TDG","DNS","DNS",{"$f":"MIN(I47,J47)","v":0},0,9,{"$f":"IF(L47>0,HLOOKUP(M47,ScTbl!B$3:Y$27,L47+1,FALSE),0)","v":0},0,0,0,0,0,0]
[35,{"$f":"IF(G48=\"F\",VLOOKUP(F48,$AB$12:$AC$25,2),IF(G48=\"M\",VLOOKUP(F48,$AB$26:$AC$39,2),-1))","v":19},{"$f":"IF(ISERROR(VLOOKUP(H48,$W$12:$Y$17,3,FALSE)),-1,VLOOKUP(H48,$W$12:$Y$17,3,FALSE))","v":1},1,"Jeff Sutherland","55-59","M","CRA",25.77,25.31,{"$f":"MIN(I48,J48)","v":25.31},1,9,{"$f":"IF(L48>0,HLOOKUP(M48,ScTbl!B$3:Y$27,L48+1,FALSE),0)","v":25},0,0,25,0,0,0]
[38,{"$f":"IF(G49=\"F\",VLOOKUP(F49,$AB$12:$AC$25,2),IF(G49=\"M\",VLOOKUP(F49,$AB$26:$AC$39,2),-1))","v":19},{"$f":"IF(ISERROR(VLOOKUP(H49,$W$12:$Y$17,3,FALSE)),-1,VLOOKUP(H49,$W$12:$Y$17,3,FALSE))","v":4},1,"Mike Duder","55-59","M","GP",27.34,27.27,{"$f":"MIN(I49,J49)","v":27.27},2,9,{"$f":"IF(L49>0,HLOOKUP(M49,ScTbl!B$3:Y$27,L49+1,FALSE),0)","v":24},0,0,0,24,0,0]
[43,{"$f":"IF(G50=\"F\",VLOOKUP(F50,$AB$12:$AC$25,2),IF(G50=\"M\",VLOOKUP(F50,$AB$26:$AC$39,2),-1))","v":19},{"$f":"IF(ISERROR(VLOOKUP(H50,$W$12:$Y$17,3,FALSE)),-1,VLOOKUP(H50,$W$12:$Y$17,3,FALSE))","v":4},2,"Peter Owen","55-59","M","GP",27.94,27.62,{"$f":"MIN(I50,J50)","v":27.62},3,9,{"$f":"IF(L50>0,HLOOKUP(M50,ScTbl!B$3:Y$27,L50+1,FALSE),0)","v":23},0,0,0,23,0,0]
[40,{"$f":"IF(G51=\"F\",VLOOKUP(F51,$AB$12:$AC$25,2),IF(G51=\"M\",VLOOKUP(F51,$AB$26:$AC$39,2),-1))","v":19},{"$f":"IF(ISERROR(VLOOKUP(H51,$W$12:$Y$17,3,FALSE)),-1,VLOOKUP(H51,$W$12:$Y$17,3,FALSE))","v":1},2,"Chris Fregren","55-59","M","CRA",28.5,28.04,{"$f":"MIN(I51,J51)","v":28.04},4,9,{"$f":"IF(L51>0,HLOOKUP(M51,ScTbl!B$3:Y$27,L51+1,FALSE),0)","v":22},0,0,22,0,0,0]
[39,{"$f":"IF(G52=\"F\",VLOOKUP(F52,$AB$12:$AC$25,2),IF(G52=\"M\",VLOOKUP(F52,$AB$26:$AC$39,2),-1))","v":19},{"$f":"IF(ISERROR(VLOOKUP(H52,$W$12:$Y$17,3,FALSE)),-1,VLOOKUP(H52,$W$12:$Y$17,3,FALSE))","v":5},1,"Paul Montgomery","55-59","M","CAL",28.2,32.020000000000003,{"$f":"MIN(I52,J52)","v":28.2},5,9,{"$f":"IF(L52>0,HLOOKUP(M52,ScTbl!B$3:Y$27,L52+1,FALSE),0)","v":21},0,21,0,0,0,0]
[36,{"$f":"IF(G53=\"F\",VLOOKUP(F53,$AB$12:$AC$25,2),IF(G53=\"M\",VLOOKUP(F53,$AB$26:$AC$39,2),-1))","v":19},{"$f":"IF(ISERROR(VLOOKUP(H53,$W$12:$Y$17,3,FALSE)),-1,VLOOKUP(H53,$W$12:$Y$17,3,FALSE))","v":2},1,"Peter Coward","55-59","M","ALP",28.68,28.68,{"$f":"MIN(I53,J53)","v":28.68},6,9,{"$f":"IF(L53>0,HLOOKUP(M53,ScTbl!B$3:Y$27,L53+1,FALSE),0)","v":20},20,0,0,0,0,0]
[42,{"$f":"IF(G54=\"F\",VLOOKUP(F54,$AB$12:$AC$25,2),IF(G54=\"M\",VLOOKUP(F54,$AB$26:$AC$39,2),-1))","v":19},{"$f":"IF(ISERROR(VLOOKUP(H54,$W$12:$Y$17,3,FALSE)),-1,VLOOKUP(H54,$W$12:$Y$17,3,FALSE))","v":3},2,"Patrick Lee","55-59","M","TDG",32.270000000000003,32.85,{"$f":"MIN(I54,J54)","v":32.270000000000003},7,9,{"$f":"IF(L54>0,HLOOKUP(M54,ScTbl!B$3:Y$27,L54+1,FALSE),0)","v":19},0,0,0,0,19,0]
[41,{"$f":"IF(G55=\"F\",VLOOKUP(F55,$AB$12:$AC$25,2),IF(G55=\"M\",VLOOKUP(F55,$AB$26:$AC$39,2),-1))","v":19},{"$f":"IF(ISERROR(VLOOKUP(H55,$W$12:$Y$17,3,FALSE)),-1,VLOOKUP(H55,$W$12:$Y$17,3,FALSE))","v":2},2,"Gary Solway","55-59","M","ALP",32.92,32.36,{"$f":"MIN(I55,J55)","v":32.36},8,9,{"$f":"IF(L55>0,HLOOKUP(M55,ScTbl!B$3:Y$27,L55+1,FALSE),0)","v":18},18,0,0,0,0,0]
[44,{"$f":"IF(G56=\"F\",VLOOKUP(F56,$AB$12:$AC$25,2),IF(G56=\"M\",VLOOKUP(F56,$AB$26:$AC$39,2),-1))","v":19},{"$f":"IF(ISERROR(VLOOKUP(H56,$W$12:$Y$17,3,FALSE)),-1,VLOOKUP(H56,$W$12:$Y$17,3,FALSE))","v":3},3,"Ron Perryman","55-59","M","TDG",33.9,888,{"$f":"MIN(I56,J56)","v":33.9},9,9,{"$f":"IF(L56>0,HLOOKUP(M56,ScTbl!B$3:Y$27,L56+1,FALSE),0)","v":17},0,0,0,0,17,0]
[56,{"$f":"IF(G57=\"F\",VLOOKUP(F57,$AB$12:$AC$25,2),IF(G57=\"M\",VLOOKUP(F57,$AB$26:$AC$39,2),-1))","v":20},{"$f":"IF(ISERROR(VLOOKUP(H57,$W$12:$Y$17,3,FALSE)),-1,VLOOKUP(H57,$W$12:$Y$17,3,FALSE))","v":5},3,"Rob Muru","50-54","M","CAL","DNS","DNS",{"$f":"MIN(I57,J57)","v":0},0,15,{"$f":"IF(L57>0,HLOOKUP(M57,ScTbl!B$3:Y$27,L57+1,FALSE),0)","v":0},0,0,0,0,0,0]
[58,{"$f":"IF(G58=\"F\",VLOOKUP(F58,$AB$12:$AC$25,2),IF(G58=\"M\",VLOOKUP(F58,$AB$26:$AC$39,2),-1))","v":20},{"$f":"IF(ISERROR(VLOOKUP(H58,$W$12:$Y$17,3,FALSE)),-1,VLOOKUP(H58,$W$12:$Y$17,3,FALSE))","v":3},4,"Rob Nogas","50-54","M","TDG","DNS","DNS",{"$f":"MIN(I58,J58)","v":0},0,15,{"$f":"IF(L58>0,HLOOKUP(M58,ScTbl!B$3:Y$27,L58+1,FALSE),0)","v":0},0,0,0,0,0,0]
[61,{"$f":"IF(G59=\"F\",VLOOKUP(F59,$AB$12:$AC$25,2),IF(G59=\"M\",VLOOKUP(F59,$AB$26:$AC$39,2),-1))","v":20},{"$f":"IF(ISERROR(VLOOKUP(H59,$W$12:$Y$17,3,FALSE)),-1,VLOOKUP(H59,$W$12:$Y$17,3,FALSE))","v":3},5,"John Stafford","50-54","M","TDG","DNS","DNS",{"$f":"MIN(I59,J59)","v":0},0,15,{"$f":"IF(L59>0,HLOOKUP(M59,ScTbl!B$3:Y$27,L59+1,FALSE),0)","v":0},0,0,0,0,0,0]
[64,{"$f":"IF(G60=\"F\",VLOOKUP(F60,$AB$12:$AC$25,2),IF(G60=\"M\",VLOOKUP(F60,$AB$26:$AC$39,2),-1))","v":20},{"$f":"IF(ISERROR(VLOOKUP(H60,$W$12:$Y$17,3,FALSE)),-1,VLOOKUP(H60,$W$12:$Y$17,3,FALSE))","v":3},6,"Thomas Kochuta *","50-54","M","TDG","DNS","DNS",{"$f":"MIN(I60,J60)","v":0},0,15,{"$f":"IF(L60>0,HLOOKUP(M60,ScTbl!B$3:Y$27,L60+1,FALSE),0)","v":0},0,0,0,0,0,0]
[48,{"$f":"IF(G61=\"F\",VLOOKUP(F61,$AB$12:$AC$25,2),IF(G61=\"M\",VLOOKUP(F61,$AB$26:$AC$39,2),-1))","v":20},{"$f":"IF(ISERROR(VLOOKUP(H61,$W$12:$Y$17,3,FALSE)),-1,VLOOKUP(H61,$W$12:$Y$17,3,FALSE))","v":3},1,"Chris Samis","50-54","M","TDG",25.34,26.24,{"$f":"MIN(I61,J61)","v":25.34},1,15,{"$f":"IF(L61>0,HLOOKUP(M61,ScTbl!B$3:Y$27,L61+1,FALSE),0)","v":28},0,0,0,0,28,0]
[52,{"$f":"IF(G62=\"F\",VLOOKUP(F62,$AB$12:$AC$25,2),IF(G62=\"M\",VLOOKUP(F62,$AB$26:$AC$39,2),-1))","v":20},{"$f":"IF(ISERROR(VLOOKUP(H62,$W$12:$Y$17,3,FALSE)),-1,VLOOKUP(H62,$W$12:$Y$17,3,FALSE))","v":3},2,"Jaime Hugessen","50-54","M","TDG",25.91,25.38,{"$f":"MIN(I62,J62)","v":25.38},2,15,{"$f":"IF(L62>0,HLOOKUP(M62,ScTbl!B$3:Y$27,L62+1,FALSE),0)","v":27},0,0,0,0,27,0]
[54,{"$f":"IF(G63=\"F\",VLOOKUP(F63,$AB$12:$AC$25,2),IF(G63=\"M\",VLOOKUP(F63,$AB$26:$AC$39,2),-1))","v":20},{"$f":"IF(ISERROR(VLOOKUP(H63,$W$12:$Y$17,3,FALSE)),-1,VLOOKUP(H63,$W$12:$Y$17,3,FALSE))","v":1},3,"Craig Shibley","50-54","M","CRA",25.7,26.51,{"$f":"MIN(I63,J63)","v":25.7},3,15,{"$f":"IF(L63>0,HLOOKUP(M63,ScTbl!B$3:Y$27,L63+1,FALSE),0)","v":26},0,0,26,0,0,0]
[51,{"$f":"IF(G64=\"F\",VLOOKUP(F64,$AB$12:$AC$25,2),IF(G64=\"M\",VLOOKUP(F64,$AB$26:$AC$39,2),-1))","v":20},{"$f":"IF(ISERROR(VLOOKUP(H64,$W$12:$Y$17,3,FALSE)),-1,VLOOKUP(H64,$W$12:$Y$17,3,FALSE))","v":2},2,"Jeff Parr","50-54","M","ALP",25.82,26.97,{"$f":"MIN(I64,J64)","v":25.82},4,15,{"$f":"IF(L64>0,HLOOKUP(M64,ScTbl!B$3:Y$27,L64+1,FALSE),0)","v":25},25,0,0,0,0,0]
[49,{"$f":"IF(G65=\"F\",VLOOKUP(F65,$AB$12:$AC$25,2),IF(G65=\"M\",VLOOKUP(F65,$AB$26:$AC$39,2),-1))","v":20},{"$f":"IF(ISERROR(VLOOKUP(H65,$W$12:$Y$17,3,FALSE)),-1,VLOOKUP(H65,$W$12:$Y$17,3,FALSE))","v":5},1,"Bruce Simpson","50-54","M","CAL",25.9,25.85,{"$f":"MIN(I65,J65)","v":25.85},5,15,{"$f":"IF(L65>0,HLOOKUP(M65,ScTbl!B$3:Y$27,L65+1,FALSE),0)","v":24},0,24,0,0,0,0]
[63,{"$f":"IF(G66=\"F\",VLOOKUP(F66,$AB$12:$AC$25,2),IF(G66=\"M\",VLOOKUP(F66,$AB$26:$AC$39,2),-1))","v":20},{"$f":"IF(ISERROR(VLOOKUP(H66,$W$12:$Y$17,3,FALSE)),-1,VLOOKUP(H66,$W$12:$Y$17,3,FALSE))","v":1},6,"Randy Dalton","50-54","M","CRA",26.2,26.79,{"$f":"MIN(I66,J66)","v":26.2},6,15,{"$f":"IF(L66>0,HLOOKUP(M66,ScTbl!B$3:Y$27,L66+1,FALSE),0)","v":23},0,0,23,0,0,0]
[50,{"$f":"IF(G67=\"F\",VLOOKUP(F67,$AB$12:$AC$25,2),IF(G67=\"M\",VLOOKUP(F67,$AB$26:$AC$39,2),-1))","v":20},{"$f":"IF(ISERROR(VLOOKUP(H67,$W$12:$Y$17,3,FALSE)),-1,VLOOKUP(H67,$W$12:$Y$17,3,FALSE))","v":1},2,"Trent Winstone","50-54","M","CRA",26.65,26.42,{"$f":"MIN(I67,J67)","v":26.42},7,15,{"$f":"IF(L67>0,HLOOKUP(M67,ScTbl!B$3:Y$27,L67+1,FALSE),0)","v":22},0,0,22,0,0,0]
[60,{"$f":"IF(G68=\"F\",VLOOKUP(F68,$AB$12:$AC$25,2),IF(G68=\"M\",VLOOKUP(F68,$AB$26:$AC$39,2),-1))","v":20},{"$f":"IF(ISERROR(VLOOKUP(H68,$W$12:$Y$17,3,FALSE)),-1,VLOOKUP(H68,$W$12:$Y$17,3,FALSE))","v":1},5,"Ian Latimer","50-54","M","CRA",26.78,27.11,{"$f":"MIN(I68,J68)","v":26.78},8,15,{"$f":"IF(L68>0,HLOOKUP(M68,ScTbl!B$3:Y$27,L68+1,FALSE),0)","v":21},0,0,21,0,0,0]
[53,{"$f":"IF(G69=\"F\",VLOOKUP(F69,$AB$12:$AC$25,2),IF(G69=\"M\",VLOOKUP(F69,$AB$26:$AC$39,2),-1))","v":20},{"$f":"IF(ISERROR(VLOOKUP(H69,$W$12:$Y$17,3,FALSE)),-1,VLOOKUP(H69,$W$12:$Y$17,3,FALSE))","v":5},2,"Peter Neumann","50-54","M","CAL",27.41,27.97,{"$f":"MIN(I69,J69)","v":27.41},9,15,{"$f":"IF(L69>0,HLOOKUP(M69,ScTbl!B$3:Y$27,L69+1,FALSE),0)","v":20},0,20,0,0,0,0]
[57,{"$f":"IF(G70=\"F\",VLOOKUP(F70,$AB$12:$AC$25,2),IF(G70=\"M\",VLOOKUP(F70,$AB$26:$AC$39,2),-1))","v":20},{"$f":"IF(ISERROR(VLOOKUP(H70,$W$12:$Y$17,3,FALSE)),-1,VLOOKUP(H70,$W$12:$Y$17,3,FALSE))","v":1},4,"Jeff Craig","50-54","M","CRA",28.46,28.34,{"$f":"MIN(I70,J70)","v":28.34},10,15,{"$f":"IF(L70>0,HLOOKUP(M70,ScTbl!B$3:Y$27,L70+1,FALSE),0)","v":19},0,0,19,{"$f":"IF($H70=R$6,IF($K70=888,0.01,IF($K70=999,0.01,$N70)),0)","v":0},0,0]
[47,{"$f":"IF(G71=\"F\",VLOOKUP(F71,$AB$12:$AC$25,2),IF(G71=\"M\",VLOOKUP(F71,$AB$26:$AC$39,2),-1))","v":20},{"$f":"IF(ISERROR(VLOOKUP(H71,$W$12:$Y$17,3,FALSE)),-1,VLOOKUP(H71,$W$12:$Y$17,3,FALSE))","v":2},1,"Kevin Beattie","50-54","M","ALP",28.49,28.94,{"$f":"MIN(I71,J71)","v":28.49},11,15,{"$f":"IF(L71>0,HLOOKUP(M71,ScTbl!B$3:Y$27,L71+1,FALSE),0)","v":18},{"$f":"IF($H71=O$6,IF($K71=888,0.01,IF($K71=999,0.01,$N71)),0)","v":18},{"$f":"IF($H71=P$6,IF($K71=888,0.01,IF($K71=999,0.01,$N71)),0)","v":0},{"$f":"IF($H71=Q$6,IF($K71=888,0.01,IF($K71=999,0.01,$N71)),0)","v":0},0,0,0]
[46,{"$f":"IF(G72=\"F\",VLOOKUP(F72,$AB$12:$AC$25,2),IF(G72=\"M\",VLOOKUP(F72,$AB$26:$AC$39,2),-1))","v":20},{"$f":"IF(ISERROR(VLOOKUP(H72,$W$12:$Y$17,3,FALSE)),-1,VLOOKUP(H72,$W$12:$Y$17,3,FALSE))","v":1},1,"Robert Burnes ","50-54","M","CRA",28.81,29.05,{"$f":"MIN(I72,J72)","v":28.81},12,15,{"$f":"IF(L72>0,HLOOKUP(M72,ScTbl!B$3:Y$27,L72+1,FALSE),0)","v":17},0,0,17,0,0,0]
[59,{"$f":"IF(G73=\"F\",VLOOKUP(F73,$AB$12:$AC$25,2),IF(G73=\"M\",VLOOKUP(F73,$AB$26:$AC$39,2),-1))","v":20},{"$f":"IF(ISERROR(VLOOKUP(H73,$W$12:$Y$17,3,FALSE)),-1,VLOOKUP(H73,$W$12:$Y$17,3,FALSE))","v":5},4,"Geoff Guy","50-54","M","CAL",29.4,888,{"$f":"MIN(I73,J73)","v":29.4},13,15,{"$f":"IF(L73>0,HLOOKUP(M73,ScTbl!B$3:Y$27,L73+1,FALSE),0)","v":16},0,16,0,0,0,0]
[62,{"$f":"IF(G74=\"F\",VLOOKUP(F74,$AB$12:$AC$25,2),IF(G74=\"M\",VLOOKUP(F74,$AB$26:$AC$39,2),-1))","v":20},{"$f":"IF(ISERROR(VLOOKUP(H74,$W$12:$Y$17,3,FALSE)),-1,VLOOKUP(H74,$W$12:$Y$17,3,FALSE))","v":5},5,"Taylor Gregory","50-54","M","CAL",31.87,31.79,{"$f":"MIN(I74,J74)","v":31.79},14,15,{"$f":"IF(L74>0,HLOOKUP(M74,ScTbl!B$3:Y$27,L74+1,FALSE),0)","v":15},0,15,0,0,0,0]
[55,{"$f":"IF(G75=\"F\",VLOOKUP(F75,$AB$12:$AC$25,2),IF(G75=\"M\",VLOOKUP(F75,$AB$26:$AC$39,2),-1))","v":20},{"$f":"IF(ISERROR(VLOOKUP(H75,$W$12:$Y$17,3,FALSE)),-1,VLOOKUP(H75,$W$12:$Y$17,3,FALSE))","v":3},3,"Greg Thompson","50-54","M","TDG",32.61,32.49,{"$f":"MIN(I75,J75)","v":32.49},15,15,{"$f":"IF(L75>0,HLOOKUP(M75,ScTbl!B$3:Y$27,L75+1,FALSE),0)","v":14},0,0,0,0,14,0]
[65,{"$f":"IF(G76=\"F\",VLOOKUP(F76,$AB$12:$AC$25,2),IF(G76=\"M\",VLOOKUP(F76,$AB$26:$AC$39,2),-1))","v":21},{"$f":"IF(ISERROR(VLOOKUP(H76,$W$12:$Y$17,3,FALSE)),-1,VLOOKUP(H76,$W$12:$Y$17,3,FALSE))","v":2},1,"Alana Cox","35-39","F","ALP","DNS","DNS",{"$f":"MIN(I76,J76)","v":0},{"$f":"IF(B76=B75,IF(K76<>0,L75+1,0),IF(K76<>0,1,0))","v":0},0,{"$f":"IF(L76>0,HLOOKUP(M76,ScTbl!B$3:Y$27,L76+1,FALSE),0)","v":0},0,{"$f":"IF($H76=P$6,IF($K76=888,0.01,IF($K76=999,0.01,$N76)),0)","v":0},{"$f":"IF($H76=Q$6,IF($K76=888,0.01,IF($K76=999,0.01,$N76)),0)","v":0},0,0,0]
[66,{"$f":"IF(G77=\"F\",VLOOKUP(F77,$AB$12:$AC$25,2),IF(G77=\"M\",VLOOKUP(F77,$AB$26:$AC$39,2),-1))","v":22},{"$f":"IF(ISERROR(VLOOKUP(H77,$W$12:$Y$17,3,FALSE)),-1,VLOOKUP(H77,$W$12:$Y$17,3,FALSE))","v":5},1,"Melanie Templeman","30-34","F","CAL",32.11,33.01,{"$f":"MIN(I77,J77)","v":32.11},1,{"$f":"VLOOKUP(B77,AC$12:AD$39,2,FALSE)","v":1},{"$f":"IF(L77>0,HLOOKUP(M77,ScTbl!B$3:Y$27,L77+1,FALSE),0)","v":21},0,21,0,0,0,0]
[72,{"$f":"IF(G78=\"F\",VLOOKUP(F78,$AB$12:$AC$25,2),IF(G78=\"M\",VLOOKUP(F78,$AB$26:$AC$39,2),-1))","v":23},{"$f":"IF(ISERROR(VLOOKUP(H78,$W$12:$Y$17,3,FALSE)),-1,VLOOKUP(H78,$W$12:$Y$17,3,FALSE))","v":1},2,"Stephanie Clark","18-29","F","CRA","DNS","DNS",{"$f":"MIN(I78,J78)","v":0},0,6,{"$f":"IF(L78>0,HLOOKUP(M78,ScTbl!B$3:Y$27,L78+1,FALSE),0)","v":0},0,0,0,0,0,0]
[71,{"$f":"IF(G79=\"F\",VLOOKUP(F79,$AB$12:$AC$25,2),IF(G79=\"M\",VLOOKUP(F79,$AB$26:$AC$39,2),-1))","v":23},{"$f":"IF(ISERROR(VLOOKUP(H79,$W$12:$Y$17,3,FALSE)),-1,VLOOKUP(H79,$W$12:$Y$17,3,FALSE))","v":5},1,"Emily Shiletto","18-29","F","CAL",24.26,24.63,{"$f":"MIN(I79,J79)","v":24.26},1,6,{"$f":"IF(L79>0,HLOOKUP(M79,ScTbl!B$3:Y$27,L79+1,FALSE),0)","v":24},0,24,0,0,0,0]
[68,{"$f":"IF(G80=\"F\",VLOOKUP(F80,$AB$12:$AC$25,2),IF(G80=\"M\",VLOOKUP(F80,$AB$26:$AC$39,2),-1))","v":23},{"$f":"IF(ISERROR(VLOOKUP(H80,$W$12:$Y$17,3,FALSE)),-1,VLOOKUP(H80,$W$12:$Y$17,3,FALSE))","v":2},1,"Laura Coward","18-29","F","ALP",26.4,27.2,{"$f":"MIN(I80,J80)","v":26.4},2,6,{"$f":"IF(L80>0,HLOOKUP(M80,ScTbl!B$3:Y$27,L80+1,FALSE),0)","v":23},23,0,0,0,0,0]
[70,{"$f":"IF(G81=\"F\",VLOOKUP(F81,$AB$12:$AC$25,2),IF(G81=\"M\",VLOOKUP(F81,$AB$26:$AC$39,2),-1))","v":23},{"$f":"IF(ISERROR(VLOOKUP(H81,$W$12:$Y$17,3,FALSE)),-1,VLOOKUP(H81,$W$12:$Y$17,3,FALSE))","v":4},1,"Ashley Heenan","18-29","F","GP",27.85,27.46,{"$f":"MIN(I81,J81)","v":27.46},3,6,{"$f":"IF(L81>0,HLOOKUP(M81,ScTbl!B$3:Y$27,L81+1,FALSE),0)","v":22},0,{"$f":"IF($H81=P$6,IF($K81=888,0.01,IF($K81=999,0.01,$N81)),0)","v":0},{"$f":"IF($H81=Q$6,IF($K81=888,0.01,IF($K81=999,0.01,$N81)),0)","v":0},22,0,0]
[73,{"$f":"IF(G82=\"F\",VLOOKUP(F82,$AB$12:$AC$25,2),IF(G82=\"M\",VLOOKUP(F82,$AB$26:$AC$39,2),-1))","v":23},{"$f":"IF(ISERROR(VLOOKUP(H82,$W$12:$Y$17,3,FALSE)),-1,VLOOKUP(H82,$W$12:$Y$17,3,FALSE))","v":5},2,"Courtney Claessens","18-29","F","CAL",31.04,31.52,{"$f":"MIN(I82,J82)","v":31.04},4,6,{"$f":"IF(L82>0,HLOOKUP(M82,ScTbl!B$3:Y$27,L82+1,FALSE),0)","v":21},0,21,0,0,0,0]
[67,{"$f":"IF(G83=\"F\",VLOOKUP(F83,$AB$12:$AC$25,2),IF(G83=\"M\",VLOOKUP(F83,$AB$26:$AC$39,2),-1))","v":23},{"$f":"IF(ISERROR(VLOOKUP(H83,$W$12:$Y$17,3,FALSE)),-1,VLOOKUP(H83,$W$12:$Y$17,3,FALSE))","v":1},1,"Sarah Latimer","18-29","F","CRA",31.5,31.37,{"$f":"MIN(I83,J83)","v":31.37},5,6,{"$f":"IF(L83>0,HLOOKUP(M83,ScTbl!B$3:Y$27,L83+1,FALSE),0)","v":20},0,0,20,0,0,0]
[69,{"$f":"IF(G84=\"F\",VLOOKUP(F84,$AB$12:$AC$25,2),IF(G84=\"M\",VLOOKUP(F84,$AB$26:$AC$39,2),-1))","v":23},{"$f":"IF(ISERROR(VLOOKUP(H84,$W$12:$Y$17,3,FALSE)),-1,VLOOKUP(H84,$W$12:$Y$17,3,FALSE))","v":3},1,"Elizabeth Perryman","18-29","F","TDG",31.95,33.42,{"$f":"MIN(I84,J84)","v":31.95},6,6,{"$f":"IF(L84>0,HLOOKUP(M84,ScTbl!B$3:Y$27,L84+1,FALSE),0)","v":19},0,0,0,0,19,0]
[76,{"$f":"IF(G85=\"F\",VLOOKUP(F85,$AB$12:$AC$25,2),IF(G85=\"M\",VLOOKUP(F85,$AB$26:$AC$39,2),-1))","v":24},{"$f":"IF(ISERROR(VLOOKUP(H85,$W$12:$Y$17,3,FALSE)),-1,VLOOKUP(H85,$W$12:$Y$17,3,FALSE))","v":4},1,"John Mealy","45-49","M","GP",24.44,"DNS",{"$f":"MIN(I85,J85)","v":24.44},1,8,{"$f":"IF(L85>0,HLOOKUP(M85,ScTbl!B$3:Y$27,L85+1,FALSE),0)","v":25},0,0,0,25,0,0]
[77,{"$f":"IF(G86=\"F\",VLOOKUP(F86,$AB$12:$AC$25,2),IF(G86=\"M\",VLOOKUP(F86,$AB$26:$AC$39,2),-1))","v":24},{"$f":"IF(ISERROR(VLOOKUP(H86,$W$12:$Y$17,3,FALSE)),-1,VLOOKUP(H86,$W$12:$Y$17,3,FALSE))","v":5},1,"Kelly Shorer","45-49","M","CAL",25.39,26.39,{"$f":"MIN(I86,J86)","v":25.39},2,8,{"$f":"IF(L86>0,HLOOKUP(M86,ScTbl!B$3:Y$27,L86+1,FALSE),0)","v":24},0,{"$f":"IF($H86=P$6,IF($K86=888,0.01,IF($K86=999,0.01,$N86)),0)","v":24},{"$f":"IF($H86=Q$6,IF($K86=888,0.01,IF($K86=999,0.01,$N86)),0)","v":0},0,0,0]
[79,{"$f":"IF(G87=\"F\",VLOOKUP(F87,$AB$12:$AC$25,2),IF(G87=\"M\",VLOOKUP(F87,$AB$26:$AC$39,2),-1))","v":24},{"$f":"IF(ISERROR(VLOOKUP(H87,$W$12:$Y$17,3,FALSE)),-1,VLOOKUP(H87,$W$12:$Y$17,3,FALSE))","v":5},2,"Graham Smith","45-49","M","CAL",25.94,26.66,{"$f":"MIN(I87,J87)","v":25.94},3,8,{"$f":"IF(L87>0,HLOOKUP(M87,ScTbl!B$3:Y$27,L87+1,FALSE),0)","v":23},0,23,0,0,0,0]
[78,{"$f":"IF(G88=\"F\",VLOOKUP(F88,$AB$12:$AC$25,2),IF(G88=\"M\",VLOOKUP(F88,$AB$26:$AC$39,2),-1))","v":24},{"$f":"IF(ISERROR(VLOOKUP(H88,$W$12:$Y$17,3,FALSE)),-1,VLOOKUP(H88,$W$12:$Y$17,3,FALSE))","v":4},2,"Clarke Smith","45-49","M","GP",27.14,27.98,{"$f":"MIN(I88,J88)","v":27.14},4,8,{"$f":"IF(L88>0,HLOOKUP(M88,ScTbl!B$3:Y$27,L88+1,FALSE),0)","v":22},0,0,0,22,0,0]
[75,{"$f":"IF(G89=\"F\",VLOOKUP(F89,$AB$12:$AC$25,2),IF(G89=\"M\",VLOOKUP(F89,$AB$26:$AC$39,2),-1))","v":24},{"$f":"IF(ISERROR(VLOOKUP(H89,$W$12:$Y$17,3,FALSE)),-1,VLOOKUP(H89,$W$12:$Y$17,3,FALSE))","v":2},1,"David Garber","45-49","M","ALP",27.86,28.41,{"$f":"MIN(I89,J89)","v":27.86},5,8,{"$f":"IF(L89>0,HLOOKUP(M89,ScTbl!B$3:Y$27,L89+1,FALSE),0)","v":21},21,0,0,0,0,0]
[80,{"$f":"IF(G90=\"F\",VLOOKUP(F90,$AB$12:$AC$25,2),IF(G90=\"M\",VLOOKUP(F90,$AB$26:$AC$39,2),-1))","v":24},{"$f":"IF(ISERROR(VLOOKUP(H90,$W$12:$Y$17,3,FALSE)),-1,VLOOKUP(H90,$W$12:$Y$17,3,FALSE))","v":5},3,"John Brajkovich","45-49","M","CAL",28.56,999,{"$f":"MIN(I90,J90)","v":28.56},6,8,{"$f":"IF(L90>0,HLOOKUP(M90,ScTbl!B$3:Y$27,L90+1,FALSE),0)","v":20},0,20,0,0,0,0]
[74,{"$f":"IF(G91=\"F\",VLOOKUP(F91,$AB$12:$AC$25,2),IF(G91=\"M\",VLOOKUP(F91,$AB$26:$AC$39,2),-1))","v":24},{"$f":"IF(ISERROR(VLOOKUP(H91,$W$12:$Y$17,3,FALSE)),-1,VLOOKUP(H91,$W$12:$Y$17,3,FALSE))","v":1},1,"Jerry Patten","45-49","M","CRA",30.23,28.98,{"$f":"MIN(I91,J91)","v":28.98},{"$f":"IF(B91=B90,IF(K91<>0,L90+1,0),IF(K91<>0,1,0))","v":7},8,{"$f":"IF(L91>0,HLOOKUP(M91,ScTbl!B$3:Y$27,L91+1,FALSE),0)","v":19},0,{"$f":"IF($H91=P$6,IF($K91=888,0.01,IF($K91=999,0.01,$N91)),0)","v":0},{"$f":"IF($H91=Q$6,IF($K91=888,0.01,IF($K91=999,0.01,$N91)),0)","v":19},0,0,0]
[81,{"$f":"IF(G92=\"F\",VLOOKUP(F92,$AB$12:$AC$25,2),IF(G92=\"M\",VLOOKUP(F92,$AB$26:$AC$39,2),-1))","v":24},{"$f":"IF(ISERROR(VLOOKUP(H92,$W$12:$Y$17,3,FALSE)),-1,VLOOKUP(H92,$W$12:$Y$17,3,FALSE))","v":5},4,"Mike Rowland","45-49","M","CAL",31.62,33.409999999999997,{"$f":"MIN(I92,J92)","v":31.62},8,8,{"$f":"IF(L92>0,HLOOKUP(M92,ScTbl!B$3:Y$27,L92+1,FALSE),0)","v":18},0,18,0,0,0,0]
[86,{"$f":"IF(G93=\"F\",VLOOKUP(F93,$AB$12:$AC$25,2),IF(G93=\"M\",VLOOKUP(F93,$AB$26:$AC$39,2),-1))","v":25},{"$f":"IF(ISERROR(VLOOKUP(H93,$W$12:$Y$17,3,FALSE)),-1,VLOOKUP(H93,$W$12:$Y$17,3,FALSE))","v":4},2,"Robert Linklater","40-44","M","GP","DNS","DNS",{"$f":"MIN(I93,J93)","v":0},0,5,{"$f":"IF(L93>0,HLOOKUP(M93,ScTbl!B$3:Y$27,L93+1,FALSE),0)","v":0},0,0,0,0,0,0]
[82,{"$f":"IF(G94=\"F\",VLOOKUP(F94,$AB$12:$AC$25,2),IF(G94=\"M\",VLOOKUP(F94,$AB$26:$AC$39,2),-1))","v":25},{"$f":"IF(ISERROR(VLOOKUP(H94,$W$12:$Y$17,3,FALSE)),-1,VLOOKUP(H94,$W$12:$Y$17,3,FALSE))","v":1},1,"Greg Cavers","40-44","M","CRA",24.31,24.98,{"$f":"MIN(I94,J94)","v":24.31},1,5,{"$f":"IF(L94>0,HLOOKUP(M94,ScTbl!B$3:Y$27,L94+1,FALSE),0)","v":23},0,0,23,0,0,0]
[83,{"$f":"IF(G95=\"F\",VLOOKUP(F95,$AB$12:$AC$25,2),IF(G95=\"M\",VLOOKUP(F95,$AB$26:$AC$39,2),-1))","v":25},{"$f":"IF(ISERROR(VLOOKUP(H95,$W$12:$Y$17,3,FALSE)),-1,VLOOKUP(H95,$W$12:$Y$17,3,FALSE))","v":2},1,"Darren Gottlieb","40-44","M","ALP",25.87,999,{"$f":"MIN(I95,J95)","v":25.87},2,5,{"$f":"IF(L95>0,HLOOKUP(M95,ScTbl!B$3:Y$27,L95+1,FALSE),0)","v":22},22,0,0,0,0,0]
[84,{"$f":"IF(G96=\"F\",VLOOKUP(F96,$AB$12:$AC$25,2),IF(G96=\"M\",VLOOKUP(F96,$AB$26:$AC$39,2),-1))","v":25},{"$f":"IF(ISERROR(VLOOKUP(H96,$W$12:$Y$17,3,FALSE)),-1,VLOOKUP(H96,$W$12:$Y$17,3,FALSE))","v":4},1,"Rob Furse","40-44","M","GP",26.21,26.73,{"$f":"MIN(I96,J96)","v":26.21},3,5,{"$f":"IF(L96>0,HLOOKUP(M96,ScTbl!B$3:Y$27,L96+1,FALSE),0)","v":21},0,{"$f":"IF($H96=P$6,IF($K96=888,0.01,IF($K96=999,0.01,$N96)),0)","v":0},{"$f":"IF($H96=Q$6,IF($K96=888,0.01,IF($K96=999,0.01,$N96)),0)","v":0},21,0,0]
[87,{"$f":"IF(G97=\"F\",VLOOKUP(F97,$AB$12:$AC$25,2),IF(G97=\"M\",VLOOKUP(F97,$AB$26:$AC$39,2),-1))","v":25},{"$f":"IF(ISERROR(VLOOKUP(H97,$W$12:$Y$17,3,FALSE)),-1,VLOOKUP(H97,$W$12:$Y$17,3,FALSE))","v":5},2,"Scott Plaskett","40-44","M","CAL",29.8,29.85,{"$f":"MIN(I97,J97)","v":29.8},4,5,{"$f":"IF(L97>0,HLOOKUP(M97,ScTbl!B$3:Y$27,L97+1,FALSE),0)","v":20},0,20,0,0,0,0]
[85,{"$f":"IF(G98=\"F\",VLOOKUP(F98,$AB$12:$AC$25,2),IF(G98=\"M\",VLOOKUP(F98,$AB$26:$AC$39,2),-1))","v":25},{"$f":"IF(ISERROR(VLOOKUP(H98,$W$12:$Y$17,3,FALSE)),-1,VLOOKUP(H98,$W$12:$Y$17,3,FALSE))","v":5},1,"Francesco Fontana","40-44","M","CAL",33.799999999999997,36.94,{"$f":"MIN(I98,J98)","v":33.799999999999997},5,5,{"$f":"IF(L98>0,HLOOKUP(M98,ScTbl!B$3:Y$27,L98+1,FALSE),0)","v":19},0,19,0,0,0,0]
[88,{"$f":"IF(G99=\"F\",VLOOKUP(F99,$AB$12:$AC$25,2),IF(G99=\"M\",VLOOKUP(F99,$AB$26:$AC$39,2),-1))","v":26},{"$f":"IF(ISERROR(VLOOKUP(H99,$W$12:$Y$17,3,FALSE)),-1,VLOOKUP(H99,$W$12:$Y$17,3,FALSE))","v":1},1,"Scott McLorie","35-39","M","CRA","DNS","DNS",{"$f":"MIN(I99,J99)","v":0},0,1,{"$f":"IF(L99>0,HLOOKUP(M99,ScTbl!B$3:Y$27,L99+1,FALSE),0)","v":0},0,0,0,0,0,0]
[89,{"$f":"IF(G100=\"F\",VLOOKUP(F100,$AB$12:$AC$25,2),IF(G100=\"M\",VLOOKUP(F100,$AB$26:$AC$39,2),-1))","v":26},{"$f":"IF(ISERROR(VLOOKUP(H100,$W$12:$Y$17,3,FALSE)),-1,VLOOKUP(H100,$W$12:$Y$17,3,FALSE))","v":2},1,"Derek Crawford","35-39","M","ALP",27.94,28.32,{"$f":"MIN(I100,J100)","v":27.94},1,1,{"$f":"IF(L100>0,HLOOKUP(M100,ScTbl!B$3:Y$27,L100+1,FALSE),0)","v":21},21,0,0,0,0,0]
[93,{"$f":"IF(G101=\"F\",VLOOKUP(F101,$AB$12:$AC$25,2),IF(G101=\"M\",VLOOKUP(F101,$AB$26:$AC$39,2),-1))","v":27},{"$f":"IF(ISERROR(VLOOKUP(H101,$W$12:$Y$17,3,FALSE)),-1,VLOOKUP(H101,$W$12:$Y$17,3,FALSE))","v":1},2,"Justin Kowal","30-34","M","CRA","DNS","DNS",{"$f":"MIN(I101,J101)","v":0},0,3,{"$f":"IF(L101>0,HLOOKUP(M101,ScTbl!B$3:Y$27,L101+1,FALSE),0)","v":0},0,{"$f":"IF($H101=P$6,IF($K101=888,0.01,IF($K101=999,0.01,$N101)),0)","v":0},{"$f":"IF($H101=Q$6,IF($K101=888,0.01,IF($K101=999,0.01,$N101)),0)","v":0},0,0,0]
[90,{"$f":"IF(G102=\"F\",VLOOKUP(F102,$AB$12:$AC$25,2),IF(G102=\"M\",VLOOKUP(F102,$AB$26:$AC$39,2),-1))","v":27},{"$f":"IF(ISERROR(VLOOKUP(H102,$W$12:$Y$17,3,FALSE)),-1,VLOOKUP(H102,$W$12:$Y$17,3,FALSE))","v":1},1,"Taylor Simms-Brown","30-34","M","CRA",23.94,23.91,{"$f":"MIN(I102,J102)","v":23.91},1,3,{"$f":"IF(L102>0,HLOOKUP(M102,ScTbl!B$3:Y$27,L102+1,FALSE),0)","v":22},0,0,22,0,0,0]
[92,{"$f":"IF(G103=\"F\",VLOOKUP(F103,$AB$12:$AC$25,2),IF(G103=\"M\",VLOOKUP(F103,$AB$26:$AC$39,2),-1))","v":27},{"$f":"IF(ISERROR(VLOOKUP(H103,$W$12:$Y$17,3,FALSE)),-1,VLOOKUP(H103,$W$12:$Y$17,3,FALSE))","v":5},1,"Tom Murdison","30-34","M","CAL",27.2,27.8,{"$f":"MIN(I103,J103)","v":27.2},2,3,{"$f":"IF(L103>0,HLOOKUP(M103,ScTbl!B$3:Y$27,L103+1,FALSE),0)","v":21},0,21,0,0,0,0]
[91,{"$f":"IF(G104=\"F\",VLOOKUP(F104,$AB$12:$AC$25,2),IF(G104=\"M\",VLOOKUP(F104,$AB$26:$AC$39,2),-1))","v":27},{"$f":"IF(ISERROR(VLOOKUP(H104,$W$12:$Y$17,3,FALSE)),-1,VLOOKUP(H104,$W$12:$Y$17,3,FALSE))","v":2},1,"Mark McTaggart","30-34","M","ALP",28.97,29.35,{"$f":"MIN(I104,J104)","v":28.97},3,3,{"$f":"IF(L104>0,HLOOKUP(M104,ScTbl!B$3:Y$27,L104+1,FALSE),0)","v":20},20,0,0,0,0,0]
[95,{"$f":"IF(G105=\"F\",VLOOKUP(F105,$AB$12:$AC$25,2),IF(G105=\"M\",VLOOKUP(F105,$AB$26:$AC$39,2),-1))","v":28},{"$f":"IF(ISERROR(VLOOKUP(H105,$W$12:$Y$17,3,FALSE)),-1,VLOOKUP(H105,$W$12:$Y$17,3,FALSE))","v":2},1,"Mike Parr","18-29","M","ALP","DNS","DNS",{"$f":"MIN(I105,J105)","v":0},0,5,{"$f":"IF(L105>0,HLOOKUP(M105,ScTbl!B$3:Y$27,L105+1,FALSE),0)","v":0},0,0,0,0,0,0]
[99,{"$f":"IF(G106=\"F\",VLOOKUP(F106,$AB$12:$AC$25,2),IF(G106=\"M\",VLOOKUP(F106,$AB$26:$AC$39,2),-1))","v":28},{"$f":"IF(ISERROR(VLOOKUP(H106,$W$12:$Y$17,3,FALSE)),-1,VLOOKUP(H106,$W$12:$Y$17,3,FALSE))","v":4},2,"Jorden Sherer","18-29","M","GP","DNS","DNS",{"$f":"MIN(I106,J106)","v":0},0,5,{"$f":"IF(L106>0,HLOOKUP(M106,ScTbl!B$3:Y$27,L106+1,FALSE),0)","v":0},0,0,0,0,0,0]
[100,{"$f":"IF(G107=\"F\",VLOOKUP(F107,$AB$12:$AC$25,2),IF(G107=\"M\",VLOOKUP(F107,$AB$26:$AC$39,2),-1))","v":28},{"$f":"IF(ISERROR(VLOOKUP(H107,$W$12:$Y$17,3,FALSE)),-1,VLOOKUP(H107,$W$12:$Y$17,3,FALSE))","v":4},2,"Jeremy Owen","18-29","M","GP","DNS","DNS",{"$f":"MIN(I107,J107)","v":0},0,5,{"$f":"IF(L107>0,HLOOKUP(M107,ScTbl!B$3:Y$27,L107+1,FALSE),0)","v":0},0,0,0,0,0,0]
[94,{"$f":"IF(G108=\"F\",VLOOKUP(F108,$AB$12:$AC$25,2),IF(G108=\"M\",VLOOKUP(F108,$AB$26:$AC$39,2),-1))","v":28},{"$f":"IF(ISERROR(VLOOKUP(H108,$W$12:$Y$17,3,FALSE)),-1,VLOOKUP(H108,$W$12:$Y$17,3,FALSE))","v":1},1,"Paul Atkinson","18-29","M","CRA",22.32,888,{"$f":"MIN(I108,J108)","v":22.32},{"$f":"IF(B108=B107,IF(K108<>0,L107+1,0),IF(K108<>0,1,0))","v":1},5,{"$f":"IF(L108>0,HLOOKUP(M108,ScTbl!B$3:Y$27,L108+1,FALSE),0)","v":23},0,0,23,0,0,0]
[97,{"$f":"IF(G109=\"F\",VLOOKUP(F109,$AB$12:$AC$25,2),IF(G109=\"M\",VLOOKUP(F109,$AB$26:$AC$39,2),-1))","v":28},{"$f":"IF(ISERROR(VLOOKUP(H109,$W$12:$Y$17,3,FALSE)),-1,VLOOKUP(H109,$W$12:$Y$17,3,FALSE))","v":5},1,"Erik Donaldson","18-29","M","CAL",23.01,24.22,{"$f":"MIN(I109,J109)","v":23.01},2,5,{"$f":"IF(L109>0,HLOOKUP(M109,ScTbl!B$3:Y$27,L109+1,FALSE),0)","v":22},0,22,0,0,0,0]
[98,{"$f":"IF(G110=\"F\",VLOOKUP(F110,$AB$12:$AC$25,2),IF(G110=\"M\",VLOOKUP(F110,$AB$26:$AC$39,2),-1))","v":28},{"$f":"IF(ISERROR(VLOOKUP(H110,$W$12:$Y$17,3,FALSE)),-1,VLOOKUP(H110,$W$12:$Y$17,3,FALSE))","v":1},2,"Jesse Sheppard","18-29","M","CRA",23.17,888,{"$f":"MIN(I110,J110)","v":23.17},3,5,{"$f":"IF(L110>0,HLOOKUP(M110,ScTbl!B$3:Y$27,L110+1,FALSE),0)","v":21},0,0,21,0,0,0]
[96,{"$f":"IF(G111=\"F\",VLOOKUP(F111,$AB$12:$AC$25,2),IF(G111=\"M\",VLOOKUP(F111,$AB$26:$AC$39,2),-1))","v":28},{"$f":"IF(ISERROR(VLOOKUP(H111,$W$12:$Y$17,3,FALSE)),-1,VLOOKUP(H111,$W$12:$Y$17,3,FALSE))","v":4},1,"Marcus Willson","18-29","M","GP",24.73,24.61,{"$f":"MIN(I111,J111)","v":24.61},4,5,{"$f":"IF(L111>0,HLOOKUP(M111,ScTbl!B$3:Y$27,L111+1,FALSE),0)","v":20},0,0,0,20,0,0]
[101,{"$f":"IF(G112=\"F\",VLOOKUP(F112,$AB$12:$AC$25,2),IF(G112=\"M\",VLOOKUP(F112,$AB$26:$AC$39,2),-1))","v":28},{"$f":"IF(ISERROR(VLOOKUP(H112,$W$12:$Y$17,3,FALSE)),-1,VLOOKUP(H112,$W$12:$Y$17,3,FALSE))","v":5},2,"Matt Sirek","18-29","M","CAL",28.56,26.61,{"$f":"MIN(I112,J112)","v":26.61},5,5,{"$f":"IF(L112>0,HLOOKUP(M112,ScTbl!B$3:Y$27,L112+1,FALSE),0)","v":19},0,19,0,0,0,0]
[102,{"$f":"IF(G113=\"F\",VLOOKUP(F113,$AB$12:$AC$25,2),IF(G113=\"M\",VLOOKUP(F113,$AB$26:$AC$39,2),-1))","v":-1},{"$f":"IF(ISERROR(VLOOKUP(H113,$W$12:$Y$17,3,FALSE)),-1,VLOOKUP(H113,$W$12:$Y$17,3,FALSE))","v":-1},null,null,null,null,null,null,null,{"$f":"MIN(I113,J113)","v":0},0,{"$error":"#N/A"},{"$f":"IF(L113>0,HLOOKUP(M113,ScTbl!B$3:Y$27,L113+1,FALSE),0)","v":0},0,0,0,0,0,0]
[103,-1,-1,null,null,null,null,null,null,null,0,0,{"$error":"#N/A"},{"$f":"IF(L114>0,HLOOKUP(M114,ScTbl!B$3:Y$27,L114+1,FALSE),0)","v":0},0,0,0,0,0,0]
[104,-1,-1,null,null,null,null,null,null,null,0,0,{"$error":"#N/A"},{"$f":"IF(L115>0,HLOOKUP(M115,ScTbl!B$3:Y$27,L115+1,FALSE),0)","v":0},0,0,0,{"$f":"IF($H115=R$6,IF($K115=888,0.01,IF($K115=999,0.01,$N115)),0)","v":0},0,0]
[105,-1,-1,null,null,null,null,null,null,null,0,0,{"$error":"#N/A"},{"$f":"IF(L116>0,HLOOKUP(M116,ScTbl!B$3:Y$27,L116+1,FALSE),0)","v":0},{"$f":"IF($H116=O$6,IF($K116=888,0.01,IF($K116=999,0.01,$N116)),0)","v":0},{"$f":"IF($H116=P$6,IF($K116=888,0.01,IF($K116=999,0.01,$N116)),0)","v":0},{"$f":"IF($H116=Q$6,IF($K116=888,0.01,IF($K116=999,0.01,$N116)),0)","v":0},0,0,0]
[106,-1,-1,null,null,null,null,null,null,null,{"$f":"MIN(I117,J117)","v":0},0,{"$error":"#N/A"},{"$f":"IF(L117>0,HLOOKUP(M117,ScTbl!B$3:Y$27,L117+1,FALSE),0)","v":0},0,0,0,0,0,0]
[107,-1,-1,null,null,null,null,null,null,null,0,0,{"$error":"#N/A"},{"$f":"IF(L118>0,HLOOKUP(M118,ScTbl!B$3:Y$27,L118+1,FALSE),0)","v":0},0,0,0,0,0,0]
[108,-1,-1,null,null,null,null,null,null,null,0,0,{"$error":"#N/A"},{"$f":"IF(L119>0,HLOOKUP(M119,ScTbl!B$3:Y$27,L119+1,FALSE),0)","v":0},0,0,0,0,0,0]
[109,-1,-1,null,null,null,null,null,null,null,0,0,{"$error":"#N/A"},{"$f":"IF(L120>0,HLOOKUP(M120,ScTbl!B$3:Y$27,L120+1,FALSE),0)","v":0},0,0,0,0,0,0]
[110,-1,-1,null,null,null,null,null,null,null,0,0,{"$error":"#N/A"},{"$f":"IF(L121>0,HLOOKUP(M121,ScTbl!B$3:Y$27,L121+1,FALSE),0)","v":0},0,{"$f":"IF($H121=P$6,IF($K121=888,0.01,IF($K121=999,0.01,$N121)),0)","v":0},{"$f":"IF($H121=Q$6,IF($K121=888,0.01,IF($K121=999,0.01,$N121)),0)","v":0},0,0,0]
[111,-1,-1,null,null,null,null,null,null,null,0,0,{"$error":"#N/A"},{"$f":"IF(L122>0,HLOOKUP(M122,ScTbl!B$3:Y$27,L122+1,FALSE),0)","v":0},0,0,0,0,0,0]
[112,-1,-1,null,null,null,null,null,null,null,0,0,{"$error":"#N/A"},{"$f":"IF(L123>0,HLOOKUP(M123,ScTbl!B$3:Y$27,L123+1,FALSE),0)","v":0},0,0,0,0,0,0]
[113,-1,-1,null,null,null,null,null,null,null,0,0,{"$error":"#N/A"},{"$f":"IF(L124>0,HLOOKUP(M124,ScTbl!B$3:Y$27,L124+1,FALSE),0)","v":0},0,0,0,0,0,0]
[114,-1,-1,null,null,null,null,null,null,null,0,0,{"$error":"#N/A"},{"$f":"IF(L125>0,HLOOKUP(M125,ScTbl!B$3:Y$27,L125+1,FALSE),0)","v":0},0,0,0,0,0,0]
[115,-1,-1,null,null,null,null,null,null,null,0,0,{"$error":"#N/A"},{"$f":"IF(L126>0,HLOOKUP(M126,ScTbl!B$3:Y$27,L126+1,FALSE),0)","v":0},0,{"$f":"IF($H126=P$6,IF($K126=888,0.01,IF($K126=999,0.01,$N126)),0)","v":0},{"$f":"IF($H126=Q$6,IF($K126=888,0.01,IF($K126=999,0.01,$N126)),0)","v":0},0,0,0]
[116,-1,-1,null,null,null,null,null,null,null,0,0,{"$error":"#N/A"},{"$f":"IF(L127>0,HLOOKUP(M127,ScTbl!B$3:Y$27,L127+1,FALSE),0)","v":0},0,0,0,0,0,0]
[117,-1,-1,null,null,null,null,null,null,null,0,0,{"$error":"#N/A"},{"$f":"IF(L128>0,HLOOKUP(M128,ScTbl!B$3:Y$27,L128+1,FALSE),0)","v":0},0,0,0,0,0,0]
[118,-1,-1,null,null,null,null,null,null,null,0,0,{"$error":"#N/A"},{"$f":"IF(L129>0,HLOOKUP(M129,ScTbl!B$3:Y$27,L129+1,FALSE),0)","v":0},0,0,0,0,0,0]
[119,-1,-1,null,null,null,null,null,null,null,0,0,{"$error":"#N/A"},{"$f":"IF(L130>0,HLOOKUP(M130,ScTbl!B$3:Y$27,L130+1,FALSE),0)","v":0},0,0,0,0,0,0]
[120,-1,-1,null,null,null,null,null,null,null,0,0,{"$error":"#N/A"},{"$f":"IF(L131>0,HLOOKUP(M131,ScTbl!B$3:Y$27,L131+1,FALSE),0)","v":0},0,{"$f":"IF($H131=P$6,IF($K131=888,0.01,IF($K131=999,0.01,$N131)),0)","v":0},{"$f":"IF($H131=Q$6,IF($K131=888,0.01,IF($K131=999,0.01,$N131)),0)","v":0},0,0,0]
[121,-1,-1,null,null,null,null,null,null,null,0,0,{"$error":"#N/A"},{"$f":"IF(L132>0,HLOOKUP(M132,ScTbl!B$3:Y$27,L132+1,FALSE),0)","v":0},0,0,0,0,0,0]
[122,-1,-1,null,null,null,null,null,null,null,0,0,{"$error":"#N/A"},{"$f":"IF(L133>0,HLOOKUP(M133,ScTbl!B$3:Y$27,L133+1,FALSE),0)","v":0},0,0,0,0,0,0]
[123,-1,-1,null,null,null,null,null,null,null,0,0,{"$error":"#N/A"},{"$f":"IF(L134>0,HLOOKUP(M134,ScTbl!B$3:Y$27,L134+1,FALSE),0)","v":0},0,0,0,0,0,0]
[124,-1,-1,null,null,null,null,null,null,null,0,0,{"$error":"#N/A"},{"$f":"IF(L135>0,HLOOKUP(M135,ScTbl!B$3:Y$27,L135+1,FALSE),0)","v":0},0,0,0,0,0,0]
[125,-1,-1,null,null,null,null,null,null,null,0,0,{"$error":"#N/A"},{"$f":"IF(L136>0,HLOOKUP(M136,ScTbl!B$3:Y$27,L136+1,FALSE),0)","v":0},0,{"$f":"IF($H136=P$6,IF($K136=888,0.01,IF($K136=999,0.01,$N136)),0)","v":0},{"$f":"IF($H136=Q$6,IF($K136=888,0.01,IF($K136=999,0.01,$N136)),0)","v":0},0,0,0]
[126,-1,-1,null,null,null,null,null,null,null,0,0,{"$error":"#N/A"},{"$f":"IF(L137>0,HLOOKUP(M137,ScTbl!B$3:Y$27,L137+1,FALSE),0)","v":0},0,0,0,0,0,0]
[127,-1,-1,null,null,null,null,null,null,null,0,0,{"$error":"#N/A"},{"$f":"IF(L138>0,HLOOKUP(M138,ScTbl!B$3:Y$27,L138+1,FALSE),0)","v":0},0,0,0,0,0,0]
[128,-1,-1,null,null,null,null,null,null,null,0,0,{"$error":"#N/A"},{"$f":"IF(L139>0,HLOOKUP(M139,ScTbl!B$3:Y$27,L139+1,FALSE),0)","v":0},0,0,0,0,0,0]
[129,{"$f":"IF(G140=\"F\",VLOOKUP(F140,$AB$12:$AC$25,2),IF(G140=\"M\",VLOOKUP(F140,$AB$26:$AC$39,2),-1))","v":-1},{"$f":"IF(ISERROR(VLOOKUP(H140,$W$12:$Y$17,3,FALSE)),-1,VLOOKUP(H140,$W$12:$Y$17,3,FALSE))","v":-1},null,null,null,null,null,null,null,{"$f":"MIN(I140,J140)","v":0},{"$f":"IF(B140=B139,IF(K140<>0,L139+1,0),IF(K140<>0,1,0))","v":0},{"$error":"#N/A"},{"$f":"IF(L140>0,HLOOKUP(M140,ScTbl!B$3:Y$27,L140+1,FALSE),0)","v":0},0,0,0,0,0,0]
[130,-1,-1,null,null,null,null,null,null,null,0,0,{"$f":"VLOOKUP(B141,AC$12:AD$39,2,FALSE)","v":{"$error":"#N/A"}},{"$f":"IF(L141>0,HLOOKUP(M141,ScTbl!B$3:Y$27,L141+1,FALSE),0)","v":0},0,{"$f":"IF($H141=P$6,IF($K141=888,0.01,IF($K141=999,0.01,$N141)),0)","v":0},{"$f":"IF($H141=Q$6,IF($K141=888,0.01,IF($K141=999,0.01,$N141)),0)","v":0},0,0,0]
[131,-1,-1,null,null,null,null,null,null,null,0,0,{"$error":"#N/A"},{"$f":"IF(L142>0,HLOOKUP(M142,ScTbl!B$3:Y$27,L142+1,FALSE),0)","v":0},0,0,0,0,0,0]
[132,-1,-1,null,null,null,null,null,null,null,0,0,{"$error":"#N/A"},{"$f":"IF(L143>0,HLOOKUP(M143,ScTbl!B$3:Y$27,L143+1,FALSE),0)","v":0},0,0,0,0,0,0]
[133,-1,-1,null,null,null,null,null,null,null,0,0,{"$error":"#N/A"},{"$f":"IF(L144>0,HLOOKUP(M144,ScTbl!B$3:Y$27,L144+1,FALSE),0)","v":0},0,0,0,0,0,0]
[134,-1,-1,null,null,null,null,null,null,null,0,0,{"$error":"#N/A"},{"$f":"IF(L145>0,HLOOKUP(M145,ScTbl!B$3:Y$27,L145+1,FALSE),0)","v":0},0,0,0,0,0,0]
[135,-1,-1,null,null,null,null,null,null,null,0,0,{"$error":"#N/A"},{"$f":"IF(L146>0,HLOOKUP(M146,ScTbl!B$3:Y$27,L146+1,FALSE),0)","v":0},0,{"$f":"IF($H146=P$6,IF($K146=888,0.01,IF($K146=999,0.01,$N146)),0)","v":0},{"$f":"IF($H146=Q$6,IF($K146=888,0.01,IF($K146=999,0.01,$N146)),0)","v":0},0,0,0]
[136,-1,-1,null,null,null,null,null,null,null,0,0,{"$error":"#N/A"},{"$f":"IF(L147>0,HLOOKUP(M147,ScTbl!B$3:Y$27,L147+1,FALSE),0)","v":0},0,0,0,0,0,0]
[137,-1,-1,null,null,null,null,null,null,null,0,0,{"$error":"#N/A"},{"$f":"IF(L148>0,HLOOKUP(M148,ScTbl!B$3:Y$27,L148+1,FALSE),0)","v":0},0,0,0,0,0,0]
[138,-1,-1,null,null,null,null,null,null,null,0,0,{"$error":"#N/A"},{"$f":"IF(L149>0,HLOOKUP(M149,ScTbl!B$3:Y$27,L149+1,FALSE),0)","v":0},0,0,0,0,0,0]
[139,-1,-1,null,null,null,null,null,null,null,0,0,{"$error":"#N/A"},{"$f":"IF(L150>0,HLOOKUP(M150,ScTbl!B$3:Y$27,L150+1,FALSE),0)","v":0},0,0,0,0,0,0]
[140,-1,-1,null,null,null,null,null,null,null,0,0,{"$error":"#N/A"},{"$f":"IF(L151>0,HLOOKUP(M151,ScTbl!B$3:Y$27,L151+1,FALSE),0)","v":0},0,0,0,0,0,0]
[141,-1,-1,null,null,null,null,null,null,null,0,0,{"$error":"#N/A"},{"$f":"IF(L152>0,HLOOKUP(M152,ScTbl!B$3:Y$27,L152+1,FALSE),0)","v":0},0,0,0,0,0,0]
[142,-1,-1,null,null,null,null,null,null,null,0,0,{"$error":"#N/A"},{"$f":"IF(L153>0,HLOOKUP(M153,ScTbl!B$3:Y$27,L153+1,FALSE),0)","v":0},0,0,0,0,0,0]
[143,-1,-1,null,null,null,null,null,null,null,0,0,{"$error":"#N/A"},{"$f":"IF(L154>0,HLOOKUP(M154,ScTbl!B$3:Y$27,L154+1,FALSE),0)","v":0},0,0,0,0,0,0]
[144,-1,-1,null,null,null,null,null,null,null,0,0,{"$error":"#N/A"},{"$f":"IF(L155>0,HLOOKUP(M155,ScTbl!B$3:Y$27,L155+1,FALSE),0)","v":0},0,0,0,0,0,0]
[145,-1,-1,null,null,null,null,null,null,null,0,0,{"$error":"#N/A"},{"$f":"IF(L156>0,HLOOKUP(M156,ScTbl!B$3:Y$27,L156+1,FALSE),0)","v":0},0,0,0,0,0,0]
[146,-1,-1,null,null,null,null,null,null,null,0,0,{"$error":"#N/A"},{"$f":"IF(L157>0,HLOOKUP(M157,ScTbl!B$3:Y$27,L157+1,FALSE),0)","v":0},0,0,0,0,0,0]
[147,-1,-1,null,null,null,null,null,null,null,0,0,{"$error":"#N/A"},{"$f":"IF(L158>0,HLOOKUP(M158,ScTbl!B$3:Y$27,L158+1,FALSE),0)","v":0},0,0,0,0,0,0]
[148,-1,-1,null,null,null,null,null,null,null,0,0,{"$error":"#N/A"},{"$f":"IF(L159>0,HLOOKUP(M159,ScTbl!B$3:Y$27,L159+1,FALSE),0)","v":0},0,0,0,0,0,0]
[149,-1,-1,null,null,null,null,null,null,null,0,0,{"$error":"#N/A"},{"$f":"IF(L160>0,HLOOKUP(M160,ScTbl!B$3:Y$27,L160+1,FALSE),0)","v":0},0,0,0,{"$f":"IF($H160=R$6,IF($K160=888,0.01,IF($K160=999,0.01,$N160)),0)","v":0},0,0]
[150,-1,-1,null,null,null,null,null,null,null,0,0,{"$error":"#N/A"},{"$f":"IF(L161>0,HLOOKUP(M161,ScTbl!B$3:Y$27,L161+1,FALSE),0)","v":0},{"$f":"IF($H161=O$6,IF($K161=888,0.01,IF($K161=999,0.01,$N161)),0)","v":0},{"$f":"IF($H161=P$6,IF($K161=888,0.01,IF($K161=999,0.01,$N161)),0)","v":0},{"$f":"IF($H161=Q$6,IF($K161=888,0.01,IF($K161=999,0.01,$N161)),0)","v":0},0,0,0]
[151,-1,-1,null,null,null,null,null,null,null,0,0,{"$error":"#N/A"},{"$f":"IF(L162>0,HLOOKUP(M162,ScTbl!B$3:Y$27,L162+1,FALSE),0)","v":0},0,0,0,0,0,0]
[152,-1,-1,null,null,null,null,null,null,null,0,0,{"$error":"#N/A"},{"$f":"IF(L163>0,HLOOKUP(M163,ScTbl!B$3:Y$27,L163+1,FALSE),0)","v":0},0,0,0,0,0,0]
[153,-1,-1,null,null,null,null,null,null,null,0,0,{"$error":"#N/A"},{"$f":"IF(L164>0,HLOOKUP(M164,ScTbl!B$3:Y$27,L164+1,FALSE),0)","v":0},0,0,0,0,0,0]
[154,-1,-1,null,null,null,null,null,null,null,0,0,{"$error":"#N/A"},{"$f":"IF(L165>0,HLOOKUP(M165,ScTbl!B$3:Y$27,L165+1,FALSE),0)","v":0},0,0,0,0,0,0]
[155,-1,-1,null,null,null,null,null,null,null,0,0,{"$error":"#N/A"},{"$f":"IF(L166>0,HLOOKUP(M166,ScTbl!B$3:Y$27,L166+1,FALSE),0)","v":0},0,{"$f":"IF($H166=P$6,IF($K166=888,0.01,IF($K166=999,0.01,$N166)),0)","v":0},{"$f":"IF($H166=Q$6,IF($K166=888,0.01,IF($K166=999,0.01,$N166)),0)","v":0},0,0,0]
[156,-1,-1,null,null,null,null,null,null,null,0,0,{"$error":"#N/A"},{"$f":"IF(L167>0,HLOOKUP(M167,ScTbl!B$3:Y$27,L167+1,FALSE),0)","v":0},0,0,0,0,0,0]
[]
[null,null,null,null,null,null,null,"Gross Total Points",null,null,null,null,null,null,{"$f":"SUM(O11:O168)","v":272},435,368,333,227,0]
[]
[null,null,null,null,null,null,null,"Number of Starters",null,null,null,null,null,null,{"$f":"COUNTIF(O11:O168,\">0\")","v":13},21,17,15,11,0]
[null,null,null,null,null,null,null,"Number of Female Scoring Finishers - min 5 in a full team",null,null,null,null,null,null,null,null,null,null,null,0]
[null,null,null,null,null,null,null,null,null,null,null,null,null,null,2,5,2,4,3,0]
[null,null,null,null,null,null,null,"Drop 1",null,null,null,null,null,null,null,16,17,0,0,0]
[null,null,null,null,null,null,null,"Drop 2",null,null,null,null,null,null,0,15,0,0,0,0]
["Notes:",null,null,null,null,null,null,"Drop 3","Max 14 males / max 18 overall  ",null,null,null,null,null,0,18,0,0,0,0]
[null,null,null,null,null,null,null,"Drop 4","(extra males/racers s/b dropped here)",null,null,null,null,null,0,0,0,0,0,0]
[null,null,null,null,null,null,null,"Drop 5",null,null,null,null,null,null,0,0,0,0,0,0]
[null,null,null,null,null,null,null,"Drop 6",null,null,null,null,null,null,0,0,0,0,0,0]
[null,null,null,null,null,null,null,"Late submission drop (manual entry only)",null,null,null,null,null,null,0,0,0,0,0,0]
[]
[null,null,null,null,null,null,null,"Final Points",null,null,null,null,null,null,{"$f":"O169-SUM(O174:O180)","v":272},386,351,333,227,0]
[null,null,null,null,null,null,null,null," "]
[null,null,null,null,null,null,null,"Team Placing (manually entered)",null,null,null,null,null,null,4,1,2,3,5]
[]
[null,null,null,null,null,null,null,null,null,null,null,null,null,null,null,59,46,null,0,0]
[null,null,null,null,null,null,null,null,null,null,null,null,null,null,0,62,0,0,0,0]
[null,null,null,null,null,null,null,null,null,null,null,null,"Bib numbers of dropped racers",null,0,81,0,0,0,0]
[null,null,null,null,null,null,null,null,null,null,null,null,null,null,0,0,0,0,0,0]
[null,null,null,null,null,null,null,null,null,null,null,null,null,null,0,0,0,0,0,0]
[null,null,null,null,null,null,null,null,null,null,null,null,null,null,0,0,0,0,0,0]
[null,null,null,null,null,null,null,null,null,null,null,null,null,null,0,0,0,0,0,0]

{"sheet":"Bib Lists","index":2,"n_rows":162,"n_cols":8,"rows_kept":162,"cut":false,"hidden":false,"merged":[[1,0,1,7]]}
[]
[{"$f":"'Start List Team Scoring'!A2:K2","v":"AOS Druxy's Master Race League - HOST TEAM, DATE OF RACE"}]
["Start Lists - Sorted per Team"]
[]
[]
["BIB#","CSO","TSO","ISO","NAME","AGE","M/F","TEAM"]
[{"$f":"'Start List Team Scoring'!A12","v":1},{"$f":"'Start List Team Scoring'!B12","v":9},{"$f":"'Start List Team Scoring'!C12","v":3},{"$f":"'Start List Team Scoring'!D12","v":1},{"$f":"'Start List Team Scoring'!E12","v":"Margaret-Anne Gold *"},{"$f":"'Start List Team Scoring'!F12","v":"65-69"},{"$f":"'Start List Team Scoring'!G12","v":"F"},{"$f":"'Start List Team Scoring'!H12","v":"TDG"}]
[{"$f":"'Start List Team Scoring'!A13","v":2},{"$f":"'Start List Team Scoring'!B13","v":9},{"$f":"'Start List Team Scoring'!C13","v":3},{"$f":"'Start List Team Scoring'!D13","v":2},{"$f":"'Start List Team Scoring'!E13","v":"Patricia Bain"},{"$f":"'Start List Team Scoring'!F13","v":"65-69"},{"$f":"'Start List Team Scoring'!G13","v":"F"},{"$f":"'Start List Team Scoring'!H13","v":"TDG"}]
[{"$f":"'Start List Team Scoring'!A14","v":3},{"$f":"'Start List Team Scoring'!B14","v":10},{"$f":"'Start List Team Scoring'!C14","v":4},{"$f":"'Start List Team Scoring'!D14","v":1},{"$f":"'Start List Team Scoring'!E14","v":"Jane Willson"},{"$f":"'Start List Team Scoring'!F14","v":"60-64"},{"$f":"'Start List Team Scoring'!G14","v":"F"},{"$f":"'Start List Team Scoring'!H14","v":"GP"}]
[{"$f":"'Start List Team Scoring'!A15","v":4},{"$f":"'Start List Team Scoring'!B15","v":10},{"$f":"'Start List Team Scoring'!C15","v":5},{"$f":"'Start List Team Scoring'!D15","v":1},{"$f":"'Start List Team Scoring'!E15","v":"Sharon Regan"},{"$f":"'Start List Team Scoring'!F15","v":"60-64"},{"$f":"'Start List Team Scoring'!G15","v":"F"},{"$f":"'Start List Team Scoring'!H15","v":"CAL"}]
[{"$f":"'Start List Team Scoring'!A16","v":5},{"$f":"'Start List Team Scoring'!B16","v":11},{"$f":"'Start List Team Scoring'!C16","v":2},{"$f":"'Start List Team Scoring'!D16","v":1},{"$f":"'Start List Team Scoring'!E16","v":"Ken Lackner"},{"$f":"'Start List Team Scoring'!F16","v":"75-79"},{"$f":"'Start List Team Scoring'!G16","v":"M"},{"$f":"'Start List Team Scoring'!H16","v":"ALP"}]
[{"$f":"'Start List Team Scoring'!A17","v":8},{"$f":"'Start List Team Scoring'!B17","v":11},{"$f":"'Start List Team Scoring'!C17","v":4},{"$f":"'Start List Team Scoring'!D17","v":3},{"$f":"'Start List Team Scoring'!E17","v":"Geoff Lowe"},{"$f":"'Start List Team Scoring'!F17","v":"75-79"},{"$f":"'Start List Team Scoring'!G17","v":"M"},{"$f":"'Start List Team Scoring'!H17","v":"GP"}]
[{"$f":"'Start List Team Scoring'!A18","v":6},{"$f":"'Start List Team Scoring'!B18","v":11},{"$f":"'Start List Team Scoring'!C18","v":4},{"$f":"'Start List Team Scoring'!D18","v":1},{"$f":"'Start List Team Scoring'!E18","v":"Gene Kinoshita"},{"$f":"'Start List Team Scoring'!F18","v":"75-79"},{"$f":"'Start List Team Scoring'!G18","v":"M"},{"$f":"'Start List Team Scoring'!H18","v":"GP"}]
[{"$f":"'Start List Team Scoring'!A19","v":7},{"$f":"'Start List Team Scoring'!B19","v":11},{"$f":"'Start List Team Scoring'!C19","v":4},{"$f":"'Start List Team Scoring'!D19","v":2},{"$f":"'Start List Team Scoring'!E19","v":"John Hethrington"},{"$f":"'Start List Team Scoring'!F19","v":"75-79"},{"$f":"'Start List Team Scoring'!G19","v":"M"},{"$f":"'Start List Team Scoring'!H19","v":"GP"}]
[{"$f":"'Start List Team Scoring'!A20","v":13},{"$f":"'Start List Team Scoring'!B20","v":12},{"$f":"'Start List Team Scoring'!C20","v":4},{"$f":"'Start List Team Scoring'!D20","v":2},{"$f":"'Start List Team Scoring'!E20","v":"Gerry Young"},{"$f":"'Start List Team Scoring'!F20","v":"70-74"},{"$f":"'Start List Team Scoring'!G20","v":"M"},{"$f":"'Start List Team Scoring'!H20","v":"GP"}]
[{"$f":"'Start List Team Scoring'!A21","v":11},{"$f":"'Start List Team Scoring'!B21","v":12},{"$f":"'Start List Team Scoring'!C21","v":4},{"$f":"'Start List Team Scoring'!D21","v":1},{"$f":"'Start List Team Scoring'!E21","v":"Heinz Grossmann "},{"$f":"'Start List Team Scoring'!F21","v":"70-74"},{"$f":"'Start List Team Scoring'!G21","v":"M"},{"$f":"'Start List Team Scoring'!H21","v":"GP"}]
[{"$f":"'Start List Team Scoring'!A22","v":12},{"$f":"'Start List Team Scoring'!B22","v":12},{"$f":"'Start List Team Scoring'!C22","v":5},{"$f":"'Start List Team Scoring'!D22","v":1},{"$f":"'Start List Team Scoring'!E22","v":"Peter Pusitz"},{"$f":"'Start List Team Scoring'!F22","v":"70-74"},{"$f":"'Start List Team Scoring'!G22","v":"M"},{"$f":"'Start List Team Scoring'!H22","v":"CAL"}]
[{"$f":"'Start List Team Scoring'!A23","v":9},{"$f":"'Start List Team Scoring'!B23","v":12},{"$f":"'Start List Team Scoring'!C23","v":2},{"$f":"'Start List Team Scoring'!D23","v":1},{"$f":"'Start List Team Scoring'!E23","v":"Rudy Berrang"},{"$f":"'Start List Team Scoring'!F23","v":"70-74"},{"$f":"'Start List Team Scoring'!G23","v":"M"},{"$f":"'Start List Team Scoring'!H23","v":"ALP"}]
[{"$f":"'Start List Team Scoring'!A24","v":10},{"$f":"'Start List Team Scoring'!B24","v":12},{"$f":"'Start List Team Scoring'!C24","v":3},{"$f":"'Start List Team Scoring'!D24","v":1},{"$f":"'Start List Team Scoring'!E24","v":"Thomas Bain"},{"$f":"'Start List Team Scoring'!F24","v":"70-74"},{"$f":"'Start List Team Scoring'!G24","v":"M"},{"$f":"'Start List Team Scoring'!H24","v":"TDG"}]
[{"$f":"'Start List Team Scoring'!A25","v":16},{"$f":"'Start List Team Scoring'!B25","v":13},{"$f":"'Start List Team Scoring'!C25","v":5},{"$f":"'Start List Team Scoring'!D25","v":1},{"$f":"'Start List Team Scoring'!E25","v":"Brenda Tweel"},{"$f":"'Start List Team Scoring'!F25","v":"55-59"},{"$f":"'Start List Team Scoring'!G25","v":"F"},{"$f":"'Start List Team Scoring'!H25","v":"CAL"}]
[{"$f":"'Start List Team Scoring'!A26","v":17},{"$f":"'Start List Team Scoring'!B26","v":13},{"$f":"'Start List Team Scoring'!C26","v":3},{"$f":"'Start List Team Scoring'!D26","v":2},{"$f":"'Start List Team Scoring'!E26","v":"Mary Ferguson"},{"$f":"'Start List Team Scoring'!F26","v":"55-59"},{"$f":"'Start List Team Scoring'!G26","v":"F"},{"$f":"'Start List Team Scoring'!H26","v":"TDG"}]
[{"$f":"'Start List Team Scoring'!A27","v":15},{"$f":"'Start List Team Scoring'!B27","v":13},{"$f":"'Start List Team Scoring'!C27","v":4},{"$f":"'Start List Team Scoring'!D27","v":1},{"$f":"'Start List Team Scoring'!E27","v":"Heather Morris Lawler"},{"$f":"'Start List Team Scoring'!F27","v":"55-59"},{"$f":"'Start List Team Scoring'!G27","v":"F"},{"$f":"'Start List Team Scoring'!H27","v":"GP"}]
[{"$f":"'Start List Team Scoring'!A28","v":14},{"$f":"'Start List Team Scoring'!B28","v":13},{"$f":"'Start List Team Scoring'!C28","v":3},{"$f":"'Start List Team Scoring'!D28","v":1},{"$f":"'Start List Team Scoring'!E28","v":"Lee Anne Underwood"},{"$f":"'Start List Team Scoring'!F28","v":"55-59"},{"$f":"'Start List Team Scoring'!G28","v":"F"},{"$f":"'Start List Team Scoring'!H28","v":"TDG"}]
[{"$f":"'Start List Team Scoring'!A29","v":20},{"$f":"'Start List Team Scoring'!B29","v":14},{"$f":"'Start List Team Scoring'!C29","v":3},{"$f":"'Start List Team Scoring'!D29","v":1},{"$f":"'Start List Team Scoring'!E29","v":"Patricia Butler"},{"$f":"'Start List Team Scoring'!F29","v":"50-54"},{"$f":"'Start List Team Scoring'!G29","v":"F"},{"$f":"'Start List Team Scoring'!H29","v":"TDG"}]
[{"$f":"'Start List Team Scoring'!A30","v":23},{"$f":"'Start List Team Scoring'!B30","v":14},{"$f":"'Start List Team Scoring'!C30","v":1},{"$f":"'Start List Team Scoring'!D30","v":2},{"$f":"'Start List Team Scoring'!E30","v":"Tiana Boyman"},{"$f":"'Start List Team Scoring'!F30","v":"50-54"},{"$f":"'Start List Team Scoring'!G30","v":"F"},{"$f":"'Start List Team Scoring'!H30","v":"CRA"}]
[{"$f":"'Start List Team Scoring'!A31","v":21},{"$f":"'Start List Team Scoring'!B31","v":14},{"$f":"'Start List Team Scoring'!C31","v":4},{"$f":"'Start List Team Scoring'!D31","v":1},{"$f":"'Start List Team Scoring'!E31","v":"Tracey Granger"},{"$f":"'Start List Team Scoring'!F31","v":"50-54"},{"$f":"'Start List Team Scoring'!G31","v":"F"},{"$f":"'Start List Team Scoring'!H31","v":"GP"}]
[{"$f":"'Start List Team Scoring'!A32","v":18},{"$f":"'Start List Team Scoring'!B32","v":14},{"$f":"'Start List Team Scoring'!C32","v":1},{"$f":"'Start List Team Scoring'!D32","v":1},{"$f":"'Start List Team Scoring'!E32","v":"Daina Dunlop"},{"$f":"'Start List Team Scoring'!F32","v":"50-54"},{"$f":"'Start List Team Scoring'!G32","v":"F"},{"$f":"'Start List Team Scoring'!H32","v":"CRA"}]
[{"$f":"'Start List Team Scoring'!A33","v":19},{"$f":"'Start List Team Scoring'!B33","v":14},{"$f":"'Start List Team Scoring'!C33","v":2},{"$f":"'Start List Team Scoring'!D33","v":1},{"$f":"'Start List Team Scoring'!E33","v":"Sydney Graham"},{"$f":"'Start List Team Scoring'!F33","v":"50-54"},{"$f":"'Start List Team Scoring'!G33","v":"F"},{"$f":"'Start List Team Scoring'!H33","v":"ALP"}]
[{"$f":"'Start List Team Scoring'!A34","v":22},{"$f":"'Start List Team Scoring'!B34","v":14},{"$f":"'Start List Team Scoring'!C34","v":5},{"$f":"'Start List Team Scoring'!D34","v":1},{"$f":"'Start List Team Scoring'!E34","v":"Judy Donaldson"},{"$f":"'Start List Team Scoring'!F34","v":"50-54"},{"$f":"'Start List Team Scoring'!G34","v":"F"},{"$f":"'Start List Team Scoring'!H34","v":"CAL"}]
[{"$f":"'Start List Team Scoring'!A35","v":24},{"$f":"'Start List Team Scoring'!B35","v":15},{"$f":"'Start List Team Scoring'!C35","v":3},{"$f":"'Start List Team Scoring'!D35","v":1},{"$f":"'Start List Team Scoring'!E35","v":"Doug Goodall"},{"$f":"'Start List Team Scoring'!F35","v":"65-69"},{"$f":"'Start List Team Scoring'!G35","v":"M"},{"$f":"'Start List Team Scoring'!H35","v":"TDG"}]
[{"$f":"'Start List Team Scoring'!A36","v":28},{"$f":"'Start List Team Scoring'!B36","v":16},{"$f":"'Start List Team Scoring'!C36","v":4},{"$f":"'Start List Team Scoring'!D36","v":1},{"$f":"'Start List Team Scoring'!E36","v":"Chris Sadler"},{"$f":"'Start List Team Scoring'!F36","v":"60-64"},{"$f":"'Start List Team Scoring'!G36","v":"M"},{"$f":"'Start List Team Scoring'!H36","v":"GP"}]
[{"$f":"'Start List Team Scoring'!A37","v":31},{"$f":"'Start List Team Scoring'!B37","v":16},{"$f":"'Start List Team Scoring'!C37","v":3},{"$f":"'Start List Team Scoring'!D37","v":2},{"$f":"'Start List Team Scoring'!E37","v":"Chuck Reynolds *"},{"$f":"'Start List Team Scoring'!F37","v":"60-64"},{"$f":"'Start List Team Scoring'!G37","v":"M"},{"$f":"'Start List Team Scoring'!H37","v":"TDG"}]
[{"$f":"'Start List Team Scoring'!A38","v":32},{"$f":"'Start List Team Scoring'!B38","v":16},{"$f":"'Start List Team Scoring'!C38","v":4},{"$f":"'Start List Team Scoring'!D38","v":2},{"$f":"'Start List Team Scoring'!E38","v":"Boyd Van Allen"},{"$f":"'Start List Team Scoring'!F38","v":"60-64"},{"$f":"'Start List Team Scoring'!G38","v":"M"},{"$f":"'Start List Team Scoring'!H38","v":"GP"}]
[{"$f":"'Start List Team Scoring'!A39","v":29},{"$f":"'Start List Team Scoring'!B39","v":16},{"$f":"'Start List Team Scoring'!C39","v":5},{"$f":"'Start List Team Scoring'!D39","v":1},{"$f":"'Start List Team Scoring'!E39","v":"Ralph Ferguson"},{"$f":"'Start List Team Scoring'!F39","v":"60-64"},{"$f":"'Start List Team Scoring'!G39","v":"M"},{"$f":"'Start List Team Scoring'!H39","v":"CAL"}]
[{"$f":"'Start List Team Scoring'!A40","v":33},{"$f":"'Start List Team Scoring'!B40","v":16},{"$f":"'Start List Team Scoring'!C40","v":4},{"$f":"'Start List Team Scoring'!D40","v":3},{"$f":"'Start List Team Scoring'!E40","v":"Grant Willson"},{"$f":"'Start List Team Scoring'!F40","v":"60-64"},{"$f":"'Start List Team Scoring'!G40","v":"M"},{"$f":"'Start List Team Scoring'!H40","v":"GP"}]
[{"$f":"'Start List Team Scoring'!A41","v":30},{"$f":"'Start List Team Scoring'!B41","v":16},{"$f":"'Start List Team Scoring'!C41","v":1},{"$f":"'Start List Team Scoring'!D41","v":2},{"$f":"'Start List Team Scoring'!E41","v":"Chris Clark"},{"$f":"'Start List Team Scoring'!F41","v":"60-64"},{"$f":"'Start List Team Scoring'!G41","v":"M"},{"$f":"'Start List Team Scoring'!H41","v":"CRA"}]
[{"$f":"'Start List Team Scoring'!A42","v":25},{"$f":"'Start List Team Scoring'!B42","v":16},{"$f":"'Start List Team Scoring'!C42","v":1},{"$f":"'Start List Team Scoring'!D42","v":1},{"$f":"'Start List Team Scoring'!E42","v":"Paul Woodhouse"},{"$f":"'Start List Team Scoring'!F42","v":"60-64"},{"$f":"'Start List Team Scoring'!G42","v":"M"},{"$f":"'Start List Team Scoring'!H42","v":"CRA"}]
[{"$f":"'Start List Team Scoring'!A43","v":27},{"$f":"'Start List Team Scoring'!B43","v":16},{"$f":"'Start List Team Scoring'!C43","v":3},{"$f":"'Start List Team Scoring'!D43","v":1},{"$f":"'Start List Team Scoring'!E43","v":"James Peacock"},{"$f":"'Start List Team Scoring'!F43","v":"60-64"},{"$f":"'Start List Team Scoring'!G43","v":"M"},{"$f":"'Start List Team Scoring'!H43","v":"TDG"}]
[{"$f":"'Start List Team Scoring'!A44","v":26},{"$f":"'Start List Team Scoring'!B44","v":16},{"$f":"'Start List Team Scoring'!C44","v":2},{"$f":"'Start List Team Scoring'!D44","v":1},{"$f":"'Start List Team Scoring'!E44","v":"Tony Petrella"},{"$f":"'Start List Team Scoring'!F44","v":"60-64"},{"$f":"'Start List Team Scoring'!G44","v":"M"},{"$f":"'Start List Team Scoring'!H44","v":"ALP"}]
[{"$f":"'Start List Team Scoring'!A45","v":34},{"$f":"'Start List Team Scoring'!B45","v":17},{"$f":"'Start List Team Scoring'!C45","v":3},{"$f":"'Start List Team Scoring'!D45","v":1},{"$f":"'Start List Team Scoring'!E45","v":"Barbara Fydell"},{"$f":"'Start List Team Scoring'!F45","v":"45-49"},{"$f":"'Start List Team Scoring'!G45","v":"F"},{"$f":"'Start List Team Scoring'!H45","v":"TDG"}]
[{"$f":"'Start List Team Scoring'!A46","v":37},{"$f":"'Start List Team Scoring'!B46","v":19},{"$f":"'Start List Team Scoring'!C46","v":3},{"$f":"'Start List Team Scoring'!D46","v":1},{"$f":"'Start List Team Scoring'!E46","v":"Michael Gagnon"},{"$f":"'Start List Team Scoring'!F46","v":"55-59"},{"$f":"'Start List Team Scoring'!G46","v":"M"},{"$f":"'Start List Team Scoring'!H46","v":"TDG"}]
[{"$f":"'Start List Team Scoring'!A47","v":45},{"$f":"'Start List Team Scoring'!B47","v":19},{"$f":"'Start List Team Scoring'!C47","v":3},{"$f":"'Start List Team Scoring'!D47","v":4},{"$f":"'Start List Team Scoring'!E47","v":"Steve Dryden"},{"$f":"'Start List Team Scoring'!F47","v":"55-59"},{"$f":"'Start List Team Scoring'!G47","v":"M"},{"$f":"'Start List Team Scoring'!H47","v":"TDG"}]
[{"$f":"'Start List Team Scoring'!A48","v":35},{"$f":"'Start List Team Scoring'!B48","v":19},{"$f":"'Start List Team Scoring'!C48","v":1},{"$f":"'Start List Team Scoring'!D48","v":1},{"$f":"'Start List Team Scoring'!E48","v":"Jeff Sutherland"},{"$f":"'Start List Team Scoring'!F48","v":"55-59"},{"$f":"'Start List Team Scoring'!G48","v":"M"},{"$f":"'Start List Team Scoring'!H48","v":"CRA"}]
[{"$f":"'Start List Team Scoring'!A49","v":38},{"$f":"'Start List Team Scoring'!B49","v":19},{"$f":"'Start List Team Scoring'!C49","v":4},{"$f":"'Start List Team Scoring'!D49","v":1},{"$f":"'Start List Team Scoring'!E49","v":"Mike Duder"},{"$f":"'Start List Team Scoring'!F49","v":"55-59"},{"$f":"'Start List Team Scoring'!G49","v":"M"},{"$f":"'Start List Team Scoring'!H49","v":"GP"}]
[{"$f":"'Start List Team Scoring'!A50","v":43},{"$f":"'Start List Team Scoring'!B50","v":19},{"$f":"'Start List Team Scoring'!C50","v":4},{"$f":"'Start List Team Scoring'!D50","v":2},{"$f":"'Start List Team Scoring'!E50","v":"Peter Owen"},{"$f":"'Start List Team Scoring'!F50","v":"55-59"},{"$f":"'Start List Team Scoring'!G50","v":"M"},{"$f":"'Start List Team Scoring'!H50","v":"GP"}]
[{"$f":"'Start List Team Scoring'!A51","v":40},{"$f":"'Start List Team Scoring'!B51","v":19},{"$f":"'Start List Team Scoring'!C51","v":1},{"$f":"'Start List Team Scoring'!D51","v":2},{"$f":"'Start List Team Scoring'!E51","v":"Chris Fregren"},{"$f":"'Start List Team Scoring'!F51","v":"55-59"},{"$f":"'Start List Team Scoring'!G51","v":"M"},{"$f":"'Start List Team Scoring'!H51","v":"CRA"}]
[{"$f":"'Start List Team Scoring'!A52","v":39},{"$f":"'Start List Team Scoring'!B52","v":19},{"$f":"'Start List Team Scoring'!C52","v":5},{"$f":"'Start List Team Scoring'!D52","v":1},{"$f":"'Start List Team Scoring'!E52","v":"Paul Montgomery"},{"$f":"'Start List Team Scoring'!F52","v":"55-59"},{"$f":"'Start List Team Scoring'!G52","v":"M"},{"$f":"'Start List Team Scoring'!H52","v":"CAL"}]
[{"$f":"'Start List Team Scoring'!A53","v":36},{"$f":"'Start List Team Scoring'!B53","v":19},{"$f":"'Start List Team Scoring'!C53","v":2},{"$f":"'Start List Team Scoring'!D53","v":1},{"$f":"'Start List Team Scoring'!E53","v":"Peter Coward"},{"$f":"'Start List Team Scoring'!F53","v":"55-59"},{"$f":"'Start List Team Scoring'!G53","v":"M"},{"$f":"'Start List Team Scoring'!H53","v":"ALP"}]
[{"$f":"'Start List Team Scoring'!A54","v":42},{"$f":"'Start List Team Scoring'!B54","v":19},{"$f":"'Start List Team Scoring'!C54","v":3},{"$f":"'Start List Team Scoring'!D54","v":2},{"$f":"'Start List Team Scoring'!E54","v":"Patrick Lee"},{"$f":"'Start List Team Scoring'!F54","v":"55-59"},{"$f":"'Start List Team Scoring'!G54","v":"M"},{"$f":"'Start List Team Scoring'!H54","v":"TDG"}]
[{"$f":"'Start List Team Scoring'!A55","v":41},{"$f":"'Start List Team Scoring'!B55","v":19},{"$f":"'Start List Team Scoring'!C55","v":2},{"$f":"'Start List Team Scoring'!D55","v":2},{"$f":"'Start List Team Scoring'!E55","v":"Gary Solway"},{"$f":"'Start List Team Scoring'!F55","v":"55-59"},{"$f":"'Start List Team Scoring'!G55","v":"M"},{"$f":"'Start List Team Scoring'!H55","v":"ALP"}]
[{"$f":"'Start List Team Scoring'!A56","v":44},{"$f":"'Start List Team Scoring'!B56","v":19},{"$f":"'Start List Team Scoring'!C56","v":3},{"$f":"'Start List Team Scoring'!D56","v":3},{"$f":"'Start List Team Scoring'!E56","v":"Ron Perryman"},{"$f":"'Start List Team Scoring'!F56","v":"55-59"},{"$f":"'Start List Team Scoring'!G56","v":"M"},{"$f":"'Start List Team Scoring'!H56","v":"TDG"}]
[{"$f":"'Start List Team Scoring'!A57","v":56},{"$f":"'Start List Team Scoring'!B57","v":20},{"$f":"'Start List Team Scoring'!C57","v":5},{"$f":"'Start List Team Scoring'!D57","v":3},{"$f":"'Start List Team Scoring'!E57","v":"Rob Muru"},{"$f":"'Start List Team Scoring'!F57","v":"50-54"},{"$f":"'Start List Team Scoring'!G57","v":"M"},{"$f":"'Start List Team Scoring'!H57","v":"CAL"}]
[{"$f":"'Start List Team Scoring'!A58","v":58},{"$f":"'Start List Team Scoring'!B58","v":20},{"$f":"'Start List Team Scoring'!C58","v":3},{"$f":"'Start List Team Scoring'!D58","v":4},{"$f":"'Start List Team Scoring'!E58","v":"Rob Nogas"},{"$f":"'Start List Team Scoring'!F58","v":"50-54"},{"$f":"'Start List Team Scoring'!G58","v":"M"},{"$f":"'Start List Team Scoring'!H58","v":"TDG"}]
[{"$f":"'Start List Team Scoring'!A59","v":61},{"$f":"'Start List Team Scoring'!B59","v":20},{"$f":"'Start List Team Scoring'!C59","v":3},{"$f":"'Start List Team Scoring'!D59","v":5},{"$f":"'Start List Team Scoring'!E59","v":"John Stafford"},{"$f":"'Start List Team Scoring'!F59","v":"50-54"},{"$f":"'Start List Team Scoring'!G59","v":"M"},{"$f":"'Start List Team Scoring'!H59","v":"TDG"}]
[{"$f":"'Start List Team Scoring'!A60","v":64},{"$f":"'Start List Team Scoring'!B60","v":20},{"$f":"'Start List Team Scoring'!C60","v":3},{"$f":"'Start List Team Scoring'!D60","v":6},{"$f":"'Start List Team Scoring'!E60","v":"Thomas Kochuta *"},{"$f":"'Start List Team Scoring'!F60","v":"50-54"},{"$f":"'Start List Team Scoring'!G60","v":"M"},{"$f":"'Start List Team Scoring'!H60","v":"TDG"}]
[{"$f":"'Start List Team Scoring'!A61","v":48},{"$f":"'Start List Team Scoring'!B61","v":20},{"$f":"'Start List Team Scoring'!C61","v":3},{"$f":"'Start List Team Scoring'!D61","v":1},{"$f":"'Start List Team Scoring'!E61","v":"Chris Samis"},{"$f":"'Start List Team Scoring'!F61","v":"50-54"},{"$f":"'Start List Team Scoring'!G61","v":"M"},{"$f":"'Start List Team Scoring'!H61","v":"TDG"}]
[{"$f":"'Start List Team Scoring'!A62","v":52},{"$f":"'Start List Team Scoring'!B62","v":20},{"$f":"'Start List Team Scoring'!C62","v":3},{"$f":"'Start List Team Scoring'!D62","v":2},{"$f":"'Start List Team Scoring'!E62","v":"Jaime Hugessen"},{"$f":"'Start List Team Scoring'!F62","v":"50-54"},{"$f":"'Start List Team Scoring'!G62","v":"M"},{"$f":"'Start List Team Scoring'!H62","v":"TDG"}]
[{"$f":"'Start List Team Scoring'!A63","v":54},{"$f":"'Start List Team Scoring'!B63","v":20},{"$f":"'Start List Team Scoring'!C63","v":1},{"$f":"'Start List Team Scoring'!D63","v":3},{"$f":"'Start List Team Scoring'!E63","v":"Craig Shibley"},{"$f":"'Start List Team Scoring'!F63","v":"50-54"},{"$f":"'Start List Team Scoring'!G63","v":"M"},{"$f":"'Start List Team Scoring'!H63","v":"CRA"}]
[{"$f":"'Start List Team Scoring'!A64","v":51},{"$f":"'Start List Team Scoring'!B64","v":20},{"$f":"'Start List Team Scoring'!C64","v":2},{"$f":"'Start List Team Scoring'!D64","v":2},{"$f":"'Start List Team Scoring'!E64","v":"Jeff Parr"},{"$f":"'Start List Team Scoring'!F64","v":"50-54"},{"$f":"'Start List Team Scoring'!G64","v":"M"},{"$f":"'Start List Team Scoring'!H64","v":"ALP"}]
[{"$f":"'Start List Team Scoring'!A65","v":49},{"$f":"'Start List Team Scoring'!B65","v":20},{"$f":"'Start List Team Scoring'!C65","v":5},{"$f":"'Start List Team Scoring'!D65","v":1},{"$f":"'Start List Team Scoring'!E65","v":"Bruce Simpson"},{"$f":"'Start List Team Scoring'!F65","v":"50-54"},{"$f":"'Start List Team Scoring'!G65","v":"M"},{"$f":"'Start List Team Scoring'!H65","v":"CAL"}]
[{"$f":"'Start List Team Scoring'!A66","v":63},{"$f":"'Start List Team Scoring'!B66","v":20},{"$f":"'Start List Team Scoring'!C66","v":1},{"$f":"'Start List Team Scoring'!D66","v":6},{"$f":"'Start List Team Scoring'!E66","v":"Randy Dalton"},{"$f":"'Start List Team Scoring'!F66","v":"50-54"},{"$f":"'Start List Team Scoring'!G66","v":"M"},{"$f":"'Start List Team Scoring'!H66","v":"CRA"}]
[{"$f":"'Start List Team Scoring'!A67","v":50},{"$f":"'Start List Team Scoring'!B67","v":20},{"$f":"'Start List Team Scoring'!C67","v":1},{"$f":"'Start List Team Scoring'!D67","v":2},{"$f":"'Start List Team Scoring'!E67","v":"Trent Winstone"},{"$f":"'Start List Team Scoring'!F67","v":"50-54"},{"$f":"'Start List Team Scoring'!G67","v":"M"},{"$f":"'Start List Team Scoring'!H67","v":"CRA"}]
[{"$f":"'Start List Team Scoring'!A68","v":60},{"$f":"'Start List Team Scoring'!B68","v":20},{"$f":"'Start List Team Scoring'!C68","v":1},{"$f":"'Start List Team Scoring'!D68","v":5},{"$f":"'Start List Team Scoring'!E68","v":"Ian Latimer"},{"$f":"'Start List Team Scoring'!F68","v":"50-54"},{"$f":"'Start List Team Scoring'!G68","v":"M"},{"$f":"'Start List Team Scoring'!H68","v":"CRA"}]
[{"$f":"'Start List Team Scoring'!A69","v":53},{"$f":"'Start List Team Scoring'!B69","v":20},{"$f":"'Start List Team Scoring'!C69","v":5},{"$f":"'Start List Team Scoring'!D69","v":2},{"$f":"'Start List Team Scoring'!E69","v":"Peter Neumann"},{"$f":"'Start List Team Scoring'!F69","v":"50-54"},{"$f":"'Start List Team Scoring'!G69","v":"M"},{"$f":"'Start List Team Scoring'!H69","v":"CAL"}]
[{"$f":"'Start List Team Scoring'!A70","v":57},{"$f":"'Start List Team Scoring'!B70","v":20},{"$f":"'Start List Team Scoring'!C70","v":1},{"$f":"'Start List Team Scoring'!D70","v":4},{"$f":"'Start List Team Scoring'!E70","v":"Jeff Craig"},{"$f":"'Start List Team Scoring'!F70","v":"50-54"},{"$f":"'Start List Team Scoring'!G70","v":"M"},{"$f":"'Start List Team Scoring'!H70","v":"CRA"}]
[{"$f":"'Start List Team Scoring'!A71","v":47},{"$f":"'Start List Team Scoring'!B71","v":20},{"$f":"'Start List Team Scoring'!C71","v":2},{"$f":"'Start List Team Scoring'!D71","v":1},{"$f":"'Start List Team Scoring'!E71","v":"Kevin Beattie"},{"$f":"'Start List Team Scoring'!F71","v":"50-54"},{"$f":"'Start List Team Scoring'!G71","v":"M"},{"$f":"'Start List Team Scoring'!H71","v":"ALP"}]
[{"$f":"'Start List Team Scoring'!A72","v":46},{"$f":"'Start List Team Scoring'!B72","v":20},{"$f":"'Start List Team Scoring'!C72","v":1},{"$f":"'Start List Team Scoring'!D72","v":1},{"$f":"'Start List Team Scoring'!E72","v":"Robert Burnes "},{"$f":"'Start List Team Scoring'!F72","v":"50-54"},{"$f":"'Start List Team Scoring'!G72","v":"M"},{"$f":"'Start List Team Scoring'!H72","v":"CRA"}]
[{"$f":"'Start List Team Scoring'!A73","v":59},{"$f":"'Start List Team Scoring'!B73","v":20},{"$f":"'Start List Team Scoring'!C73","v":5},{"$f":"'Start List Team Scoring'!D73","v":4},{"$f":"'Start List Team Scoring'!E73","v":"Geoff Guy"},{"$f":"'Start List Team Scoring'!F73","v":"50-54"},{"$f":"'Start List Team Scoring'!G73","v":"M"},{"$f":"'Start List Team Scoring'!H73","v":"CAL"}]
[{"$f":"'Start List Team Scoring'!A74","v":62},{"$f":"'Start List Team Scoring'!B74","v":20},{"$f":"'Start List Team Scoring'!C74","v":5},{"$f":"'Start List Team Scoring'!D74","v":5},{"$f":"'Start List Team Scoring'!E74","v":"Taylor Gregory"},{"$f":"'Start List Team Scoring'!F74","v":"50-54"},{"$f":"'Start List Team Scoring'!G74","v":"M"},{"$f":"'Start List Team Scoring'!H74","v":"CAL"}]
[{"$f":"'Start List Team Scoring'!A75","v":55},{"$f":"'Start List Team Scoring'!B75","v":20},{"$f":"'Start List Team Scoring'!C75","v":3},{"$f":"'Start List Team Scoring'!D75","v":3},{"$f":"'Start List Team Scoring'!E75","v":"Greg Thompson"},{"$f":"'Start List Team Scoring'!F75","v":"50-54"},{"$f":"'Start List Team Scoring'!G75","v":"M"},{"$f":"'Start List Team Scoring'!H75","v":"TDG"}]
[{"$f":"'Start List Team Scoring'!A76","v":65},{"$f":"'Start List Team Scoring'!B76","v":21},{"$f":"'Start List Team Scoring'!C76","v":2},{"$f":"'Start List Team Scoring'!D76","v":1},{"$f":"'Start List Team Scoring'!E76","v":"Alana Cox"},{"$f":"'Start List Team Scoring'!F76","v":"35-39"},{"$f":"'Start List Team Scoring'!G76","v":"F"},{"$f":"'Start List Team Scoring'!H76","v":"ALP"}]
[{"$f":"'Start List Team Scoring'!A77","v":66},{"$f":"'Start List Team Scoring'!B77","v":22},{"$f":"'Start List Team Scoring'!C77","v":5},{"$f":"'Start List Team Scoring'!D77","v":1},{"$f":"'Start List Team Scoring'!E77","v":"Melanie Templeman"},{"$f":"'Start List Team Scoring'!F77","v":"30-34"},{"$f":"'Start List Team Scoring'!G77","v":"F"},{"$f":"'Start List Team Scoring'!H77","v":"CAL"}]
[{"$f":"'Start List Team Scoring'!A78","v":72},{"$f":"'Start List Team Scoring'!B78","v":23},{"$f":"'Start List Team Scoring'!C78","v":1},{"$f":"'Start List Team Scoring'!D78","v":2},{"$f":"'Start List Team Scoring'!E78","v":"Stephanie Clark"},{"$f":"'Start List Team Scoring'!F78","v":"18-29"},{"$f":"'Start List Team Scoring'!G78","v":"F"},{"$f":"'Start List Team Scoring'!H78","v":"CRA"}]
[{"$f":"'Start List Team Scoring'!A79","v":71},{"$f":"'Start List Team Scoring'!B79","v":23},{"$f":"'Start List Team Scoring'!C79","v":5},{"$f":"'Start List Team Scoring'!D79","v":1},{"$f":"'Start List Team Scoring'!E79","v":"Emily Shiletto"},{"$f":"'Start List Team Scoring'!F79","v":"18-29"},{"$f":"'Start List Team Scoring'!G79","v":"F"},{"$f":"'Start List Team Scoring'!H79","v":"CAL"}]
[{"$f":"'Start List Team Scoring'!A80","v":68},{"$f":"'Start List Team Scoring'!B80","v":23},{"$f":"'Start List Team Scoring'!C80","v":2},{"$f":"'Start List Team Scoring'!D80","v":1},{"$f":"'Start List Team Scoring'!E80","v":"Laura Coward"},{"$f":"'Start List Team Scoring'!F80","v":"18-29"},{"$f":"'Start List Team Scoring'!G80","v":"F"},{"$f":"'Start List Team Scoring'!H80","v":"ALP"}]
[{"$f":"'Start List Team Scoring'!A81","v":70},{"$f":"'Start List Team Scoring'!B81","v":23},{"$f":"'Start List Team Scoring'!C81","v":4},{"$f":"'Start List Team Scoring'!D81","v":1},{"$f":"'Start List Team Scoring'!E81","v":"Ashley Heenan"},{"$f":"'Start List Team Scoring'!F81","v":"18-29"},{"$f":"'Start List Team Scoring'!G81","v":"F"},{"$f":"'Start List Team Scoring'!H81","v":"GP"}]
[{"$f":"'Start List Team Scoring'!A82","v":73},{"$f":"'Start List Team Scoring'!B82","v":23},{"$f":"'Start List Team Scoring'!C82","v":5},{"$f":"'Start List Team Scoring'!D82","v":2},{"$f":"'Start List Team Scoring'!E82","v":"Courtney Claessens"},{"$f":"'Start List Team Scoring'!F82","v":"18-29"},{"$f":"'Start List Team Scoring'!G82","v":"F"},{"$f":"'Start List Team Scoring'!H82","v":"CAL"}]
[{"$f":"'Start List Team Scoring'!A83","v":67},{"$f":"'Start List Team Scoring'!B83","v":23},{"$f":"'Start List Team Scoring'!C83","v":1},{"$f":"'Start List Team Scoring'!D83","v":1},{"$f":"'Start List Team Scoring'!E83","v":"Sarah Latimer"},{"$f":"'Start List Team Scoring'!F83","v":"18-29"},{"$f":"'Start List Team Scoring'!G83","v":"F"},{"$f":"'Start List Team Scoring'!H83","v":"CRA"}]
[{"$f":"'Start List Team Scoring'!A84","v":69},{"$f":"'Start List Team Scoring'!B84","v":23},{"$f":"'Start List Team Scoring'!C84","v":3},{"$f":"'Start List Team Scoring'!D84","v":1},{"$f":"'Start List Team Scoring'!E84","v":"Elizabeth Perryman"},{"$f":"'Start List Team Scoring'!F84","v":"18-29"},{"$f":"'Start List Team Scoring'!G84","v":"F"},{"$f":"'Start List Team Scoring'!H84","v":"TDG"}]
[{"$f":"'Start List Team Scoring'!A85","v":76},{"$f":"'Start List Team Scoring'!B85","v":24},{"$f":"'Start List Team Scoring'!C85","v":4},{"$f":"'Start List Team Scoring'!D85","v":1},{"$f":"'Start List Team Scoring'!E85","v":"John Mealy"},{"$f":"'Start List Team Scoring'!F85","v":"45-49"},{"$f":"'Start List Team Scoring'!G85","v":"M"},{"$f":"'Start List Team Scoring'!H85","v":"GP"}]
[{"$f":"'Start List Team Scoring'!A86","v":77},{"$f":"'Start List Team Scoring'!B86","v":24},{"$f":"'Start List Team Scoring'!C86","v":5},{"$f":"'Start List Team Scoring'!D86","v":1},{"$f":"'Start List Team Scoring'!E86","v":"Kelly Shorer"},{"$f":"'Start List Team Scoring'!F86","v":"45-49"},{"$f":"'Start List Team Scoring'!G86","v":"M"},{"$f":"'Start List Team Scoring'!H86","v":"CAL"}]
[{"$f":"'Start List Team Scoring'!A87","v":79},{"$f":"'Start List Team Scoring'!B87","v":24},{"$f":"'Start List Team Scoring'!C87","v":5},{"$f":"'Start List Team Scoring'!D87","v":2},{"$f":"'Start List Team Scoring'!E87","v":"Graham Smith"},{"$f":"'Start List Team Scoring'!F87","v":"45-49"},{"$f":"'Start List Team Scoring'!G87","v":"M"},{"$f":"'Start List Team Scoring'!H87","v":"CAL"}]
[{"$f":"'Start List Team Scoring'!A88","v":78},{"$f":"'Start List Team Scoring'!B88","v":24},{"$f":"'Start List Team Scoring'!C88","v":4},{"$f":"'Start List Team Scoring'!D88","v":2},{"$f":"'Start List Team Scoring'!E88","v":"Clarke Smith"},{"$f":"'Start List Team Scoring'!F88","v":"45-49"},{"$f":"'Start List Team Scoring'!G88","v":"M"},{"$f":"'Start List Team Scoring'!H88","v":"GP"}]
[{"$f":"'Start List Team Scoring'!A89","v":75},{"$f":"'Start List Team Scoring'!B89","v":24},{"$f":"'Start List Team Scoring'!C89","v":2},{"$f":"'Start List Team Scoring'!D89","v":1},{"$f":"'Start List Team Scoring'!E89","v":"David Garber"},{"$f":"'Start List Team Scoring'!F89","v":"45-49"},{"$f":"'Start List Team Scoring'!G89","v":"M"},{"$f":"'Start List Team Scoring'!H89","v":"ALP"}]
[{"$f":"'Start List Team Scoring'!A90","v":80},{"$f":"'Start List Team Scoring'!B90","v":24},{"$f":"'Start List Team Scoring'!C90","v":5},{"$f":"'Start List Team Scoring'!D90","v":3},{"$f":"'Start List Team Scoring'!E90","v":"John Brajkovich"},{"$f":"'Start List Team Scoring'!F90","v":"45-49"},{"$f":"'Start List Team Scoring'!G90","v":"M"},{"$f":"'Start List Team Scoring'!H90","v":"CAL"}]
[{"$f":"'Start List Team Scoring'!A91","v":74},{"$f":"'Start List Team Scoring'!B91","v":24},{"$f":"'Start List Team Scoring'!C91","v":1},{"$f":"'Start List Team Scoring'!D91","v":1},{"$f":"'Start List Team Scoring'!E91","v":"Jerry Patten"},{"$f":"'Start List Team Scoring'!F91","v":"45-49"},{"$f":"'Start List Team Scoring'!G91","v":"M"},{"$f":"'Start List Team Scoring'!H91","v":"CRA"}]
[{"$f":"'Start List Team Scoring'!A92","v":81},{"$f":"'Start List Team Scoring'!B92","v":24},{"$f":"'Start List Team Scoring'!C92","v":5},{"$f":"'Start List Team Scoring'!D92","v":4},{"$f":"'Start List Team Scoring'!E92","v":"Mike Rowland"},{"$f":"'Start List Team Scoring'!F92","v":"45-49"},{"$f":"'Start List Team Scoring'!G92","v":"M"},{"$f":"'Start List Team Scoring'!H92","v":"CAL"}]
[{"$f":"'Start List Team Scoring'!A93","v":86},{"$f":"'Start List Team Scoring'!B93","v":25},{"$f":"'Start List Team Scoring'!C93","v":4},{"$f":"'Start List Team Scoring'!D93","v":2},{"$f":"'Start List Team Scoring'!E93","v":"Robert Linklater"},{"$f":"'Start List Team Scoring'!F93","v":"40-44"},{"$f":"'Start List Team Scoring'!G93","v":"M"},{"$f":"'Start List Team Scoring'!H93","v":"GP"}]
[{"$f":"'Start List Team Scoring'!A94","v":82},{"$f":"'Start List Team Scoring'!B94","v":25},{"$f":"'Start List Team Scoring'!C94","v":1},{"$f":"'Start List Team Scoring'!D94","v":1},{"$f":"'Start List Team Scoring'!E94","v":"Greg Cavers"},{"$f":"'Start List Team Scoring'!F94","v":"40-44"},{"$f":"'Start List Team Scoring'!G94","v":"M"},{"$f":"'Start List Team Scoring'!H94","v":"CRA"}]
[{"$f":"'Start List Team Scoring'!A95","v":83},{"$f":"'Start List Team Scoring'!B95","v":25},{"$f":"'Start List Team Scoring'!C95","v":2},{"$f":"'Start List Team Scoring'!D95","v":1},{"$f":"'Start List Team Scoring'!E95","v":"Darren Gottlieb"},{"$f":"'Start List Team Scoring'!F95","v":"40-44"},{"$f":"'Start List Team Scoring'!G95","v":"M"},{"$f":"'Start List Team Scoring'!H95","v":"ALP"}]
[{"$f":"'Start List Team Scoring'!A96","v":84},{"$f":"'Start List Team Scoring'!B96","v":25},{"$f":"'Start List Team Scoring'!C96","v":4},{"$f":"'Start List Team Scoring'!D96","v":1},{"$f":"'Start List Team Scoring'!E96","v":"Rob Furse"},{"$f":"'Start List Team Scoring'!F96","v":"40-44"},{"$f":"'Start List Team Scoring'!G96","v":"M"},{"$f":"'Start List Team Scoring'!H96","v":"GP"}]
[{"$f":"'Start List Team Scoring'!A97","v":87},{"$f":"'Start List Team Scoring'!B97","v":25},{"$f":"'Start List Team Scoring'!C97","v":5},{"$f":"'Start List Team Scoring'!D97","v":2},{"$f":"'Start List Team Scoring'!E97","v":"Scott Plaskett"},{"$f":"'Start List Team Scoring'!F97","v":"40-44"},{"$f":"'Start List Team Scoring'!G97","v":"M"},{"$f":"'Start List Team Scoring'!H97","v":"CAL"}]
[{"$f":"'Start List Team Scoring'!A98","v":85},{"$f":"'Start List Team Scoring'!B98","v":25},{"$f":"'Start List Team Scoring'!C98","v":5},{"$f":"'Start List Team Scoring'!D98","v":1},{"$f":"'Start List Team Scoring'!E98","v":"Francesco Fontana"},{"$f":"'Start List Team Scoring'!F98","v":"40-44"},{"$f":"'Start List Team Scoring'!G98","v":"M"},{"$f":"'Start List Team Scoring'!H98","v":"CAL"}]
[{"$f":"'Start List Team Scoring'!A99","v":88},{"$f":"'Start List Team Scoring'!B99","v":26},{"$f":"'Start List Team Scoring'!C99","v":1},{"$f":"'Start List Team Scoring'!D99","v":1},{"$f":"'Start List Team Scoring'!E99","v":"Scott McLorie"},{"$f":"'Start List Team Scoring'!F99","v":"35-39"},{"$f":"'Start List Team Scoring'!G99","v":"M"},{"$f":"'Start List Team Scoring'!H99","v":"CRA"}]
[{"$f":"'Start List Team Scoring'!A100","v":89},{"$f":"'Start List Team Scoring'!B100","v":26},{"$f":"'Start List Team Scoring'!C100","v":2},{"$f":"'Start List Team Scoring'!D100","v":1},{"$f":"'Start List Team Scoring'!E100","v":"Derek Crawford"},{"$f":"'Start List Team Scoring'!F100","v":"35-39"},{"$f":"'Start List Team Scoring'!G100","v":"M"},{"$f":"'Start List Team Scoring'!H100","v":"ALP"}]
[{"$f":"'Start List Team Scoring'!A101","v":93},{"$f":"'Start List Team Scoring'!B101","v":27},{"$f":"'Start List Team Scoring'!C101","v":1},{"$f":"'Start List Team Scoring'!D101","v":2},{"$f":"'Start List Team Scoring'!E101","v":"Justin Kowal"},{"$f":"'Start List Team Scoring'!F101","v":"30-34"},{"$f":"'Start List Team Scoring'!G101","v":"M"},{"$f":"'Start List Team Scoring'!H101","v":"CRA"}]
[{"$f":"'Start List Team Scoring'!A102","v":90},{"$f":"'Start List Team Scoring'!B102","v":27},{"$f":"'Start List Team Scoring'!C102","v":1},{"$f":"'Start List Team Scoring'!D102","v":1},{"$f":"'Start List Team Scoring'!E102","v":"Taylor Simms-Brown"},{"$f":"'Start List Team Scoring'!F102","v":"30-34"},{"$f":"'Start List Team Scoring'!G102","v":"M"},{"$f":"'Start List Team Scoring'!H102","v":"CRA"}]
[{"$f":"'Start List Team Scoring'!A103","v":92},{"$f":"'Start List Team Scoring'!B103","v":27},{"$f":"'Start List Team Scoring'!C103","v":5},{"$f":"'Start List Team Scoring'!D103","v":1},{"$f":"'Start List Team Scoring'!E103","v":"Tom Murdison"},{"$f":"'Start List Team Scoring'!F103","v":"30-34"},{"$f":"'Start List Team Scoring'!G103","v":"M"},{"$f":"'Start List Team Scoring'!H103","v":"CAL"}]
[{"$f":"'Start List Team Scoring'!A104","v":91},{"$f":"'Start List Team Scoring'!B104","v":27},{"$f":"'Start List Team Scoring'!C104","v":2},{"$f":"'Start List Team Scoring'!D104","v":1},{"$f":"'Start List Team Scoring'!E104","v":"Mark McTaggart"},{"$f":"'Start List Team Scoring'!F104","v":"30-34"},{"$f":"'Start List Team Scoring'!G104","v":"M"},{"$f":"'Start List Team Scoring'!H104","v":"ALP"}]
[{"$f":"'Start List Team Scoring'!A105","v":95},{"$f":"'Start List Team Scoring'!B105","v":28},{"$f":"'Start List Team Scoring'!C105","v":2},{"$f":"'Start List Team Scoring'!D105","v":1},{"$f":"'Start List Team Scoring'!E105","v":"Mike Parr"},{"$f":"'Start List Team Scoring'!F105","v":"18-29"},{"$f":"'Start List Team Scoring'!G105","v":"M"},{"$f":"'Start List Team Scoring'!H105","v":"ALP"}]
[{"$f":"'Start List Team Scoring'!A106","v":99},{"$f":"'Start List Team Scoring'!B106","v":28},{"$f":"'Start List Team Scoring'!C106","v":4},{"$f":"'Start List Team Scoring'!D106","v":2},{"$f":"'Start List Team Scoring'!E106","v":"Jorden Sherer"},{"$f":"'Start List Team Scoring'!F106","v":"18-29"},{"$f":"'Start List Team Scoring'!G106","v":"M"},{"$f":"'Start List Team Scoring'!H106","v":"GP"}]
[{"$f":"'Start List Team Scoring'!A107","v":100},{"$f":"'Start List Team Scoring'!B107","v":28},{"$f":"'Start List Team Scoring'!C107","v":4},{"$f":"'Start List Team Scoring'!D107","v":2},{"$f":"'Start List Team Scoring'!E107","v":"Jeremy Owen"},{"$f":"'Start List Team Scoring'!F107","v":"18-29"},{"$f":"'Start List Team Scoring'!G107","v":"M"},{"$f":"'Start List Team Scoring'!H107","v":"GP"}]
[{"$f":"'Start List Team Scoring'!A108","v":94},{"$f":"'Start List Team Scoring'!B108","v":28},{"$f":"'Start List Team Scoring'!C108","v":1},{"$f":"'Start List Team Scoring'!D108","v":1},{"$f":"'Start List Team Scoring'!E108","v":"Paul Atkinson"},{"$f":"'Start List Team Scoring'!F108","v":"18-29"},{"$f":"'Start List Team Scoring'!G108","v":"M"},{"$f":"'Start List Team Scoring'!H108","v":"CRA"}]
[{"$f":"'Start List Team Scoring'!A109","v":97},{"$f":"'Start List Team Scoring'!B109","v":28},{"$f":"'Start List Team Scoring'!C109","v":5},{"$f":"'Start List Team Scoring'!D109","v":1},{"$f":"'Start List Team Scoring'!E109","v":"Erik Donaldson"},{"$f":"'Start List Team Scoring'!F109","v":"18-29"},{"$f":"'Start List Team Scoring'!G109","v":"M"},{"$f":"'Start List Team Scoring'!H109","v":"CAL"}]
[{"$f":"'Start List Team Scoring'!A110","v":98},{"$f":"'Start List Team Scoring'!B110","v":28},{"$f":"'Start List Team Scoring'!C110","v":1},{"$f":"'Start List Team Scoring'!D110","v":2},{"$f":"'Start List Team Scoring'!E110","v":"Jesse Sheppard"},{"$f":"'Start List Team Scoring'!F110","v":"18-29"},{"$f":"'Start List Team Scoring'!G110","v":"M"},{"$f":"'Start List Team Scoring'!H110","v":"CRA"}]
[{"$f":"'Start List Team Scoring'!A111","v":96},{"$f":"'Start List Team Scoring'!B111","v":28},{"$f":"'Start List Team Scoring'!C111","v":4},{"$f":"'Start List Team Scoring'!D111","v":1},{"$f":"'Start List Team Scoring'!E111","v":"Marcus Willson"},{"$f":"'Start List Team Scoring'!F111","v":"18-29"},{"$f":"'Start List Team Scoring'!G111","v":"M"},{"$f":"'Start List Team Scoring'!H111","v":"GP"}]
[{"$f":"'Start List Team Scoring'!A112","v":101},{"$f":"'Start List Team Scoring'!B112","v":28},{"$f":"'Start List Team Scoring'!C112","v":5},{"$f":"'Start List Team Scoring'!D112","v":2},{"$f":"'Start List Team Scoring'!E112","v":"Matt Sirek"},{"$f":"'Start List Team Scoring'!F112","v":"18-29"},{"$f":"'Start List Team Scoring'!G112","v":"M"},{"$f":"'Start List Team Scoring'!H112","v":"CAL"}]
[{"$f":"'Start List Team Scoring'!A113","v":102},{"$f":"'Start List Team Scoring'!B113","v":-1},{"$f":"'Start List Team Scoring'!C113","v":-1},{"$f":"'Start List Team Scoring'!D113","v":0},{"$f":"'Start List Team Scoring'!E113","v":0},{"$f":"'Start List Team Scoring'!F113","v":0},{"$f":"'Start List Team Scoring'!G113","v":0},{"$f":"'Start List Team Scoring'!H113","v":0}]
[{"$f":"'Start List Team Scoring'!A114","v":103},{"$f":"'Start List Team Scoring'!B114","v":-1},{"$f":"'Start List Team Scoring'!C114","v":-1},{"$f":"'Start List Team Scoring'!D114","v":0},{"$f":"'Start List Team Scoring'!E114","v":0},{"$f":"'Start List Team Scoring'!F114","v":0},{"$f":"'Start List Team Scoring'!G114","v":0},{"$f":"'Start List Team Scoring'!H114","v":0}]
[{"$f":"'Start List Team Scoring'!A115","v":104},{"$f":"'Start List Team Scoring'!B115","v":-1},{"$f":"'Start List Team Scoring'!C115","v":-1},{"$f":"'Start List Team Scoring'!D115","v":0},{"$f":"'Start List Team Scoring'!E115","v":0},{"$f":"'Start List Team Scoring'!F115","v":0},{"$f":"'Start List Team Scoring'!G115","v":0},{"$f":"'Start List Team Scoring'!H115","v":0}]
[{"$f":"'Start List Team Scoring'!A116","v":105},{"$f":"'Start List Team Scoring'!B116","v":-1},{"$f":"'Start List Team Scoring'!C116","v":-1},{"$f":"'Start List Team Scoring'!D116","v":0},{"$f":"'Start List Team Scoring'!E116","v":0},{"$f":"'Start List Team Scoring'!F116","v":0},{"$f":"'Start List Team Scoring'!G116","v":0},{"$f":"'Start List Team Scoring'!H116","v":0}]
[{"$f":"'Start List Team Scoring'!A117","v":106},{"$f":"'Start List Team Scoring'!B117","v":-1},{"$f":"'Start List Team Scoring'!C117","v":-1},{"$f":"'Start List Team Scoring'!D117","v":0},{"$f":"'Start List Team Scoring'!E117","v":0},{"$f":"'Start List Team Scoring'!F117","v":0},{"$f":"'Start List Team Scoring'!G117","v":0},{"$f":"'Start List Team Scoring'!H117","v":0}]
[{"$f":"'Start List Team Scoring'!A118","v":107},{"$f":"'Start List Team Scoring'!B118","v":-1},{"$f":"'Start List Team Scoring'!C118","v":-1},{"$f":"'Start List Team Scoring'!D118","v":0},{"$f":"'Start List Team Scoring'!E118","v":0},{"$f":"'Start List Team Scoring'!F118","v":0},{"$f":"'Start List Team Scoring'!G118","v":0},{"$f":"'Start List Team Scoring'!H118","v":0}]
[{"$f":"'Start List Team Scoring'!A119","v":108},{"$f":"'Start List Team Scoring'!B119","v":-1},{"$f":"'Start List Team Scoring'!C119","v":-1},{"$f":"'Start List Team Scoring'!D119","v":0},{"$f":"'Start List Team Scoring'!E119","v":0},{"$f":"'Start List Team Scoring'!F119","v":0},{"$f":"'Start List Team Scoring'!G119","v":0},{"$f":"'Start List Team Scoring'!H119","v":0}]
[{"$f":"'Start List Team Scoring'!A120","v":109},{"$f":"'Start List Team Scoring'!B120","v":-1},{"$f":"'Start List Team Scoring'!C120","v":-1},{"$f":"'Start List Team Scoring'!D120","v":0},{"$f":"'Start List Team Scoring'!E120","v":0},{"$f":"'Start List Team Scoring'!F120","v":0},{"$f":"'Start List Team Scoring'!G120","v":0},{"$f":"'Start List Team Scoring'!H120","v":0}]
[{"$f":"'Start List Team Scoring'!A121","v":110},{"$f":"'Start List Team Scoring'!B121","v":-1},{"$f":"'Start List Team Scoring'!C121","v":-1},{"$f":"'Start List Team Scoring'!D121","v":0},{"$f":"'Start List Team Scoring'!E121","v":0},{"$f":"'Start List Team Scoring'!F121","v":0},{"$f":"'Start List Team Scoring'!G121","v":0},{"$f":"'Start List Team Scoring'!H121","v":0}]
[{"$f":"'Start List Team Scoring'!A122","v":111},{"$f":"'Start List Team Scoring'!B122","v":-1},{"$f":"'Start List Team Scoring'!C122","v":-1},{"$f":"'Start List Team Scoring'!D122","v":0},{"$f":"'Start List Team Scoring'!E122","v":0},{"$f":"'Start List Team Scoring'!F122","v":0},{"$f":"'Start List Team Scoring'!G122","v":0},{"$f":"'Start List Team Scoring'!H122","v":0}]
[{"$f":"'Start List Team Scoring'!A123","v":112},{"$f":"'Start List Team Scoring'!B123","v":-1},{"$f":"'Start List Team Scoring'!C123","v":-1},{"$f":"'Start List Team Scoring'!D123","v":0},{"$f":"'Start List Team Scoring'!E123","v":0},{"$f":"'Start List Team Scoring'!F123","v":0},{"$f":"'Start List Team Scoring'!G123","v":0},{"$f":"'Start List Team Scoring'!H123","v":0}]
[{"$f":"'Start List Team Scoring'!A124","v":113},{"$f":"'Start List Team Scoring'!B124","v":-1},{"$f":"'Start List Team Scoring'!C124","v":-1},{"$f":"'Start List Team Scoring'!D124","v":0},{"$f":"'Start List Team Scoring'!E124","v":0},{"$f":"'Start List Team Scoring'!F124","v":0},{"$f":"'Start List Team Scoring'!G124","v":0},{"$f":"'Start List Team Scoring'!H124","v":0}]
[{"$f":"'Start List Team Scoring'!A125","v":114},{"$f":"'Start List Team Scoring'!B125","v":-1},{"$f":"'Start List Team Scoring'!C125","v":-1},{"$f":"'Start List Team Scoring'!D125","v":0},{"$f":"'Start List Team Scoring'!E125","v":0},{"$f":"'Start List Team Scoring'!F125","v":0},{"$f":"'Start List Team Scoring'!G125","v":0},{"$f":"'Start List Team Scoring'!H125","v":0}]
[{"$f":"'Start List Team Scoring'!A126","v":115},{"$f":"'Start List Team Scoring'!B126","v":-1},{"$f":"'Start List Team Scoring'!C126","v":-1},{"$f":"'Start List Team Scoring'!D126","v":0},{"$f":"'Start List Team Scoring'!E126","v":0},{"$f":"'Start List Team Scoring'!F126","v":0},{"$f":"'Start List Team Scoring'!G126","v":0},{"$f":"'Start List Team Scoring'!H126","v":0}]
[{"$f":"'Start List Team Scoring'!A127","v":116},{"$f":"'Start List Team Scoring'!B127","v":-1},{"$f":"'Start List Team Scoring'!C127","v":-1},{"$f":"'Start List Team Scoring'!D127","v":0},{"$f":"'Start List Team Scoring'!E127","v":0},{"$f":"'Start List Team Scoring'!F127","v":0},{"$f":"'Start List Team Scoring'!G127","v":0},{"$f":"'Start List Team Scoring'!H127","v":0}]
[{"$f":"'Start List Team Scoring'!A128","v":117},{"$f":"'Start List Team Scoring'!B128","v":-1},{"$f":"'Start List Team Scoring'!C128","v":-1},{"$f":"'Start List Team Scoring'!D128","v":0},{"$f":"'Start List Team Scoring'!E128","v":0},{"$f":"'Start List Team Scoring'!F128","v":0},{"$f":"'Start List Team Scoring'!G128","v":0},{"$f":"'Start List Team Scoring'!H128","v":0}]
[{"$f":"'Start List Team Scoring'!A129","v":118},{"$f":"'Start List Team Scoring'!B129","v":-1},{"$f":"'Start List Team Scoring'!C129","v":-1},{"$f":"'Start List Team Scoring'!D129","v":0},{"$f":"'Start List Team Scoring'!E129","v":0},{"$f":"'Start List Team Scoring'!F129","v":0},{"$f":"'Start List Team Scoring'!G129","v":0},{"$f":"'Start List Team Scoring'!H129","v":0}]
[{"$f":"'Start List Team Scoring'!A130","v":119},{"$f":"'Start List Team Scoring'!B130","v":-1},{"$f":"'Start List Team Scoring'!C130","v":-1},{"$f":"'Start List Team Scoring'!D130","v":0},{"$f":"'Start List Team Scoring'!E130","v":0},{"$f":"'Start List Team Scoring'!F130","v":0},{"$f":"'Start List Team Scoring'!G130","v":0},{"$f":"'Start List Team Scoring'!H130","v":0}]
[{"$f":"'Start List Team Scoring'!A131","v":120},{"$f":"'Start List Team Scoring'!B131","v":-1},{"$f":"'Start List Team Scoring'!C131","v":-1},{"$f":"'Start List Team Scoring'!D131","v":0},{"$f":"'Start List Team Scoring'!E131","v":0},{"$f":"'Start List Team Scoring'!F131","v":0},{"$f":"'Start List Team Scoring'!G131","v":0},{"$f":"'Start List Team Scoring'!H131","v":0}]
[{"$f":"'Start List Team Scoring'!A132","v":121},{"$f":"'Start List Team Scoring'!B132","v":-1},{"$f":"'Start List Team Scoring'!C132","v":-1},{"$f":"'Start List Team Scoring'!D132","v":0},{"$f":"'Start List Team Scoring'!E132","v":0},{"$f":"'Start List Team Scoring'!F132","v":0},{"$f":"'Start List Team Scoring'!G132","v":0},{"$f":"'Start List Team Scoring'!H132","v":0}]
[{"$f":"'Start List Team Scoring'!A133","v":122},{"$f":"'Start List Team Scoring'!B133","v":-1},{"$f":"'Start List Team Scoring'!C133","v":-1},{"$f":"'Start List Team Scoring'!D133","v":0},{"$f":"'Start List Team Scoring'!E133","v":0},{"$f":"'Start List Team Scoring'!F133","v":0},{"$f":"'Start List Team Scoring'!G133","v":0},{"$f":"'Start List Team Scoring'!H133","v":0}]
[{"$f":"'Start List Team Scoring'!A134","v":123},{"$f":"'Start List Team Scoring'!B134","v":-1},{"$f":"'Start List Team Scoring'!C134","v":-1},{"$f":"'Start List Team Scoring'!D134","v":0},{"$f":"'Start List Team Scoring'!E134","v":0},{"$f":"'Start List Team Scoring'!F134","v":0},{"$f":"'Start List Team Scoring'!G134","v":0},{"$f":"'Start List Team Scoring'!H134","v":0}]
[{"$f":"'Start List Team Scoring'!A135","v":124},{"$f":"'Start List Team Scoring'!B135","v":-1},{"$f":"'Start List Team Scoring'!C135","v":-1},{"$f":"'Start List Team Scoring'!D135","v":0},{"$f":"'Start List Team Scoring'!E135","v":0},{"$f":"'Start List Team Scoring'!F135","v":0},{"$f":"'Start List Team Scoring'!G135","v":0},{"$f":"'Start List Team Scoring'!H135","v":0}]
[{"$f":"'Start List Team Scoring'!A136","v":125},{"$f":"'Start List Team Scoring'!B136","v":-1},{"$f":"'Start List Team Scoring'!C136","v":-1},{"$f":"'Start List Team Scoring'!D136","v":0},{"$f":"'Start List Team Scoring'!E136","v":0},{"$f":"'Start List Team Scoring'!F136","v":0},{"$f":"'Start List Team Scoring'!G136","v":0},{"$f":"'Start List Team Scoring'!H136","v":0}]
[{"$f":"'Start List Team Scoring'!A137","v":126},{"$f":"'Start List Team Scoring'!B137","v":-1},{"$f":"'Start List Team Scoring'!C137","v":-1},{"$f":"'Start List Team Scoring'!D137","v":0},{"$f":"'Start List Team Scoring'!E137","v":0},{"$f":"'Start List Team Scoring'!F137","v":0},{"$f":"'Start List Team Scoring'!G137","v":0},{"$f":"'Start List Team Scoring'!H137","v":0}]
[{"$f":"'Start List Team Scoring'!A138","v":127},{"$f":"'Start List Team Scoring'!B138","v":-1},{"$f":"'Start List Team Scoring'!C138","v":-1},{"$f":"'Start List Team Scoring'!D138","v":0},{"$f":"'Start List Team Scoring'!E138","v":0},{"$f":"'Start List Team Scoring'!F138","v":0},{"$f":"'Start List Team Scoring'!G138","v":0},{"$f":"'Start List Team Scoring'!H138","v":0}]
[{"$f":"'Start List Team Scoring'!A139","v":128},{"$f":"'Start List Team Scoring'!B139","v":-1},{"$f":"'Start List Team Scoring'!C139","v":-1},{"$f":"'Start List Team Scoring'!D139","v":0},{"$f":"'Start List Team Scoring'!E139","v":0},{"$f":"'Start List Team Scoring'!F139","v":0},{"$f":"'Start List Team Scoring'!G139","v":0},{"$f":"'Start List Team Scoring'!H139","v":0}]
[{"$f":"'Start List Team Scoring'!A140","v":129},{"$f":"'Start List Team Scoring'!B140","v":-1},{"$f":"'Start List Team Scoring'!C140","v":-1},{"$f":"'Start List Team Scoring'!D140","v":0},{"$f":"'Start List Team Scoring'!E140","v":0},{"$f":"'Start List Team Scoring'!F140","v":0},{"$f":"'Start List Team Scoring'!G140","v":0},{"$f":"'Start List Team Scoring'!H140","v":0}]
[{"$f":"'Start List Team Scoring'!A141","v":130},{"$f":"'Start List Team Scoring'!B141","v":-1},{"$f":"'Start List Team Scoring'!C141","v":-1},{"$f":"'Start List Team Scoring'!D141","v":0},{"$f":"'Start List Team Scoring'!E141","v":0},{"$f":"'Start List Team Scoring'!F141","v":0},{"$f":"'Start List Team Scoring'!G141","v":0},{"$f":"'Start List Team Scoring'!H141","v":0}]
[{"$f":"'Start List Team Scoring'!A142","v":131},{"$f":"'Start List Team Scoring'!B142","v":-1},{"$f":"'Start List Team Scoring'!C142","v":-1},{"$f":"'Start List Team Scoring'!D142","v":0},{"$f":"'Start List Team Scoring'!E142","v":0},{"$f":"'Start List Team Scoring'!F142","v":0},{"$f":"'Start List Team Scoring'!G142","v":0},{"$f":"'Start List Team Scoring'!H142","v":0}]
[{"$f":"'Start List Team Scoring'!A143","v":132},{"$f":"'Start List Team Scoring'!B143","v":-1},{"$f":"'Start List Team Scoring'!C143","v":-1},{"$f":"'Start List Team Scoring'!D143","v":0},{"$f":"'Start List Team Scoring'!E143","v":0},{"$f":"'Start List Team Scoring'!F143","v":0},{"$f":"'Start List Team Scoring'!G143","v":0},{"$f":"'Start List Team Scoring'!H143","v":0}]
[{"$f":"'Start List Team Scoring'!A144","v":133},{"$f":"'Start List Team Scoring'!B144","v":-1},{"$f":"'Start List Team Scoring'!C144","v":-1},{"$f":"'Start List Team Scoring'!D144","v":0},{"$f":"'Start List Team Scoring'!E144","v":0},{"$f":"'Start List Team Scoring'!F144","v":0},{"$f":"'Start List Team Scoring'!G144","v":0},{"$f":"'Start List Team Scoring'!H144","v":0}]
[{"$f":"'Start List Team Scoring'!A145","v":134},{"$f":"'Start List Team Scoring'!B145","v":-1},{"$f":"'Start List Team Scoring'!C145","v":-1},{"$f":"'Start List Team Scoring'!D145","v":0},{"$f":"'Start List Team Scoring'!E145","v":0},{"$f":"'Start List Team Scoring'!F145","v":0},{"$f":"'Start List Team Scoring'!G145","v":0},{"$f":"'Start List Team Scoring'!H145","v":0}]
[{"$f":"'Start List Team Scoring'!A146","v":135},{"$f":"'Start List Team Scoring'!B146","v":-1},{"$f":"'Start List Team Scoring'!C146","v":-1},{"$f":"'Start List Team Scoring'!D146","v":0},{"$f":"'Start List Team Scoring'!E146","v":0},{"$f":"'Start List Team Scoring'!F146","v":0},{"$f":"'Start List Team Scoring'!G146","v":0},{"$f":"'Start List Team Scoring'!H146","v":0}]
[{"$f":"'Start List Team Scoring'!A147","v":136},{"$f":"'Start List Team Scoring'!B147","v":-1},{"$f":"'Start List Team Scoring'!C147","v":-1},{"$f":"'Start List Team Scoring'!D147","v":0},{"$f":"'Start List Team Scoring'!E147","v":0},{"$f":"'Start List Team Scoring'!F147","v":0},{"$f":"'Start List Team Scoring'!G147","v":0},{"$f":"'Start List Team Scoring'!H147","v":0}]
[{"$f":"'Start List Team Scoring'!A148","v":137},{"$f":"'Start List Team Scoring'!B148","v":-1},{"$f":"'Start List Team Scoring'!C148","v":-1},{"$f":"'Start List Team Scoring'!D148","v":0},{"$f":"'Start List Team Scoring'!E148","v":0},{"$f":"'Start List Team Scoring'!F148","v":0},{"$f":"'Start List Team Scoring'!G148","v":0},{"$f":"'Start List Team Scoring'!H148","v":0}]
[{"$f":"'Start List Team Scoring'!A149","v":138},{"$f":"'Start List Team Scoring'!B149","v":-1},{"$f":"'Start List Team Scoring'!C149","v":-1},{"$f":"'Start List Team Scoring'!D149","v":0},{"$f":"'Start List Team Scoring'!E149","v":0},{"$f":"'Start List Team Scoring'!F149","v":0},{"$f":"'Start List Team Scoring'!G149","v":0},{"$f":"'Start List Team Scoring'!H149","v":0}]
[{"$f":"'Start List Team Scoring'!A150","v":139},{"$f":"'Start List Team Scoring'!B150","v":-1},{"$f":"'Start List Team Scoring'!C150","v":-1},{"$f":"'Start List Team Scoring'!D150","v":0},{"$f":"'Start List Team Scoring'!E150","v":0},{"$f":"'Start List Team Scoring'!F150","v":0},{"$f":"'Start List Team Scoring'!G150","v":0},{"$f":"'Start List Team Scoring'!H150","v":0}]
[{"$f":"'Start List Team Scoring'!A151","v":140},{"$f":"'Start List Team Scoring'!B151","v":-1},{"$f":"'Start List Team Scoring'!C151","v":-1},{"$f":"'Start List Team Scoring'!D151","v":0},{"$f":"'Start List Team Scoring'!E151","v":0},{"$f":"'Start List Team Scoring'!F151","v":0},{"$f":"'Start List Team Scoring'!G151","v":0},{"$f":"'Start List Team Scoring'!H151","v":0}]
[{"$f":"'Start List Team Scoring'!A152","v":141},{"$f":"'Start List Team Scoring'!B152","v":-1},{"$f":"'Start List Team Scoring'!C152","v":-1},{"$f":"'Start List Team Scoring'!D152","v":0},{"$f":"'Start List Team Scoring'!E152","v":0},{"$f":"'Start List Team Scoring'!F152","v":0},{"$f":"'Start List Team Scoring'!G152","v":0},{"$f":"'Start List Team Scoring'!H152","v":0}]
[{"$f":"'Start List Team Scoring'!A153","v":142},{"$f":"'Start List Team Scoring'!B153","v":-1},{"$f":"'Start List Team Scoring'!C153","v":-1},{"$f":"'Start List Team Scoring'!D153","v":0},{"$f":"'Start List Team Scoring'!E153","v":0},{"$f":"'Start List Team Scoring'!F153","v":0},{"$f":"'Start List Team Scoring'!G153","v":0},{"$f":"'Start List Team Scoring'!H153","v":0}]
[{"$f":"'Start List Team Scoring'!A154","v":143},{"$f":"'Start List Team Scoring'!B154","v":-1},{"$f":"'Start List Team Scoring'!C154","v":-1},{"$f":"'Start List Team Scoring'!D154","v":0},{"$f":"'Start List Team Scoring'!E154","v":0},{"$f":"'Start List Team Scoring'!F154","v":0},{"$f":"'Start List Team Scoring'!G154","v":0},{"$f":"'Start List Team Scoring'!H154","v":0}]
[{"$f":"'Start List Team Scoring'!A155","v":144},{"$f":"'Start List Team Scoring'!B155","v":-1},{"$f":"'Start List Team Scoring'!C155","v":-1},{"$f":"'Start List Team Scoring'!D155","v":0},{"$f":"'Start List Team Scoring'!E155","v":0},{"$f":"'Start List Team Scoring'!F155","v":0},{"$f":"'Start List Team Scoring'!G155","v":0},{"$f":"'Start List Team Scoring'!H155","v":0}]
[{"$f":"'Start List Team Scoring'!A156","v":145},{"$f":"'Start List Team Scoring'!B156","v":-1},{"$f":"'Start List Team Scoring'!C156","v":-1},{"$f":"'Start List Team Scoring'!D156","v":0},{"$f":"'Start List Team Scoring'!E156","v":0},{"$f":"'Start List Team Scoring'!F156","v":0},{"$f":"'Start List Team Scoring'!G156","v":0},{"$f":"'Start List Team Scoring'!H156","v":0}]
[{"$f":"'Start List Team Scoring'!A157","v":146},{"$f":"'Start List Team Scoring'!B157","v":-1},{"$f":"'Start List Team Scoring'!C157","v":-1},{"$f":"'Start List Team Scoring'!D157","v":0},{"$f":"'Start List Team Scoring'!E157","v":0},{"$f":"'Start List Team Scoring'!F157","v":0},{"$f":"'Start List Team Scoring'!G157","v":0},{"$f":"'Start List Team Scoring'!H157","v":0}]
[{"$f":"'Start List Team Scoring'!A158","v":147},{"$f":"'Start List Team Scoring'!B158","v":-1},{"$f":"'Start List Team Scoring'!C158","v":-1},{"$f":"'Start List Team Scoring'!D158","v":0},{"$f":"'Start List Team Scoring'!E158","v":0},{"$f":"'Start List Team Scoring'!F158","v":0},{"$f":"'Start List Team Scoring'!G158","v":0},{"$f":"'Start List Team Scoring'!H158","v":0}]
[{"$f":"'Start List Team Scoring'!A159","v":148},{"$f":"'Start List Team Scoring'!B159","v":-1},{"$f":"'Start List Team Scoring'!C159","v":-1},{"$f":"'Start List Team Scoring'!D159","v":0},{"$f":"'Start List Team Scoring'!E159","v":0},{"$f":"'Start List Team Scoring'!F159","v":0},{"$f":"'Start List Team Scoring'!G159","v":0},{"$f":"'Start List Team Scoring'!H159","v":0}]
[{"$f":"'Start List Team Scoring'!A160","v":149},{"$f":"'Start List Team Scoring'!B160","v":-1},{"$f":"'Start List Team Scoring'!C160","v":-1},{"$f":"'Start List Team Scoring'!D160","v":0},{"$f":"'Start List Team Scoring'!E160","v":0},{"$f":"'Start List Team Scoring'!F160","v":0},{"$f":"'Start List Team Scoring'!G160","v":0},{"$f":"'Start List Team Scoring'!H160","v":0}]
[{"$f":"'Start List Team Scoring'!A161","v":150},{"$f":"'Start List Team Scoring'!B161","v":-1},{"$f":"'Start List Team Scoring'!C161","v":-1},{"$f":"'Start List Team Scoring'!D161","v":0},{"$f":"'Start List Team Scoring'!E161","v":0},{"$f":"'Start List Team Scoring'!F161","v":0},{"$f":"'Start List Team Scoring'!G161","v":0},{"$f":"'Start List Team Scoring'!H161","v":0}]
[{"$f":"'Start List Team Scoring'!A162","v":151},{"$f":"'Start List Team Scoring'!B162","v":-1},{"$f":"'Start List Team Scoring'!C162","v":-1},{"$f":"'Start List Team Scoring'!D162","v":0},{"$f":"'Start List Team Scoring'!E162","v":0},{"$f":"'Start List Team Scoring'!F162","v":0},{"$f":"'Start List Team Scoring'!G162","v":0},{"$f":"'Start List Team Scoring'!H162","v":0}]
[{"$f":"'Start List Team Scoring'!A163","v":152},{"$f":"'Start List Team Scoring'!B163","v":-1},{"$f":"'Start List Team Scoring'!C163","v":-1},{"$f":"'Start List Team Scoring'!D163","v":0},{"$f":"'Start List Team Scoring'!E163","v":0},{"$f":"'Start List Team Scoring'!F163","v":0},{"$f":"'Start List Team Scoring'!G163","v":0},{"$f":"'Start List Team Scoring'!H163","v":0}]
[{"$f":"'Start List Team Scoring'!A164","v":153},{"$f":"'Start List Team Scoring'!B164","v":-1},{"$f":"'Start List Team Scoring'!C164","v":-1},{"$f":"'Start List Team Scoring'!D164","v":0},{"$f":"'Start List Team Scoring'!E164","v":0},{"$f":"'Start List Team Scoring'!F164","v":0},{"$f":"'Start List Team Scoring'!G164","v":0},{"$f":"'Start List Team Scoring'!H164","v":0}]
[{"$f":"'Start List Team Scoring'!A165","v":154},{"$f":"'Start List Team Scoring'!B165","v":-1},{"$f":"'Start List Team Scoring'!C165","v":-1},{"$f":"'Start List Team Scoring'!D165","v":0},{"$f":"'Start List Team Scoring'!E165","v":0},{"$f":"'Start List Team Scoring'!F165","v":0},{"$f":"'Start List Team Scoring'!G165","v":0},{"$f":"'Start List Team Scoring'!H165","v":0}]
[{"$f":"'Start List Team Scoring'!A166","v":155},{"$f":"'Start List Team Scoring'!B166","v":-1},{"$f":"'Start List Team Scoring'!C166","v":-1},{"$f":"'Start List Team Scoring'!D166","v":0},{"$f":"'Start List Team Scoring'!E166","v":0},{"$f":"'Start List Team Scoring'!F166","v":0},{"$f":"'Start List Team Scoring'!G166","v":0},{"$f":"'Start List Team Scoring'!H166","v":0}]
[{"$f":"'Start List Team Scoring'!A167","v":156},{"$f":"'Start List Team Scoring'!B167","v":-1},{"$f":"'Start List Team Scoring'!C167","v":-1},{"$f":"'Start List Team Scoring'!D167","v":0},{"$f":"'Start List Team Scoring'!E167","v":0},{"$f":"'Start List Team Scoring'!F167","v":0},{"$f":"'Start List Team Scoring'!G167","v":0},{"$f":"'Start List Team Scoring'!H167","v":0}]

{"sheet":"Placing by Gender","index":3,"n_rows":162,"n_cols":9,"rows_kept":162,"cut":false,"hidden":false,"merged":[[3,5,3,7]]}
[{"$f":"'Start List Team Scoring'!A2","v":"AOS Druxy's Master Race League - HOST TEAM, DATE OF RACE"}]
["Individual Placing by Gender"]
["(sort by M/F then Best Run)"]
[null,null,null,null,null,"TIME (seconds) or DNS, DNF, DQ"]
["BIB#","NAME","AGE","M/F","TEAM","1ST RUN","2ND RUN","BEST RUN","Place"]
[]
[{"$f":"'Start List Team Scoring'!A12","v":1},{"$f":"'Start List Team Scoring'!E12","v":"Margaret-Anne Gold *"},{"$f":"'Start List Team Scoring'!F12","v":"65-69"},{"$f":"'Start List Team Scoring'!G12","v":"F"},{"$f":"'Start List Team Scoring'!H12","v":"TDG"},{"$f":"'Start List Team Scoring'!I12","v":"DNS"},{"$f":"'Start List Team Scoring'!J12","v":"DNS"},{"$f":"'Start List Team Scoring'!K12","v":0},{"$f":"IF(D7=D6,IF(H7<>0,IF(I6=\"\",1,I6+1),\"\"),IF(H7<>0,1,\"\"))","v":""}]
[{"$f":"'Start List Team Scoring'!A13","v":2},{"$f":"'Start List Team Scoring'!E13","v":"Patricia Bain"},{"$f":"'Start List Team Scoring'!F13","v":"65-69"},{"$f":"'Start List Team Scoring'!G13","v":"F"},{"$f":"'Start List Team Scoring'!H13","v":"TDG"},{"$f":"'Start List Team Scoring'!I13","v":48.24},{"$f":"'Start List Team Scoring'!J13","v":"DNS"},{"$f":"'Start List Team Scoring'!K13","v":48.24},1]
[{"$f":"'Start List Team Scoring'!A14","v":3},{"$f":"'Start List Team Scoring'!E14","v":"Jane Willson"},{"$f":"'Start List Team Scoring'!F14","v":"60-64"},{"$f":"'Start List Team Scoring'!G14","v":"F"},{"$f":"'Start List Team Scoring'!H14","v":"GP"},{"$f":"'Start List Team Scoring'!I14","v":39.03},{"$f":"'Start List Team Scoring'!J14","v":39.29},{"$f":"'Start List Team Scoring'!K14","v":39.03},2]
[{"$f":"'Start List Team Scoring'!A15","v":4},{"$f":"'Start List Team Scoring'!E15","v":"Sharon Regan"},{"$f":"'Start List Team Scoring'!F15","v":"60-64"},{"$f":"'Start List Team Scoring'!G15","v":"F"},{"$f":"'Start List Team Scoring'!H15","v":"CAL"},{"$f":"'Start List Team Scoring'!I15","v":39.53},{"$f":"'Start List Team Scoring'!J15","v":40.729999999999997},{"$f":"'Start List Team Scoring'!K15","v":39.53},3]
[{"$f":"'Start List Team Scoring'!A16","v":5},{"$f":"'Start List Team Scoring'!E16","v":"Ken Lackner"},{"$f":"'Start List Team Scoring'!F16","v":"75-79"},{"$f":"'Start List Team Scoring'!G16","v":"M"},{"$f":"'Start List Team Scoring'!H16","v":"ALP"},{"$f":"'Start List Team Scoring'!I16","v":37.61},{"$f":"'Start List Team Scoring'!J16","v":"DNS"},{"$f":"'Start List Team Scoring'!K16","v":37.61},1]
[{"$f":"'Start List Team Scoring'!A17","v":8},{"$f":"'Start List Team Scoring'!E17","v":"Geoff Lowe"},{"$f":"'Start List Team Scoring'!F17","v":"75-79"},{"$f":"'Start List Team Scoring'!G17","v":"M"},{"$f":"'Start List Team Scoring'!H17","v":"GP"},{"$f":"'Start List Team Scoring'!I17","v":38.01},{"$f":"'Start List Team Scoring'!J17","v":888},{"$f":"'Start List Team Scoring'!K17","v":38.01},2]
[{"$f":"'Start List Team Scoring'!A18","v":6},{"$f":"'Start List Team Scoring'!E18","v":"Gene Kinoshita"},{"$f":"'Start List Team Scoring'!F18","v":"75-79"},{"$f":"'Start List Team Scoring'!G18","v":"M"},{"$f":"'Start List Team Scoring'!H18","v":"GP"},{"$f":"'Start List Team Scoring'!I18","v":38.479999999999997},{"$f":"'Start List Team Scoring'!J18","v":888},{"$f":"'Start List Team Scoring'!K18","v":38.479999999999997},3]
[{"$f":"'Start List Team Scoring'!A19","v":7},{"$f":"'Start List Team Scoring'!E19","v":"John Hethrington"},{"$f":"'Start List Team Scoring'!F19","v":"75-79"},{"$f":"'Start List Team Scoring'!G19","v":"M"},{"$f":"'Start List Team Scoring'!H19","v":"GP"},{"$f":"'Start List Team Scoring'!I19","v":70.040000000000006},{"$f":"'Start List Team Scoring'!J19","v":"DNS"},{"$f":"'Start List Team Scoring'!K19","v":70.040000000000006},4]
[{"$f":"'Start List Team Scoring'!A20","v":13},{"$f":"'Start List Team Scoring'!E20","v":"Gerry Young"},{"$f":"'Start List Team Scoring'!F20","v":"70-74"},{"$f":"'Start List Team Scoring'!G20","v":"M"},{"$f":"'Start List Team Scoring'!H20","v":"GP"},{"$f":"'Start List Team Scoring'!I20","v":"DNS"},{"$f":"'Start List Team Scoring'!J20","v":"DNS"},{"$f":"'Start List Team Scoring'!K20","v":0},""]
[{"$f":"'Start List Team Scoring'!A21","v":11},{"$f":"'Start List Team Scoring'!E21","v":"Heinz Grossmann "},{"$f":"'Start List Team Scoring'!F21","v":"70-74"},{"$f":"'Start List Team Scoring'!G21","v":"M"},{"$f":"'Start List Team Scoring'!H21","v":"GP"},{"$f":"'Start List Team Scoring'!I21","v":999},{"$f":"'Start List Team Scoring'!J21","v":31.06},{"$f":"'Start List Team Scoring'!K21","v":31.06},1]
[{"$f":"'Start List Team Scoring'!A22","v":12},{"$f":"'Start List Team Scoring'!E22","v":"Peter Pusitz"},{"$f":"'Start List Team Scoring'!F22","v":"70-74"},{"$f":"'Start List Team Scoring'!G22","v":"M"},{"$f":"'Start List Team Scoring'!H22","v":"CAL"},{"$f":"'Start List Team Scoring'!I22","v":36.380000000000003},{"$f":"'Start List Team Scoring'!J22","v":39.46},{"$f":"'Start List Team Scoring'!K22","v":36.380000000000003},2]
[{"$f":"'Start List Team Scoring'!A23","v":9},{"$f":"'Start List Team Scoring'!E23","v":"Rudy Berrang"},{"$f":"'Start List Team Scoring'!F23","v":"70-74"},{"$f":"'Start List Team Scoring'!G23","v":"M"},{"$f":"'Start List Team Scoring'!H23","v":"ALP"},{"$f":"'Start List Team Scoring'!I23","v":37.58},{"$f":"'Start List Team Scoring'!J23","v":"DNS"},{"$f":"'Start List Team Scoring'!K23","v":37.58},3]
[{"$f":"'Start List Team Scoring'!A24","v":10},{"$f":"'Start List Team Scoring'!E24","v":"Thomas Bain"},{"$f":"'Start List Team Scoring'!F24","v":"70-74"},{"$f":"'Start List Team Scoring'!G24","v":"M"},{"$f":"'Start List Team Scoring'!H24","v":"TDG"},{"$f":"'Start List Team Scoring'!I24","v":44.77},{"$f":"'Start List Team Scoring'!J24","v":48.19},{"$f":"'Start List Team Scoring'!K24","v":44.77},4]
[{"$f":"'Start List Team Scoring'!A25","v":16},{"$f":"'Start List Team Scoring'!E25","v":"Brenda Tweel"},{"$f":"'Start List Team Scoring'!F25","v":"55-59"},{"$f":"'Start List Team Scoring'!G25","v":"F"},{"$f":"'Start List Team Scoring'!H25","v":"CAL"},{"$f":"'Start List Team Scoring'!I25","v":"DNS"},{"$f":"'Start List Team Scoring'!J25","v":"DNS"},{"$f":"'Start List Team Scoring'!K25","v":0},""]
[{"$f":"'Start List Team Scoring'!A26","v":17},{"$f":"'Start List Team Scoring'!E26","v":"Mary Ferguson"},{"$f":"'Start List Team Scoring'!F26","v":"55-59"},{"$f":"'Start List Team Scoring'!G26","v":"F"},{"$f":"'Start List Team Scoring'!H26","v":"TDG"},{"$f":"'Start List Team Scoring'!I26","v":"DNS"},{"$f":"'Start List Team Scoring'!J26","v":"DNS"},{"$f":"'Start List Team Scoring'!K26","v":0},""]
[{"$f":"'Start List Team Scoring'!A27","v":15},{"$f":"'Start List Team Scoring'!E27","v":"Heather Morris Lawler"},{"$f":"'Start List Team Scoring'!F27","v":"55-59"},{"$f":"'Start List Team Scoring'!G27","v":"F"},{"$f":"'Start List Team Scoring'!H27","v":"GP"},{"$f":"'Start List Team Scoring'!I27","v":35.06},{"$f":"'Start List Team Scoring'!J27","v":35.549999999999997},{"$f":"'Start List Team Scoring'!K27","v":35.06},1]
[{"$f":"'Start List Team Scoring'!A28","v":14},{"$f":"'Start List Team Scoring'!E28","v":"Lee Anne Underwood"},{"$f":"'Start List Team Scoring'!F28","v":"55-59"},{"$f":"'Start List Team Scoring'!G28","v":"F"},{"$f":"'Start List Team Scoring'!H28","v":"TDG"},{"$f":"'Start List Team Scoring'!I28","v":35.590000000000003},{"$f":"'Start List Team Scoring'!J28","v":36.64},{"$f":"'Start List Team Scoring'!K28","v":35.590000000000003},2]
[{"$f":"'Start List Team Scoring'!A29","v":20},{"$f":"'Start List Team Scoring'!E29","v":"Patricia Butler"},{"$f":"'Start List Team Scoring'!F29","v":"50-54"},{"$f":"'Start List Team Scoring'!G29","v":"F"},{"$f":"'Start List Team Scoring'!H29","v":"TDG"},{"$f":"'Start List Team Scoring'!I29","v":"DNS"},{"$f":"'Start List Team Scoring'!J29","v":"DNS"},{"$f":"'Start List Team Scoring'!K29","v":0},""]
[{"$f":"'Start List Team Scoring'!A30","v":23},{"$f":"'Start List Team Scoring'!E30","v":"Tiana Boyman"},{"$f":"'Start List Team Scoring'!F30","v":"50-54"},{"$f":"'Start List Team Scoring'!G30","v":"F"},{"$f":"'Start List Team Scoring'!H30","v":"CRA"},{"$f":"'Start List Team Scoring'!I30","v":"DNS"},{"$f":"'Start List Team Scoring'!J30","v":"DNS"},{"$f":"'Start List Team Scoring'!K30","v":0},""]
[{"$f":"'Start List Team Scoring'!A31","v":21},{"$f":"'Start List Team Scoring'!E31","v":"Tracey Granger"},{"$f":"'Start List Team Scoring'!F31","v":"50-54"},{"$f":"'Start List Team Scoring'!G31","v":"F"},{"$f":"'Start List Team Scoring'!H31","v":"GP"},{"$f":"'Start List Team Scoring'!I31","v":30.24},{"$f":"'Start List Team Scoring'!J31","v":888},{"$f":"'Start List Team Scoring'!K31","v":30.24},1]
[{"$f":"'Start List Team Scoring'!A32","v":18},{"$f":"'Start List Team Scoring'!E32","v":"Daina Dunlop"},{"$f":"'Start List Team Scoring'!F32","v":"50-54"},{"$f":"'Start List Team Scoring'!G32","v":"F"},{"$f":"'Start List Team Scoring'!H32","v":"CRA"},{"$f":"'Start List Team Scoring'!I32","v":32.86},{"$f":"'Start List Team Scoring'!J32","v":32.979999999999997},{"$f":"'Start List Team Scoring'!K32","v":32.86},2]
[{"$f":"'Start List Team Scoring'!A33","v":19},{"$f":"'Start List Team Scoring'!E33","v":"Sydney Graham"},{"$f":"'Start List Team Scoring'!F33","v":"50-54"},{"$f":"'Start List Team Scoring'!G33","v":"F"},{"$f":"'Start List Team Scoring'!H33","v":"ALP"},{"$f":"'Start List Team Scoring'!I33","v":36.630000000000003},{"$f":"'Start List Team Scoring'!J33","v":37.21},{"$f":"'Start List Team Scoring'!K33","v":36.630000000000003},3]
[{"$f":"'Start List Team Scoring'!A34","v":22},{"$f":"'Start List Team Scoring'!E34","v":"Judy Donaldson"},{"$f":"'Start List Team Scoring'!F34","v":"50-54"},{"$f":"'Start List Team Scoring'!G34","v":"F"},{"$f":"'Start List Team Scoring'!H34","v":"CAL"},{"$f":"'Start List Team Scoring'!I34","v":999},{"$f":"'Start List Team Scoring'!J34","v":38.53},{"$f":"'Start List Team Scoring'!K34","v":38.53},4]
[{"$f":"'Start List Team Scoring'!A35","v":24},{"$f":"'Start List Team Scoring'!E35","v":"Doug Goodall"},{"$f":"'Start List Team Scoring'!F35","v":"65-69"},{"$f":"'Start List Team Scoring'!G35","v":"M"},{"$f":"'Start List Team Scoring'!H35","v":"TDG"},{"$f":"'Start List Team Scoring'!I35","v":42.53},{"$f":"'Start List Team Scoring'!J35","v":"DNS"},{"$f":"'Start List Team Scoring'!K35","v":42.53},1]
[{"$f":"'Start List Team Scoring'!A36","v":28},{"$f":"'Start List Team Scoring'!E36","v":"Chris Sadler"},{"$f":"'Start List Team Scoring'!F36","v":"60-64"},{"$f":"'Start List Team Scoring'!G36","v":"M"},{"$f":"'Start List Team Scoring'!H36","v":"GP"},{"$f":"'Start List Team Scoring'!I36","v":"DNS"},{"$f":"'Start List Team Scoring'!J36","v":"DNS"},{"$f":"'Start List Team Scoring'!K36","v":0},""]
[{"$f":"'Start List Team Scoring'!A37","v":31},{"$f":"'Start List Team Scoring'!E37","v":"Chuck Reynolds *"},{"$f":"'Start List Team Scoring'!F37","v":"60-64"},{"$f":"'Start List Team Scoring'!G37","v":"M"},{"$f":"'Start List Team Scoring'!H37","v":"TDG"},{"$f":"'Start List Team Scoring'!I37","v":"DNS"},{"$f":"'Start List Team Scoring'!J37","v":"DNS"},{"$f":"'Start List Team Scoring'!K37","v":0},""]
[{"$f":"'Start List Team Scoring'!A38","v":32},{"$f":"'Start List Team Scoring'!E38","v":"Boyd Van Allen"},{"$f":"'Start List Team Scoring'!F38","v":"60-64"},{"$f":"'Start List Team Scoring'!G38","v":"M"},{"$f":"'Start List Team Scoring'!H38","v":"GP"},{"$f":"'Start List Team Scoring'!I38","v":"DNS"},{"$f":"'Start List Team Scoring'!J38","v":"DNS"},{"$f":"'Start List Team Scoring'!K38","v":0},""]
[{"$f":"'Start List Team Scoring'!A39","v":29},{"$f":"'Start List Team Scoring'!E39","v":"Ralph Ferguson"},{"$f":"'Start List Team Scoring'!F39","v":"60-64"},{"$f":"'Start List Team Scoring'!G39","v":"M"},{"$f":"'Start List Team Scoring'!H39","v":"CAL"},{"$f":"'Start List Team Scoring'!I39","v":27.36},{"$f":"'Start List Team Scoring'!J39","v":888},{"$f":"'Start List Team Scoring'!K39","v":27.36},1]
[{"$f":"'Start List Team Scoring'!A40","v":33},{"$f":"'Start List Team Scoring'!E40","v":"Grant Willson"},{"$f":"'Start List Team Scoring'!F40","v":"60-64"},{"$f":"'Start List Team Scoring'!G40","v":"M"},{"$f":"'Start List Team Scoring'!H40","v":"GP"},{"$f":"'Start List Team Scoring'!I40","v":28.22},{"$f":"'Start List Team Scoring'!J40","v":28.41},{"$f":"'Start List Team Scoring'!K40","v":28.22},2]
[{"$f":"'Start List Team Scoring'!A41","v":30},{"$f":"'Start List Team Scoring'!E41","v":"Chris Clark"},{"$f":"'Start List Team Scoring'!F41","v":"60-64"},{"$f":"'Start List Team Scoring'!G41","v":"M"},{"$f":"'Start List Team Scoring'!H41","v":"CRA"},{"$f":"'Start List Team Scoring'!I41","v":31.3},{"$f":"'Start List Team Scoring'!J41","v":31.81},{"$f":"'Start List Team Scoring'!K41","v":31.3},3]
[{"$f":"'Start List Team Scoring'!A42","v":25},{"$f":"'Start List Team Scoring'!E42","v":"Paul Woodhouse"},{"$f":"'Start List Team Scoring'!F42","v":"60-64"},{"$f":"'Start List Team Scoring'!G42","v":"M"},{"$f":"'Start List Team Scoring'!H42","v":"CRA"},{"$f":"'Start List Team Scoring'!I42","v":888},{"$f":"'Start List Team Scoring'!J42","v":32.72},{"$f":"'Start List Team Scoring'!K42","v":32.72},4]
[{"$f":"'Start List Team Scoring'!A43","v":27},{"$f":"'Start List Team Scoring'!E43","v":"James Peacock"},{"$f":"'Start List Team Scoring'!F43","v":"60-64"},{"$f":"'Start List Team Scoring'!G43","v":"M"},{"$f":"'Start List Team Scoring'!H43","v":"TDG"},{"$f":"'Start List Team Scoring'!I43","v":33.090000000000003},{"$f":"'Start List Team Scoring'!J43","v":33.049999999999997},{"$f":"'Start List Team Scoring'!K43","v":33.049999999999997},5]
[{"$f":"'Start List Team Scoring'!A44","v":26},{"$f":"'Start List Team Scoring'!E44","v":"Tony Petrella"},{"$f":"'Start List Team Scoring'!F44","v":"60-64"},{"$f":"'Start List Team Scoring'!G44","v":"M"},{"$f":"'Start List Team Scoring'!H44","v":"ALP"},{"$f":"'Start List Team Scoring'!I44","v":33.29},{"$f":"'Start List Team Scoring'!J44","v":34.06},{"$f":"'Start List Team Scoring'!K44","v":33.29},{"$f":"IF(D39=D38,IF(H39<>0,IF(I38=\"\",1,I38+1),\"\"),IF(H39<>0,1,\"\"))","v":6}]
[{"$f":"'Start List Team Scoring'!A45","v":34},{"$f":"'Start List Team Scoring'!E45","v":"Barbara Fydell"},{"$f":"'Start List Team Scoring'!F45","v":"45-49"},{"$f":"'Start List Team Scoring'!G45","v":"F"},{"$f":"'Start List Team Scoring'!H45","v":"TDG"},{"$f":"'Start List Team Scoring'!I45","v":"DNS"},{"$f":"'Start List Team Scoring'!J45","v":"DNS"},{"$f":"'Start List Team Scoring'!K45","v":0},""]
[{"$f":"'Start List Team Scoring'!A46","v":37},{"$f":"'Start List Team Scoring'!E46","v":"Michael Gagnon"},{"$f":"'Start List Team Scoring'!F46","v":"55-59"},{"$f":"'Start List Team Scoring'!G46","v":"M"},{"$f":"'Start List Team Scoring'!H46","v":"TDG"},{"$f":"'Start List Team Scoring'!I46","v":"DNS"},{"$f":"'Start List Team Scoring'!J46","v":"DNS"},{"$f":"'Start List Team Scoring'!K46","v":0},""]
[{"$f":"'Start List Team Scoring'!A47","v":45},{"$f":"'Start List Team Scoring'!E47","v":"Steve Dryden"},{"$f":"'Start List Team Scoring'!F47","v":"55-59"},{"$f":"'Start List Team Scoring'!G47","v":"M"},{"$f":"'Start List Team Scoring'!H47","v":"TDG"},{"$f":"'Start List Team Scoring'!I47","v":"DNS"},{"$f":"'Start List Team Scoring'!J47","v":"DNS"},{"$f":"'Start List Team Scoring'!K47","v":0},""]
[{"$f":"'Start List Team Scoring'!A48","v":35},{"$f":"'Start List Team Scoring'!E48","v":"Jeff Sutherland"},{"$f":"'Start List Team Scoring'!F48","v":"55-59"},{"$f":"'Start List Team Scoring'!G48","v":"M"},{"$f":"'Start List Team Scoring'!H48","v":"CRA"},{"$f":"'Start List Team Scoring'!I48","v":25.77},{"$f":"'Start List Team Scoring'!J48","v":25.31},{"$f":"'Start List Team Scoring'!K48","v":25.31},1]
[{"$f":"'Start List Team Scoring'!A49","v":38},{"$f":"'Start List Team Scoring'!E49","v":"Mike Duder"},{"$f":"'Start List Team Scoring'!F49","v":"55-59"},{"$f":"'Start List Team Scoring'!G49","v":"M"},{"$f":"'Start List Team Scoring'!H49","v":"GP"},{"$f":"'Start List Team Scoring'!I49","v":27.34},{"$f":"'Start List Team Scoring'!J49","v":27.27},{"$f":"'Start List Team Scoring'!K49","v":27.27},2]
[{"$f":"'Start List Team Scoring'!A50","v":43},{"$f":"'Start List Team Scoring'!E50","v":"Peter Owen"},{"$f":"'Start List Team Scoring'!F50","v":"55-59"},{"$f":"'Start List Team Scoring'!G50","v":"M"},{"$f":"'Start List Team Scoring'!H50","v":"GP"},{"$f":"'Start List Team Scoring'!I50","v":27.94},{"$f":"'Start List Team Scoring'!J50","v":27.62},{"$f":"'Start List Team Scoring'!K50","v":27.62},3]
[{"$f":"'Start List Team Scoring'!A51","v":40},{"$f":"'Start List Team Scoring'!E51","v":"Chris Fregren"},{"$f":"'Start List Team Scoring'!F51","v":"55-59"},{"$f":"'Start List Team Scoring'!G51","v":"M"},{"$f":"'Start List Team Scoring'!H51","v":"CRA"},{"$f":"'Start List Team Scoring'!I51","v":28.5},{"$f":"'Start List Team Scoring'!J51","v":28.04},{"$f":"'Start List Team Scoring'!K51","v":28.04},4]
[{"$f":"'Start List Team Scoring'!A52","v":39},{"$f":"'Start List Team Scoring'!E52","v":"Paul Montgomery"},{"$f":"'Start List Team Scoring'!F52","v":"55-59"},{"$f":"'Start List Team Scoring'!G52","v":"M"},{"$f":"'Start List Team Scoring'!H52","v":"CAL"},{"$f":"'Start List Team Scoring'!I52","v":28.2},{"$f":"'Start List Team Scoring'!J52","v":32.020000000000003},{"$f":"'Start List Team Scoring'!K52","v":28.2},5]
[{"$f":"'Start List Team Scoring'!A53","v":36},{"$f":"'Start List Team Scoring'!E53","v":"Peter Coward"},{"$f":"'Start List Team Scoring'!F53","v":"55-59"},{"$f":"'Start List Team Scoring'!G53","v":"M"},{"$f":"'Start List Team Scoring'!H53","v":"ALP"},{"$f":"'Start List Team Scoring'!I53","v":28.68},{"$f":"'Start List Team Scoring'!J53","v":28.68},{"$f":"'Start List Team Scoring'!K53","v":28.68},6]
[{"$f":"'Start List Team Scoring'!A54","v":42},{"$f":"'Start List Team Scoring'!E54","v":"Patrick Lee"},{"$f":"'Start List Team Scoring'!F54","v":"55-59"},{"$f":"'Start List Team Scoring'!G54","v":"M"},{"$f":"'Start List Team Scoring'!H54","v":"TDG"},{"$f":"'Start List Team Scoring'!I54","v":32.270000000000003},{"$f":"'Start List Team Scoring'!J54","v":32.85},{"$f":"'Start List Team Scoring'!K54","v":32.270000000000003},7]
[{"$f":"'Start List Team Scoring'!A55","v":41},{"$f":"'Start List Team Scoring'!E55","v":"Gary Solway"},{"$f":"'Start List Team Scoring'!F55","v":"55-59"},{"$f":"'Start List Team Scoring'!G55","v":"M"},{"$f":"'Start List Team Scoring'!H55","v":"ALP"},{"$f":"'Start List Team Scoring'!I55","v":32.92},{"$f":"'Start List Team Scoring'!J55","v":32.36},{"$f":"'Start List Team Scoring'!K55","v":32.36},8]
[{"$f":"'Start List Team Scoring'!A56","v":44},{"$f":"'Start List Team Scoring'!E56","v":"Ron Perryman"},{"$f":"'Start List Team Scoring'!F56","v":"55-59"},{"$f":"'Start List Team Scoring'!G56","v":"M"},{"$f":"'Start List Team Scoring'!H56","v":"TDG"},{"$f":"'Start List Team Scoring'!I56","v":33.9},{"$f":"'Start List Team Scoring'!J56","v":888},{"$f":"'Start List Team Scoring'!K56","v":33.9},9]
[{"$f":"'Start List Team Scoring'!A57","v":56},{"$f":"'Start List Team Scoring'!E57","v":"Rob Muru"},{"$f":"'Start List Team Scoring'!F57","v":"50-54"},{"$f":"'Start List Team Scoring'!G57","v":"M"},{"$f":"'Start List Team Scoring'!H57","v":"CAL"},{"$f":"'Start List Team Scoring'!I57","v":"DNS"},{"$f":"'Start List Team Scoring'!J57","v":"DNS"},{"$f":"'Start List Team Scoring'!K57","v":0},""]
[{"$f":"'Start List Team Scoring'!A58","v":58},{"$f":"'Start List Team Scoring'!E58","v":"Rob Nogas"},{"$f":"'Start List Team Scoring'!F58","v":"50-54"},{"$f":"'Start List Team Scoring'!G58","v":"M"},{"$f":"'Start List Team Scoring'!H58","v":"TDG"},{"$f":"'Start List Team Scoring'!I58","v":"DNS"},{"$f":"'Start List Team Scoring'!J58","v":"DNS"},{"$f":"'Start List Team Scoring'!K58","v":0},""]
[{"$f":"'Start List Team Scoring'!A59","v":61},{"$f":"'Start List Team Scoring'!E59","v":"John Stafford"},{"$f":"'Start List Team Scoring'!F59","v":"50-54"},{"$f":"'Start List Team Scoring'!G59","v":"M"},{"$f":"'Start List Team Scoring'!H59","v":"TDG"},{"$f":"'Start List Team Scoring'!I59","v":"DNS"},{"$f":"'Start List Team Scoring'!J59","v":"DNS"},{"$f":"'Start List Team Scoring'!K59","v":0},""]
[{"$f":"'Start List Team Scoring'!A60","v":64},{"$f":"'Start List Team Scoring'!E60","v":"Thomas Kochuta *"},{"$f":"'Start List Team Scoring'!F60","v":"50-54"},{"$f":"'Start List Team Scoring'!G60","v":"M"},{"$f":"'Start List Team Scoring'!H60","v":"TDG"},{"$f":"'Start List Team Scoring'!I60","v":"DNS"},{"$f":"'Start List Team Scoring'!J60","v":"DNS"},{"$f":"'Start List Team Scoring'!K60","v":0},""]
[{"$f":"'Start List Team Scoring'!A61","v":48},{"$f":"'Start List Team Scoring'!E61","v":"Chris Samis"},{"$f":"'Start List Team Scoring'!F61","v":"50-54"},{"$f":"'Start List Team Scoring'!G61","v":"M"},{"$f":"'Start List Team Scoring'!H61","v":"TDG"},{"$f":"'Start List Team Scoring'!I61","v":25.34},{"$f":"'Start List Team Scoring'!J61","v":26.24},{"$f":"'Start List Team Scoring'!K61","v":25.34},1]
[{"$f":"'Start List Team Scoring'!A62","v":52},{"$f":"'Start List Team Scoring'!E62","v":"Jaime Hugessen"},{"$f":"'Start List Team Scoring'!F62","v":"50-54"},{"$f":"'Start List Team Scoring'!G62","v":"M"},{"$f":"'Start List Team Scoring'!H62","v":"TDG"},{"$f":"'Start List Team Scoring'!I62","v":25.91},{"$f":"'Start List Team Scoring'!J62","v":25.38},{"$f":"'Start List Team Scoring'!K62","v":25.38},2]
[{"$f":"'Start List Team Scoring'!A63","v":54},{"$f":"'Start List Team Scoring'!E63","v":"Craig Shibley"},{"$f":"'Start List Team Scoring'!F63","v":"50-54"},{"$f":"'Start List Team Scoring'!G63","v":"M"},{"$f":"'Start List Team Scoring'!H63","v":"CRA"},{"$f":"'Start List Team Scoring'!I63","v":25.7},{"$f":"'Start List Team Scoring'!J63","v":26.51},{"$f":"'Start List Team Scoring'!K63","v":25.7},3]
[{"$f":"'Start List Team Scoring'!A64","v":51},{"$f":"'Start List Team Scoring'!E64","v":"Jeff Parr"},{"$f":"'Start List Team Scoring'!F64","v":"50-54"},{"$f":"'Start List Team Scoring'!G64","v":"M"},{"$f":"'Start List Team Scoring'!H64","v":"ALP"},{"$f":"'Start List Team Scoring'!I64","v":25.82},{"$f":"'Start List Team Scoring'!J64","v":26.97},{"$f":"'Start List Team Scoring'!K64","v":25.82},4]
[{"$f":"'Start List Team Scoring'!A65","v":49},{"$f":"'Start List Team Scoring'!E65","v":"Bruce Simpson"},{"$f":"'Start List Team Scoring'!F65","v":"50-54"},{"$f":"'Start List Team Scoring'!G65","v":"M"},{"$f":"'Start List Team Scoring'!H65","v":"CAL"},{"$f":"'Start List Team Scoring'!I65","v":25.9},{"$f":"'Start List Team Scoring'!J65","v":25.85},{"$f":"'Start List Team Scoring'!K65","v":25.85},5]
[{"$f":"'Start List Team Scoring'!A66","v":63},{"$f":"'Start List Team Scoring'!E66","v":"Randy Dalton"},{"$f":"'Start List Team Scoring'!F66","v":"50-54"},{"$f":"'Start List Team Scoring'!G66","v":"M"},{"$f":"'Start List Team Scoring'!H66","v":"CRA"},{"$f":"'Start List Team Scoring'!I66","v":26.2},{"$f":"'Start List Team Scoring'!J66","v":26.79},{"$f":"'Start List Team Scoring'!K66","v":26.2},6]
[{"$f":"'Start List Team Scoring'!A67","v":50},{"$f":"'Start List Team Scoring'!E67","v":"Trent Winstone"},{"$f":"'Start List Team Scoring'!F67","v":"50-54"},{"$f":"'Start List Team Scoring'!G67","v":"M"},{"$f":"'Start List Team Scoring'!H67","v":"CRA"},{"$f":"'Start List Team Scoring'!I67","v":26.65},{"$f":"'Start List Team Scoring'!J67","v":26.42},{"$f":"'Start List Team Scoring'!K67","v":26.42},7]
[{"$f":"'Start List Team Scoring'!A68","v":60},{"$f":"'Start List Team Scoring'!E68","v":"Ian Latimer"},{"$f":"'Start List Team Scoring'!F68","v":"50-54"},{"$f":"'Start List Team Scoring'!G68","v":"M"},{"$f":"'Start List Team Scoring'!H68","v":"CRA"},{"$f":"'Start List Team Scoring'!I68","v":26.78},{"$f":"'Start List Team Scoring'!J68","v":27.11},{"$f":"'Start List Team Scoring'!K68","v":26.78},8]
[{"$f":"'Start List Team Scoring'!A69","v":53},{"$f":"'Start List Team Scoring'!E69","v":"Peter Neumann"},{"$f":"'Start List Team Scoring'!F69","v":"50-54"},{"$f":"'Start List Team Scoring'!G69","v":"M"},{"$f":"'Start List Team Scoring'!H69","v":"CAL"},{"$f":"'Start List Team Scoring'!I69","v":27.41},{"$f":"'Start List Team Scoring'!J69","v":27.97},{"$f":"'Start List Team Scoring'!K69","v":27.41},9]
[{"$f":"'Start List Team Scoring'!A70","v":57},{"$f":"'Start List Team Scoring'!E70","v":"Jeff Craig"},{"$f":"'Start List Team Scoring'!F70","v":"50-54"},{"$f":"'Start List Team Scoring'!G70","v":"M"},{"$f":"'Start List Team Scoring'!H70","v":"CRA"},{"$f":"'Start List Team Scoring'!I70","v":28.46},{"$f":"'Start List Team Scoring'!J70","v":28.34},{"$f":"'Start List Team Scoring'!K70","v":28.34},10]
[{"$f":"'Start List Team Scoring'!A71","v":47},{"$f":"'Start List Team Scoring'!E71","v":"Kevin Beattie"},{"$f":"'Start List Team Scoring'!F71","v":"50-54"},{"$f":"'Start List Team Scoring'!G71","v":"M"},{"$f":"'Start List Team Scoring'!H71","v":"ALP"},{"$f":"'Start List Team Scoring'!I71","v":28.49},{"$f":"'Start List Team Scoring'!J71","v":28.94},{"$f":"'Start List Team Scoring'!K71","v":28.49},11]
[{"$f":"'Start List Team Scoring'!A72","v":46},{"$f":"'Start List Team Scoring'!E72","v":"Robert Burnes "},{"$f":"'Start List Team Scoring'!F72","v":"50-54"},{"$f":"'Start List Team Scoring'!G72","v":"M"},{"$f":"'Start List Team Scoring'!H72","v":"CRA"},{"$f":"'Start List Team Scoring'!I72","v":28.81},{"$f":"'Start List Team Scoring'!J72","v":29.05},{"$f":"'Start List Team Scoring'!K72","v":28.81},12]
[{"$f":"'Start List Team Scoring'!A73","v":59},{"$f":"'Start List Team Scoring'!E73","v":"Geoff Guy"},{"$f":"'Start List Team Scoring'!F73","v":"50-54"},{"$f":"'Start List Team Scoring'!G73","v":"M"},{"$f":"'Start List Team Scoring'!H73","v":"CAL"},{"$f":"'Start List Team Scoring'!I73","v":29.4},{"$f":"'Start List Team Scoring'!J73","v":888},{"$f":"'Start List Team Scoring'!K73","v":29.4},13]
[{"$f":"'Start List Team Scoring'!A74","v":62},{"$f":"'Start List Team Scoring'!E74","v":"Taylor Gregory"},{"$f":"'Start List Team Scoring'!F74","v":"50-54"},{"$f":"'Start List Team Scoring'!G74","v":"M"},{"$f":"'Start List Team Scoring'!H74","v":"CAL"},{"$f":"'Start List Team Scoring'!I74","v":31.87},{"$f":"'Start List Team Scoring'!J74","v":31.79},{"$f":"'Start List Team Scoring'!K74","v":31.79},14]
[{"$f":"'Start List Team Scoring'!A75","v":55},{"$f":"'Start List Team Scoring'!E75","v":"Greg Thompson"},{"$f":"'Start List Team Scoring'!F75","v":"50-54"},{"$f":"'Start List Team Scoring'!G75","v":"M"},{"$f":"'Start List Team Scoring'!H75","v":"TDG"},{"$f":"'Start List Team Scoring'!I75","v":32.61},{"$f":"'Start List Team Scoring'!J75","v":32.49},{"$f":"'Start List Team Scoring'!K75","v":32.49},15]
[{"$f":"'Start List Team Scoring'!A76","v":65},{"$f":"'Start List Team Scoring'!E76","v":"Alana Cox"},{"$f":"'Start List Team Scoring'!F76","v":"35-39"},{"$f":"'Start List Team Scoring'!G76","v":"F"},{"$f":"'Start List Team Scoring'!H76","v":"ALP"},{"$f":"'Start List Team Scoring'!I76","v":"DNS"},{"$f":"'Start List Team Scoring'!J76","v":"DNS"},{"$f":"'Start List Team Scoring'!K76","v":0},{"$f":"IF(D71=D70,IF(H71<>0,IF(I70=\"\",1,I70+1),\"\"),IF(H71<>0,1,\"\"))","v":""}]
[{"$f":"'Start List Team Scoring'!A77","v":66},{"$f":"'Start List Team Scoring'!E77","v":"Melanie Templeman"},{"$f":"'Start List Team Scoring'!F77","v":"30-34"},{"$f":"'Start List Team Scoring'!G77","v":"F"},{"$f":"'Start List Team Scoring'!H77","v":"CAL"},{"$f":"'Start List Team Scoring'!I77","v":32.11},{"$f":"'Start List Team Scoring'!J77","v":33.01},{"$f":"'Start List Team Scoring'!K77","v":32.11},1]
[{"$f":"'Start List Team Scoring'!A78","v":72},{"$f":"'Start List Team Scoring'!E78","v":"Stephanie Clark"},{"$f":"'Start List Team Scoring'!F78","v":"18-29"},{"$f":"'Start List Team Scoring'!G78","v":"F"},{"$f":"'Start List Team Scoring'!H78","v":"CRA"},{"$f":"'Start List Team Scoring'!I78","v":"DNS"},{"$f":"'Start List Team Scoring'!J78","v":"DNS"},{"$f":"'Start List Team Scoring'!K78","v":0},""]
[{"$f":"'Start List Team Scoring'!A79","v":71},{"$f":"'Start List Team Scoring'!E79","v":"Emily Shiletto"},{"$f":"'Start List Team Scoring'!F79","v":"18-29"},{"$f":"'Start List Team Scoring'!G79","v":"F"},{"$f":"'Start List Team Scoring'!H79","v":"CAL"},{"$f":"'Start List Team Scoring'!I79","v":24.26},{"$f":"'Start List Team Scoring'!J79","v":24.63},{"$f":"'Start List Team Scoring'!K79","v":24.26},1]
[{"$f":"'Start List Team Scoring'!A80","v":68},{"$f":"'Start List Team Scoring'!E80","v":"Laura Coward"},{"$f":"'Start List Team Scoring'!F80","v":"18-29"},{"$f":"'Start List Team Scoring'!G80","v":"F"},{"$f":"'Start List Team Scoring'!H80","v":"ALP"},{"$f":"'Start List Team Scoring'!I80","v":26.4},{"$f":"'Start List Team Scoring'!J80","v":27.2},{"$f":"'Start List Team Scoring'!K80","v":26.4},2]
[{"$f":"'Start List Team Scoring'!A81","v":70},{"$f":"'Start List Team Scoring'!E81","v":"Ashley Heenan"},{"$f":"'Start List Team Scoring'!F81","v":"18-29"},{"$f":"'Start List Team Scoring'!G81","v":"F"},{"$f":"'Start List Team Scoring'!H81","v":"GP"},{"$f":"'Start List Team Scoring'!I81","v":27.85},{"$f":"'Start List Team Scoring'!J81","v":27.46},{"$f":"'Start List Team Scoring'!K81","v":27.46},3]
[{"$f":"'Start List Team Scoring'!A82","v":73},{"$f":"'Start List Team Scoring'!E82","v":"Courtney Claessens"},{"$f":"'Start List Team Scoring'!F82","v":"18-29"},{"$f":"'Start List Team Scoring'!G82","v":"F"},{"$f":"'Start List Team Scoring'!H82","v":"CAL"},{"$f":"'Start List Team Scoring'!I82","v":31.04},{"$f":"'Start List Team Scoring'!J82","v":31.52},{"$f":"'Start List Team Scoring'!K82","v":31.04},4]
[{"$f":"'Start List Team Scoring'!A83","v":67},{"$f":"'Start List Team Scoring'!E83","v":"Sarah Latimer"},{"$f":"'Start List Team Scoring'!F83","v":"18-29"},{"$f":"'Start List Team Scoring'!G83","v":"F"},{"$f":"'Start List Team Scoring'!H83","v":"CRA"},{"$f":"'Start List Team Scoring'!I83","v":31.5},{"$f":"'Start List Team Scoring'!J83","v":31.37},{"$f":"'Start List Team Scoring'!K83","v":31.37},5]
[{"$f":"'Start List Team Scoring'!A84","v":69},{"$f":"'Start List Team Scoring'!E84","v":"Elizabeth Perryman"},{"$f":"'Start List Team Scoring'!F84","v":"18-29"},{"$f":"'Start List Team Scoring'!G84","v":"F"},{"$f":"'Start List Team Scoring'!H84","v":"TDG"},{"$f":"'Start List Team Scoring'!I84","v":31.95},{"$f":"'Start List Team Scoring'!J84","v":33.42},{"$f":"'Start List Team Scoring'!K84","v":31.95},6]
[{"$f":"'Start List Team Scoring'!A85","v":76},{"$f":"'Start List Team Scoring'!E85","v":"John Mealy"},{"$f":"'Start List Team Scoring'!F85","v":"45-49"},{"$f":"'Start List Team Scoring'!G85","v":"M"},{"$f":"'Start List Team Scoring'!H85","v":"GP"},{"$f":"'Start List Team Scoring'!I85","v":24.44},{"$f":"'Start List Team Scoring'!J85","v":"DNS"},{"$f":"'Start List Team Scoring'!K85","v":24.44},1]
[{"$f":"'Start List Team Scoring'!A86","v":77},{"$f":"'Start List Team Scoring'!E86","v":"Kelly Shorer"},{"$f":"'Start List Team Scoring'!F86","v":"45-49"},{"$f":"'Start List Team Scoring'!G86","v":"M"},{"$f":"'Start List Team Scoring'!H86","v":"CAL"},{"$f":"'Start List Team Scoring'!I86","v":25.39},{"$f":"'Start List Team Scoring'!J86","v":26.39},{"$f":"'Start List Team Scoring'!K86","v":25.39},2]
[{"$f":"'Start List Team Scoring'!A87","v":79},{"$f":"'Start List Team Scoring'!E87","v":"Graham Smith"},{"$f":"'Start List Team Scoring'!F87","v":"45-49"},{"$f":"'Start List Team Scoring'!G87","v":"M"},{"$f":"'Start List Team Scoring'!H87","v":"CAL"},{"$f":"'Start List Team Scoring'!I87","v":25.94},{"$f":"'Start List Team Scoring'!J87","v":26.66},{"$f":"'Start List Team Scoring'!K87","v":25.94},3]
[{"$f":"'Start List Team Scoring'!A88","v":78},{"$f":"'Start List Team Scoring'!E88","v":"Clarke Smith"},{"$f":"'Start List Team Scoring'!F88","v":"45-49"},{"$f":"'Start List Team Scoring'!G88","v":"M"},{"$f":"'Start List Team Scoring'!H88","v":"GP"},{"$f":"'Start List Team Scoring'!I88","v":27.14},{"$f":"'Start List Team Scoring'!J88","v":27.98},{"$f":"'Start List Team Scoring'!K88","v":27.14},4]
[{"$f":"'Start List Team Scoring'!A89","v":75},{"$f":"'Start List Team Scoring'!E89","v":"David Garber"},{"$f":"'Start List Team Scoring'!F89","v":"45-49"},{"$f":"'Start List Team Scoring'!G89","v":"M"},{"$f":"'Start List Team Scoring'!H89","v":"ALP"},{"$f":"'Start List Team Scoring'!I89","v":27.86},{"$f":"'Start List Team Scoring'!J89","v":28.41},{"$f":"'Start List Team Scoring'!K89","v":27.86},5]
[{"$f":"'Start List Team Scoring'!A90","v":80},{"$f":"'Start List Team Scoring'!E90","v":"John Brajkovich"},{"$f":"'Start List Team Scoring'!F90","v":"45-49"},{"$f":"'Start List Team Scoring'!G90","v":"M"},{"$f":"'Start List Team Scoring'!H90","v":"CAL"},{"$f":"'Start List Team Scoring'!I90","v":28.56},{"$f":"'Start List Team Scoring'!J90","v":999},{"$f":"'Start List Team Scoring'!K90","v":28.56},6]
[{"$f":"'Start List Team Scoring'!A91","v":74},{"$f":"'Start List Team Scoring'!E91","v":"Jerry Patten"},{"$f":"'Start List Team Scoring'!F91","v":"45-49"},{"$f":"'Start List Team Scoring'!G91","v":"M"},{"$f":"'Start List Team Scoring'!H91","v":"CRA"},{"$f":"'Start List Team Scoring'!I91","v":30.23},{"$f":"'Start List Team Scoring'!J91","v":28.98},{"$f":"'Start List Team Scoring'!K91","v":28.98},7]
[{"$f":"'Start List Team Scoring'!A92","v":81},{"$f":"'Start List Team Scoring'!E92","v":"Mike Rowland"},{"$f":"'Start List Team Scoring'!F92","v":"45-49"},{"$f":"'Start List Team Scoring'!G92","v":"M"},{"$f":"'Start List Team Scoring'!H92","v":"CAL"},{"$f":"'Start List Team Scoring'!I92","v":31.62},{"$f":"'Start List Team Scoring'!J92","v":33.409999999999997},{"$f":"'Start List Team Scoring'!K92","v":31.62},8]
[{"$f":"'Start List Team Scoring'!A93","v":86},{"$f":"'Start List Team Scoring'!E93","v":"Robert Linklater"},{"$f":"'Start List Team Scoring'!F93","v":"40-44"},{"$f":"'Start List Team Scoring'!G93","v":"M"},{"$f":"'Start List Team Scoring'!H93","v":"GP"},{"$f":"'Start List Team Scoring'!I93","v":"DNS"},{"$f":"'Start List Team Scoring'!J93","v":"DNS"},{"$f":"'Start List Team Scoring'!K93","v":0},""]
[{"$f":"'Start List Team Scoring'!A94","v":82},{"$f":"'Start List Team Scoring'!E94","v":"Greg Cavers"},{"$f":"'Start List Team Scoring'!F94","v":"40-44"},{"$f":"'Start List Team Scoring'!G94","v":"M"},{"$f":"'Start List Team Scoring'!H94","v":"CRA"},{"$f":"'Start List Team Scoring'!I94","v":24.31},{"$f":"'Start List Team Scoring'!J94","v":24.98},{"$f":"'Start List Team Scoring'!K94","v":24.31},1]
[{"$f":"'Start List Team Scoring'!A95","v":83},{"$f":"'Start List Team Scoring'!E95","v":"Darren Gottlieb"},{"$f":"'Start List Team Scoring'!F95","v":"40-44"},{"$f":"'Start List Team Scoring'!G95","v":"M"},{"$f":"'Start List Team Scoring'!H95","v":"ALP"},{"$f":"'Start List Team Scoring'!I95","v":25.87},{"$f":"'Start List Team Scoring'!J95","v":999},{"$f":"'Start List Team Scoring'!K95","v":25.87},2]
[{"$f":"'Start List Team Scoring'!A96","v":84},{"$f":"'Start List Team Scoring'!E96","v":"Rob Furse"},{"$f":"'Start List Team Scoring'!F96","v":"40-44"},{"$f":"'Start List Team Scoring'!G96","v":"M"},{"$f":"'Start List Team Scoring'!H96","v":"GP"},{"$f":"'Start List Team Scoring'!I96","v":26.21},{"$f":"'Start List Team Scoring'!J96","v":26.73},{"$f":"'Start List Team Scoring'!K96","v":26.21},3]
[{"$f":"'Start List Team Scoring'!A97","v":87},{"$f":"'Start List Team Scoring'!E97","v":"Scott Plaskett"},{"$f":"'Start List Team Scoring'!F97","v":"40-44"},{"$f":"'Start List Team Scoring'!G97","v":"M"},{"$f":"'Start List Team Scoring'!H97","v":"CAL"},{"$f":"'Start List Team Scoring'!I97","v":29.8},{"$f":"'Start List Team Scoring'!J97","v":29.85},{"$f":"'Start List Team Scoring'!K97","v":29.8},4]
[{"$f":"'Start List Team Scoring'!A98","v":85},{"$f":"'Start List Team Scoring'!E98","v":"Francesco Fontana"},{"$f":"'Start List Team Scoring'!F98","v":"40-44"},{"$f":"'Start List Team Scoring'!G98","v":"M"},{"$f":"'Start List Team Scoring'!H98","v":"CAL"},{"$f":"'Start List Team Scoring'!I98","v":33.799999999999997},{"$f":"'Start List Team Scoring'!J98","v":36.94},{"$f":"'Start List Team Scoring'!K98","v":33.799999999999997},5]
[{"$f":"'Start List Team Scoring'!A99","v":88},{"$f":"'Start List Team Scoring'!E99","v":"Scott McLorie"},{"$f":"'Start List Team Scoring'!F99","v":"35-39"},{"$f":"'Start List Team Scoring'!G99","v":"M"},{"$f":"'Start List Team Scoring'!H99","v":"CRA"},{"$f":"'Start List Team Scoring'!I99","v":"DNS"},{"$f":"'Start List Team Scoring'!J99","v":"DNS"},{"$f":"'Start List Team Scoring'!K99","v":0},""]
[{"$f":"'Start List Team Scoring'!A100","v":89},{"$f":"'Start List Team Scoring'!E100","v":"Derek Crawford"},{"$f":"'Start List Team Scoring'!F100","v":"35-39"},{"$f":"'Start List Team Scoring'!G100","v":"M"},{"$f":"'Start List Team Scoring'!H100","v":"ALP"},{"$f":"'Start List Team Scoring'!I100","v":27.94},{"$f":"'Start List Team Scoring'!J100","v":28.32},{"$f":"'Start List Team Scoring'!K100","v":27.94},1]
[{"$f":"'Start List Team Scoring'!A101","v":93},{"$f":"'Start List Team Scoring'!E101","v":"Justin Kowal"},{"$f":"'Start List Team Scoring'!F101","v":"30-34"},{"$f":"'Start List Team Scoring'!G101","v":"M"},{"$f":"'Start List Team Scoring'!H101","v":"CRA"},{"$f":"'Start List Team Scoring'!I101","v":"DNS"},{"$f":"'Start List Team Scoring'!J101","v":"DNS"},{"$f":"'Start List Team Scoring'!K101","v":0},""]
[{"$f":"'Start List Team Scoring'!A102","v":90},{"$f":"'Start List Team Scoring'!E102","v":"Taylor Simms-Brown"},{"$f":"'Start List Team Scoring'!F102","v":"30-34"},{"$f":"'Start List Team Scoring'!G102","v":"M"},{"$f":"'Start List Team Scoring'!H102","v":"CRA"},{"$f":"'Start List Team Scoring'!I102","v":23.94},{"$f":"'Start List Team Scoring'!J102","v":23.91},{"$f":"'Start List Team Scoring'!K102","v":23.91},1]
[{"$f":"'Start List Team Scoring'!A103","v":92},{"$f":"'Start List Team Scoring'!E103","v":"Tom Murdison"},{"$f":"'Start List Team Scoring'!F103","v":"30-34"},{"$f":"'Start List Team Scoring'!G103","v":"M"},{"$f":"'Start List Team Scoring'!H103","v":"CAL"},{"$f":"'Start List Team Scoring'!I103","v":27.2},{"$f":"'Start List Team Scoring'!J103","v":27.8},{"$f":"'Start List Team Scoring'!K103","v":27.2},2]
[{"$f":"'Start List Team Scoring'!A104","v":91},{"$f":"'Start List Team Scoring'!E104","v":"Mark McTaggart"},{"$f":"'Start List Team Scoring'!F104","v":"30-34"},{"$f":"'Start List Team Scoring'!G104","v":"M"},{"$f":"'Start List Team Scoring'!H104","v":"ALP"},{"$f":"'Start List Team Scoring'!I104","v":28.97},{"$f":"'Start List Team Scoring'!J104","v":29.35},{"$f":"'Start List Team Scoring'!K104","v":28.97},3]
[{"$f":"'Start List Team Scoring'!A105","v":95},{"$f":"'Start List Team Scoring'!E105","v":"Mike Parr"},{"$f":"'Start List Team Scoring'!F105","v":"18-29"},{"$f":"'Start List Team Scoring'!G105","v":"M"},{"$f":"'Start List Team Scoring'!H105","v":"ALP"},{"$f":"'Start List Team Scoring'!I105","v":"DNS"},{"$f":"'Start List Team Scoring'!J105","v":"DNS"},{"$f":"'Start List Team Scoring'!K105","v":0},""]
[{"$f":"'Start List Team Scoring'!A106","v":99},{"$f":"'Start List Team Scoring'!E106","v":"Jorden Sherer"},{"$f":"'Start List Team Scoring'!F106","v":"18-29"},{"$f":"'Start List Team Scoring'!G106","v":"M"},{"$f":"'Start List Team Scoring'!H106","v":"GP"},{"$f":"'Start List Team Scoring'!I106","v":"DNS"},{"$f":"'Start List Team Scoring'!J106","v":"DNS"},{"$f":"'Start List Team Scoring'!K106","v":0},""]
[{"$f":"'Start List Team Scoring'!A107","v":100},{"$f":"'Start List Team Scoring'!E107","v":"Jeremy Owen"},{"$f":"'Start List Team Scoring'!F107","v":"18-29"},{"$f":"'Start List Team Scoring'!G107","v":"M"},{"$f":"'Start List Team Scoring'!H107","v":"GP"},{"$f":"'Start List Team Scoring'!I107","v":"DNS"},{"$f":"'Start List Team Scoring'!J107","v":"DNS"},{"$f":"'Start List Team Scoring'!K107","v":0},""]
[{"$f":"'Start List Team Scoring'!A108","v":94},{"$f":"'Start List Team Scoring'!E108","v":"Paul Atkinson"},{"$f":"'Start List Team Scoring'!F108","v":"18-29"},{"$f":"'Start List Team Scoring'!G108","v":"M"},{"$f":"'Start List Team Scoring'!H108","v":"CRA"},{"$f":"'Start List Team Scoring'!I108","v":22.32},{"$f":"'Start List Team Scoring'!J108","v":888},{"$f":"'Start List Team Scoring'!K108","v":22.32},{"$f":"IF(D103=D102,IF(H103<>0,IF(I102=\"\",1,I102+1),\"\"),IF(H103<>0,1,\"\"))","v":1}]
[{"$f":"'Start List Team Scoring'!A109","v":97},{"$f":"'Start List Team Scoring'!E109","v":"Erik Donaldson"},{"$f":"'Start List Team Scoring'!F109","v":"18-29"},{"$f":"'Start List Team Scoring'!G109","v":"M"},{"$f":"'Start List Team Scoring'!H109","v":"CAL"},{"$f":"'Start List Team Scoring'!I109","v":23.01},{"$f":"'Start List Team Scoring'!J109","v":24.22},{"$f":"'Start List Team Scoring'!K109","v":23.01},2]
[{"$f":"'Start List Team Scoring'!A110","v":98},{"$f":"'Start List Team Scoring'!E110","v":"Jesse Sheppard"},{"$f":"'Start List Team Scoring'!F110","v":"18-29"},{"$f":"'Start List Team Scoring'!G110","v":"M"},{"$f":"'Start List Team Scoring'!H110","v":"CRA"},{"$f":"'Start List Team Scoring'!I110","v":23.17},{"$f":"'Start List Team Scoring'!J110","v":888},{"$f":"'Start List Team Scoring'!K110","v":23.17},3]
[{"$f":"'Start List Team Scoring'!A111","v":96},{"$f":"'Start List Team Scoring'!E111","v":"Marcus Willson"},{"$f":"'Start List Team Scoring'!F111","v":"18-29"},{"$f":"'Start List Team Scoring'!G111","v":"M"},{"$f":"'Start List Team Scoring'!H111","v":"GP"},{"$f":"'Start List Team Scoring'!I111","v":24.73},{"$f":"'Start List Team Scoring'!J111","v":24.61},{"$f":"'Start List Team Scoring'!K111","v":24.61},4]
[{"$f":"'Start List Team Scoring'!A112","v":101},{"$f":"'Start List Team Scoring'!E112","v":"Matt Sirek"},{"$f":"'Start List Team Scoring'!F112","v":"18-29"},{"$f":"'Start List Team Scoring'!G112","v":"M"},{"$f":"'Start List Team Scoring'!H112","v":"CAL"},{"$f":"'Start List Team Scoring'!I112","v":28.56},{"$f":"'Start List Team Scoring'!J112","v":26.61},{"$f":"'Start List Team Scoring'!K112","v":26.61},5]
[{"$f":"'Start List Team Scoring'!A113","v":102},{"$f":"'Start List Team Scoring'!E113","v":0},{"$f":"'Start List Team Scoring'!F113","v":0},{"$f":"'Start List Team Scoring'!G113","v":0},{"$f":"'Start List Team Scoring'!H113","v":0},{"$f":"'Start List Team Scoring'!I113","v":0},{"$f":"'Start List Team Scoring'!J113","v":0},{"$f":"'Start List Team Scoring'!K113","v":0},""]
[{"$f":"'Start List Team Scoring'!A114","v":103},{"$f":"'Start List Team Scoring'!E114","v":0},{"$f":"'Start List Team Scoring'!F114","v":0},{"$f":"'Start List Team Scoring'!G114","v":0},{"$f":"'Start List Team Scoring'!H114","v":0},{"$f":"'Start List Team Scoring'!I114","v":0},{"$f":"'Start List Team Scoring'!J114","v":0},{"$f":"'Start List Team Scoring'!K114","v":0},""]
[{"$f":"'Start List Team Scoring'!A115","v":104},{"$f":"'Start List Team Scoring'!E115","v":0},{"$f":"'Start List Team Scoring'!F115","v":0},{"$f":"'Start List Team Scoring'!G115","v":0},{"$f":"'Start List Team Scoring'!H115","v":0},{"$f":"'Start List Team Scoring'!I115","v":0},{"$f":"'Start List Team Scoring'!J115","v":0},{"$f":"'Start List Team Scoring'!K115","v":0},""]
[{"$f":"'Start List Team Scoring'!A116","v":105},{"$f":"'Start List Team Scoring'!E116","v":0},{"$f":"'Start List Team Scoring'!F116","v":0},{"$f":"'Start List Team Scoring'!G116","v":0},{"$f":"'Start List Team Scoring'!H116","v":0},{"$f":"'Start List Team Scoring'!I116","v":0},{"$f":"'Start List Team Scoring'!J116","v":0},{"$f":"'Start List Team Scoring'!K116","v":0},""]
[{"$f":"'Start List Team Scoring'!A117","v":106},{"$f":"'Start List Team Scoring'!E117","v":0},{"$f":"'Start List Team Scoring'!F117","v":0},{"$f":"'Start List Team Scoring'!G117","v":0},{"$f":"'Start List Team Scoring'!H117","v":0},{"$f":"'Start List Team Scoring'!I117","v":0},{"$f":"'Start List Team Scoring'!J117","v":0},{"$f":"'Start List Team Scoring'!K117","v":0},""]
[{"$f":"'Start List Team Scoring'!A118","v":107},{"$f":"'Start List Team Scoring'!E118","v":0},{"$f":"'Start List Team Scoring'!F118","v":0},{"$f":"'Start List Team Scoring'!G118","v":0},{"$f":"'Start List Team Scoring'!H118","v":0},{"$f":"'Start List Team Scoring'!I118","v":0},{"$f":"'Start List Team Scoring'!J118","v":0},{"$f":"'Start List Team Scoring'!K118","v":0},""]
[{"$f":"'Start List Team Scoring'!A119","v":108},{"$f":"'Start List Team Scoring'!E119","v":0},{"$f":"'Start List Team Scoring'!F119","v":0},{"$f":"'Start List Team Scoring'!G119","v":0},{"$f":"'Start List Team Scoring'!H119","v":0},{"$f":"'Start List Team Scoring'!I119","v":0},{"$f":"'Start List Team Scoring'!J119","v":0},{"$f":"'Start List Team Scoring'!K119","v":0},""]
[{"$f":"'Start List Team Scoring'!A120","v":109},{"$f":"'Start List Team Scoring'!E120","v":0},{"$f":"'Start List Team Scoring'!F120","v":0},{"$f":"'Start List Team Scoring'!G120","v":0},{"$f":"'Start List Team Scoring'!H120","v":0},{"$f":"'Start List Team Scoring'!I120","v":0},{"$f":"'Start List Team Scoring'!J120","v":0},{"$f":"'Start List Team Scoring'!K120","v":0},""]
[{"$f":"'Start List Team Scoring'!A121","v":110},{"$f":"'Start List Team Scoring'!E121","v":0},{"$f":"'Start List Team Scoring'!F121","v":0},{"$f":"'Start List Team Scoring'!G121","v":0},{"$f":"'Start List Team Scoring'!H121","v":0},{"$f":"'Start List Team Scoring'!I121","v":0},{"$f":"'Start List Team Scoring'!J121","v":0},{"$f":"'Start List Team Scoring'!K121","v":0},""]
[{"$f":"'Start List Team Scoring'!A122","v":111},{"$f":"'Start List Team Scoring'!E122","v":0},{"$f":"'Start List Team Scoring'!F122","v":0},{"$f":"'Start List Team Scoring'!G122","v":0},{"$f":"'Start List Team Scoring'!H122","v":0},{"$f":"'Start List Team Scoring'!I122","v":0},{"$f":"'Start List Team Scoring'!J122","v":0},{"$f":"'Start List Team Scoring'!K122","v":0},""]
[{"$f":"'Start List Team Scoring'!A123","v":112},{"$f":"'Start List Team Scoring'!E123","v":0},{"$f":"'Start List Team Scoring'!F123","v":0},{"$f":"'Start List Team Scoring'!G123","v":0},{"$f":"'Start List Team Scoring'!H123","v":0},{"$f":"'Start List Team Scoring'!I123","v":0},{"$f":"'Start List Team Scoring'!J123","v":0},{"$f":"'Start List Team Scoring'!K123","v":0},""]
[{"$f":"'Start List Team Scoring'!A124","v":113},{"$f":"'Start List Team Scoring'!E124","v":0},{"$f":"'Start List Team Scoring'!F124","v":0},{"$f":"'Start List Team Scoring'!G124","v":0},{"$f":"'Start List Team Scoring'!H124","v":0},{"$f":"'Start List Team Scoring'!I124","v":0},{"$f":"'Start List Team Scoring'!J124","v":0},{"$f":"'Start List Team Scoring'!K124","v":0},""]
[{"$f":"'Start List Team Scoring'!A125","v":114},{"$f":"'Start List Team Scoring'!E125","v":0},{"$f":"'Start List Team Scoring'!F125","v":0},{"$f":"'Start List Team Scoring'!G125","v":0},{"$f":"'Start List Team Scoring'!H125","v":0},{"$f":"'Start List Team Scoring'!I125","v":0},{"$f":"'Start List Team Scoring'!J125","v":0},{"$f":"'Start List Team Scoring'!K125","v":0},""]
[{"$f":"'Start List Team Scoring'!A126","v":115},{"$f":"'Start List Team Scoring'!E126","v":0},{"$f":"'Start List Team Scoring'!F126","v":0},{"$f":"'Start List Team Scoring'!G126","v":0},{"$f":"'Start List Team Scoring'!H126","v":0},{"$f":"'Start List Team Scoring'!I126","v":0},{"$f":"'Start List Team Scoring'!J126","v":0},{"$f":"'Start List Team Scoring'!K126","v":0},""]
[{"$f":"'Start List Team Scoring'!A127","v":116},{"$f":"'Start List Team Scoring'!E127","v":0},{"$f":"'Start List Team Scoring'!F127","v":0},{"$f":"'Start List Team Scoring'!G127","v":0},{"$f":"'Start List Team Scoring'!H127","v":0},{"$f":"'Start List Team Scoring'!I127","v":0},{"$f":"'Start List Team Scoring'!J127","v":0},{"$f":"'Start List Team Scoring'!K127","v":0},""]
[{"$f":"'Start List Team Scoring'!A128","v":117},{"$f":"'Start List Team Scoring'!E128","v":0},{"$f":"'Start List Team Scoring'!F128","v":0},{"$f":"'Start List Team Scoring'!G128","v":0},{"$f":"'Start List Team Scoring'!H128","v":0},{"$f":"'Start List Team Scoring'!I128","v":0},{"$f":"'Start List Team Scoring'!J128","v":0},{"$f":"'Start List Team Scoring'!K128","v":0},""]
[{"$f":"'Start List Team Scoring'!A129","v":118},{"$f":"'Start List Team Scoring'!E129","v":0},{"$f":"'Start List Team Scoring'!F129","v":0},{"$f":"'Start List Team Scoring'!G129","v":0},{"$f":"'Start List Team Scoring'!H129","v":0},{"$f":"'Start List Team Scoring'!I129","v":0},{"$f":"'Start List Team Scoring'!J129","v":0},{"$f":"'Start List Team Scoring'!K129","v":0},""]
[{"$f":"'Start List Team Scoring'!A130","v":119},{"$f":"'Start List Team Scoring'!E130","v":0},{"$f":"'Start List Team Scoring'!F130","v":0},{"$f":"'Start List Team Scoring'!G130","v":0},{"$f":"'Start List Team Scoring'!H130","v":0},{"$f":"'Start List Team Scoring'!I130","v":0},{"$f":"'Start List Team Scoring'!J130","v":0},{"$f":"'Start List Team Scoring'!K130","v":0},""]
[{"$f":"'Start List Team Scoring'!A131","v":120},{"$f":"'Start List Team Scoring'!E131","v":0},{"$f":"'Start List Team Scoring'!F131","v":0},{"$f":"'Start List Team Scoring'!G131","v":0},{"$f":"'Start List Team Scoring'!H131","v":0},{"$f":"'Start List Team Scoring'!I131","v":0},{"$f":"'Start List Team Scoring'!J131","v":0},{"$f":"'Start List Team Scoring'!K131","v":0},""]
[{"$f":"'Start List Team Scoring'!A132","v":121},{"$f":"'Start List Team Scoring'!E132","v":0},{"$f":"'Start List Team Scoring'!F132","v":0},{"$f":"'Start List Team Scoring'!G132","v":0},{"$f":"'Start List Team Scoring'!H132","v":0},{"$f":"'Start List Team Scoring'!I132","v":0},{"$f":"'Start List Team Scoring'!J132","v":0},{"$f":"'Start List Team Scoring'!K132","v":0},""]
[{"$f":"'Start List Team Scoring'!A133","v":122},{"$f":"'Start List Team Scoring'!E133","v":0},{"$f":"'Start List Team Scoring'!F133","v":0},{"$f":"'Start List Team Scoring'!G133","v":0},{"$f":"'Start List Team Scoring'!H133","v":0},{"$f":"'Start List Team Scoring'!I133","v":0},{"$f":"'Start List Team Scoring'!J133","v":0},{"$f":"'Start List Team Scoring'!K133","v":0},""]
[{"$f":"'Start List Team Scoring'!A134","v":123},{"$f":"'Start List Team Scoring'!E134","v":0},{"$f":"'Start List Team Scoring'!F134","v":0},{"$f":"'Start List Team Scoring'!G134","v":0},{"$f":"'Start List Team Scoring'!H134","v":0},{"$f":"'Start List Team Scoring'!I134","v":0},{"$f":"'Start List Team Scoring'!J134","v":0},{"$f":"'Start List Team Scoring'!K134","v":0},""]
[{"$f":"'Start List Team Scoring'!A135","v":124},{"$f":"'Start List Team Scoring'!E135","v":0},{"$f":"'Start List Team Scoring'!F135","v":0},{"$f":"'Start List Team Scoring'!G135","v":0},{"$f":"'Start List Team Scoring'!H135","v":0},{"$f":"'Start List Team Scoring'!I135","v":0},{"$f":"'Start List Team Scoring'!J135","v":0},{"$f":"'Start List Team Scoring'!K135","v":0},""]
[{"$f":"'Start List Team Scoring'!A136","v":125},{"$f":"'Start List Team Scoring'!E136","v":0},{"$f":"'Start List Team Scoring'!F136","v":0},{"$f":"'Start List Team Scoring'!G136","v":0},{"$f":"'Start List Team Scoring'!H136","v":0},{"$f":"'Start List Team Scoring'!I136","v":0},{"$f":"'Start List Team Scoring'!J136","v":0},{"$f":"'Start List Team Scoring'!K136","v":0},""]
[{"$f":"'Start List Team Scoring'!A137","v":126},{"$f":"'Start List Team Scoring'!E137","v":0},{"$f":"'Start List Team Scoring'!F137","v":0},{"$f":"'Start List Team Scoring'!G137","v":0},{"$f":"'Start List Team Scoring'!H137","v":0},{"$f":"'Start List Team Scoring'!I137","v":0},{"$f":"'Start List Team Scoring'!J137","v":0},{"$f":"'Start List Team Scoring'!K137","v":0},""]
[{"$f":"'Start List Team Scoring'!A138","v":127},{"$f":"'Start List Team Scoring'!E138","v":0},{"$f":"'Start List Team Scoring'!F138","v":0},{"$f":"'Start List Team Scoring'!G138","v":0},{"$f":"'Start List Team Scoring'!H138","v":0},{"$f":"'Start List Team Scoring'!I138","v":0},{"$f":"'Start List Team Scoring'!J138","v":0},{"$f":"'Start List Team Scoring'!K138","v":0},""]
[{"$f":"'Start List Team Scoring'!A139","v":128},{"$f":"'Start List Team Scoring'!E139","v":0},{"$f":"'Start List Team Scoring'!F139","v":0},{"$f":"'Start List Team Scoring'!G139","v":0},{"$f":"'Start List Team Scoring'!H139","v":0},{"$f":"'Start List Team Scoring'!I139","v":0},{"$f":"'Start List Team Scoring'!J139","v":0},{"$f":"'Start List Team Scoring'!K139","v":0},""]
[{"$f":"'Start List Team Scoring'!A140","v":129},{"$f":"'Start List Team Scoring'!E140","v":0},{"$f":"'Start List Team Scoring'!F140","v":0},{"$f":"'Start List Team Scoring'!G140","v":0},{"$f":"'Start List Team Scoring'!H140","v":0},{"$f":"'Start List Team Scoring'!I140","v":0},{"$f":"'Start List Team Scoring'!J140","v":0},{"$f":"'Start List Team Scoring'!K140","v":0},{"$f":"IF(D135=D134,IF(H135<>0,IF(I134=\"\",1,I134+1),\"\"),IF(H135<>0,1,\"\"))","v":""}]
[{"$f":"'Start List Team Scoring'!A141","v":130},{"$f":"'Start List Team Scoring'!E141","v":0},{"$f":"'Start List Team Scoring'!F141","v":0},{"$f":"'Start List Team Scoring'!G141","v":0},{"$f":"'Start List Team Scoring'!H141","v":0},{"$f":"'Start List Team Scoring'!I141","v":0},{"$f":"'Start List Team Scoring'!J141","v":0},{"$f":"'Start List Team Scoring'!K141","v":0},""]
[{"$f":"'Start List Team Scoring'!A142","v":131},{"$f":"'Start List Team Scoring'!E142","v":0},{"$f":"'Start List Team Scoring'!F142","v":0},{"$f":"'Start List Team Scoring'!G142","v":0},{"$f":"'Start List Team Scoring'!H142","v":0},{"$f":"'Start List Team Scoring'!I142","v":0},{"$f":"'Start List Team Scoring'!J142","v":0},{"$f":"'Start List Team Scoring'!K142","v":0},""]
[{"$f":"'Start List Team Scoring'!A143","v":132},{"$f":"'Start List Team Scoring'!E143","v":0},{"$f":"'Start List Team Scoring'!F143","v":0},{"$f":"'Start List Team Scoring'!G143","v":0},{"$f":"'Start List Team Scoring'!H143","v":0},{"$f":"'Start List Team Scoring'!I143","v":0},{"$f":"'Start List Team Scoring'!J143","v":0},{"$f":"'Start List Team Scoring'!K143","v":0},""]
[{"$f":"'Start List Team Scoring'!A144","v":133},{"$f":"'Start List Team Scoring'!E144","v":0},{"$f":"'Start List Team Scoring'!F144","v":0},{"$f":"'Start List Team Scoring'!G144","v":0},{"$f":"'Start List Team Scoring'!H144","v":0},{"$f":"'Start List Team Scoring'!I144","v":0},{"$f":"'Start List Team Scoring'!J144","v":0},{"$f":"'Start List Team Scoring'!K144","v":0},""]
[{"$f":"'Start List Team Scoring'!A145","v":134},{"$f":"'Start List Team Scoring'!E145","v":0},{"$f":"'Start List Team Scoring'!F145","v":0},{"$f":"'Start List Team Scoring'!G145","v":0},{"$f":"'Start List Team Scoring'!H145","v":0},{"$f":"'Start List Team Scoring'!I145","v":0},{"$f":"'Start List Team Scoring'!J145","v":0},{"$f":"'Start List Team Scoring'!K145","v":0},""]
[{"$f":"'Start List Team Scoring'!A146","v":135},{"$f":"'Start List Team Scoring'!E146","v":0},{"$f":"'Start List Team Scoring'!F146","v":0},{"$f":"'Start List Team Scoring'!G146","v":0},{"$f":"'Start List Team Scoring'!H146","v":0},{"$f":"'Start List Team Scoring'!I146","v":0},{"$f":"'Start List Team Scoring'!J146","v":0},{"$f":"'Start List Team Scoring'!K146","v":0},""]
[{"$f":"'Start List Team Scoring'!A147","v":136},{"$f":"'Start List Team Scoring'!E147","v":0},{"$f":"'Start List Team Scoring'!F147","v":0},{"$f":"'Start List Team Scoring'!G147","v":0},{"$f":"'Start List Team Scoring'!H147","v":0},{"$f":"'Start List Team Scoring'!I147","v":0},{"$f":"'Start List Team Scoring'!J147","v":0},{"$f":"'Start List Team Scoring'!K147","v":0},""]
[{"$f":"'Start List Team Scoring'!A148","v":137},{"$f":"'Start List Team Scoring'!E148","v":0},{"$f":"'Start List Team Scoring'!F148","v":0},{"$f":"'Start List Team Scoring'!G148","v":0},{"$f":"'Start List Team Scoring'!H148","v":0},{"$f":"'Start List Team Scoring'!I148","v":0},{"$f":"'Start List Team Scoring'!J148","v":0},{"$f":"'Start List Team Scoring'!K148","v":0},""]
[{"$f":"'Start List Team Scoring'!A149","v":138},{"$f":"'Start List Team Scoring'!E149","v":0},{"$f":"'Start List Team Scoring'!F149","v":0},{"$f":"'Start List Team Scoring'!G149","v":0},{"$f":"'Start List Team Scoring'!H149","v":0},{"$f":"'Start List Team Scoring'!I149","v":0},{"$f":"'Start List Team Scoring'!J149","v":0},{"$f":"'Start List Team Scoring'!K149","v":0},""]
[{"$f":"'Start List Team Scoring'!A150","v":139},{"$f":"'Start List Team Scoring'!E150","v":0},{"$f":"'Start List Team Scoring'!F150","v":0},{"$f":"'Start List Team Scoring'!G150","v":0},{"$f":"'Start List Team Scoring'!H150","v":0},{"$f":"'Start List Team Scoring'!I150","v":0},{"$f":"'Start List Team Scoring'!J150","v":0},{"$f":"'Start List Team Scoring'!K150","v":0},""]
[{"$f":"'Start List Team Scoring'!A151","v":140},{"$f":"'Start List Team Scoring'!E151","v":0},{"$f":"'Start List Team Scoring'!F151","v":0},{"$f":"'Start List Team Scoring'!G151","v":0},{"$f":"'Start List Team Scoring'!H151","v":0},{"$f":"'Start List Team Scoring'!I151","v":0},{"$f":"'Start List Team Scoring'!J151","v":0},{"$f":"'Start List Team Scoring'!K151","v":0},""]
[{"$f":"'Start List Team Scoring'!A152","v":141},{"$f":"'Start List Team Scoring'!E152","v":0},{"$f":"'Start List Team Scoring'!F152","v":0},{"$f":"'Start List Team Scoring'!G152","v":0},{"$f":"'Start List Team Scoring'!H152","v":0},{"$f":"'Start List Team Scoring'!I152","v":0},{"$f":"'Start List Team Scoring'!J152","v":0},{"$f":"'Start List Team Scoring'!K152","v":0},""]
[{"$f":"'Start List Team Scoring'!A153","v":142},{"$f":"'Start List Team Scoring'!E153","v":0},{"$f":"'Start List Team Scoring'!F153","v":0},{"$f":"'Start List Team Scoring'!G153","v":0},{"$f":"'Start List Team Scoring'!H153","v":0},{"$f":"'Start List Team Scoring'!I153","v":0},{"$f":"'Start List Team Scoring'!J153","v":0},{"$f":"'Start List Team Scoring'!K153","v":0},""]
[{"$f":"'Start List Team Scoring'!A154","v":143},{"$f":"'Start List Team Scoring'!E154","v":0},{"$f":"'Start List Team Scoring'!F154","v":0},{"$f":"'Start List Team Scoring'!G154","v":0},{"$f":"'Start List Team Scoring'!H154","v":0},{"$f":"'Start List Team Scoring'!I154","v":0},{"$f":"'Start List Team Scoring'!J154","v":0},{"$f":"'Start List Team Scoring'!K154","v":0},""]
[{"$f":"'Start List Team Scoring'!A155","v":144},{"$f":"'Start List Team Scoring'!E155","v":0},{"$f":"'Start List Team Scoring'!F155","v":0},{"$f":"'Start List Team Scoring'!G155","v":0},{"$f":"'Start List Team Scoring'!H155","v":0},{"$f":"'Start List Team Scoring'!I155","v":0},{"$f":"'Start List Team Scoring'!J155","v":0},{"$f":"'Start List Team Scoring'!K155","v":0},""]
[{"$f":"'Start List Team Scoring'!A156","v":145},{"$f":"'Start List Team Scoring'!E156","v":0},{"$f":"'Start List Team Scoring'!F156","v":0},{"$f":"'Start List Team Scoring'!G156","v":0},{"$f":"'Start List Team Scoring'!H156","v":0},{"$f":"'Start List Team Scoring'!I156","v":0},{"$f":"'Start List Team Scoring'!J156","v":0},{"$f":"'Start List Team Scoring'!K156","v":0},""]
[{"$f":"'Start List Team Scoring'!A157","v":146},{"$f":"'Start List Team Scoring'!E157","v":0},{"$f":"'Start List Team Scoring'!F157","v":0},{"$f":"'Start List Team Scoring'!G157","v":0},{"$f":"'Start List Team Scoring'!H157","v":0},{"$f":"'Start List Team Scoring'!I157","v":0},{"$f":"'Start List Team Scoring'!J157","v":0},{"$f":"'Start List Team Scoring'!K157","v":0},""]
[{"$f":"'Start List Team Scoring'!A158","v":147},{"$f":"'Start List Team Scoring'!E158","v":0},{"$f":"'Start List Team Scoring'!F158","v":0},{"$f":"'Start List Team Scoring'!G158","v":0},{"$f":"'Start List Team Scoring'!H158","v":0},{"$f":"'Start List Team Scoring'!I158","v":0},{"$f":"'Start List Team Scoring'!J158","v":0},{"$f":"'Start List Team Scoring'!K158","v":0},""]
[{"$f":"'Start List Team Scoring'!A159","v":148},{"$f":"'Start List Team Scoring'!E159","v":0},{"$f":"'Start List Team Scoring'!F159","v":0},{"$f":"'Start List Team Scoring'!G159","v":0},{"$f":"'Start List Team Scoring'!H159","v":0},{"$f":"'Start List Team Scoring'!I159","v":0},{"$f":"'Start List Team Scoring'!J159","v":0},{"$f":"'Start List Team Scoring'!K159","v":0},""]
[{"$f":"'Start List Team Scoring'!A160","v":149},{"$f":"'Start List Team Scoring'!E160","v":0},{"$f":"'Start List Team Scoring'!F160","v":0},{"$f":"'Start List Team Scoring'!G160","v":0},{"$f":"'Start List Team Scoring'!H160","v":0},{"$f":"'Start List Team Scoring'!I160","v":0},{"$f":"'Start List Team Scoring'!J160","v":0},{"$f":"'Start List Team Scoring'!K160","v":0},""]
[{"$f":"'Start List Team Scoring'!A161","v":150},{"$f":"'Start List Team Scoring'!E161","v":0},{"$f":"'Start List Team Scoring'!F161","v":0},{"$f":"'Start List Team Scoring'!G161","v":0},{"$f":"'Start List Team Scoring'!H161","v":0},{"$f":"'Start List Team Scoring'!I161","v":0},{"$f":"'Start List Team Scoring'!J161","v":0},{"$f":"'Start List Team Scoring'!K161","v":0},""]
[{"$f":"'Start List Team Scoring'!A162","v":151},{"$f":"'Start List Team Scoring'!E162","v":0},{"$f":"'Start List Team Scoring'!F162","v":0},{"$f":"'Start List Team Scoring'!G162","v":0},{"$f":"'Start List Team Scoring'!H162","v":0},{"$f":"'Start List Team Scoring'!I162","v":0},{"$f":"'Start List Team Scoring'!J162","v":0},{"$f":"'Start List Team Scoring'!K162","v":0},""]
[{"$f":"'Start List Team Scoring'!A163","v":152},{"$f":"'Start List Team Scoring'!E163","v":0},{"$f":"'Start List Team Scoring'!F163","v":0},{"$f":"'Start List Team Scoring'!G163","v":0},{"$f":"'Start List Team Scoring'!H163","v":0},{"$f":"'Start List Team Scoring'!I163","v":0},{"$f":"'Start List Team Scoring'!J163","v":0},{"$f":"'Start List Team Scoring'!K163","v":0},""]
[{"$f":"'Start List Team Scoring'!A164","v":153},{"$f":"'Start List Team Scoring'!E164","v":0},{"$f":"'Start List Team Scoring'!F164","v":0},{"$f":"'Start List Team Scoring'!G164","v":0},{"$f":"'Start List Team Scoring'!H164","v":0},{"$f":"'Start List Team Scoring'!I164","v":0},{"$f":"'Start List Team Scoring'!J164","v":0},{"$f":"'Start List Team Scoring'!K164","v":0},""]
[{"$f":"'Start List Team Scoring'!A165","v":154},{"$f":"'Start List Team Scoring'!E165","v":0},{"$f":"'Start List Team Scoring'!F165","v":0},{"$f":"'Start List Team Scoring'!G165","v":0},{"$f":"'Start List Team Scoring'!H165","v":0},{"$f":"'Start List Team Scoring'!I165","v":0},{"$f":"'Start List Team Scoring'!J165","v":0},{"$f":"'Start List Team Scoring'!K165","v":0},""]
[{"$f":"'Start List Team Scoring'!A166","v":155},{"$f":"'Start List Team Scoring'!E166","v":0},{"$f":"'Start List Team Scoring'!F166","v":0},{"$f":"'Start List Team Scoring'!G166","v":0},{"$f":"'Start List Team Scoring'!H166","v":0},{"$f":"'Start List Team Scoring'!I166","v":0},{"$f":"'Start List Team Scoring'!J166","v":0},{"$f":"'Start List Team Scoring'!K166","v":0},""]
[{"$f":"'Start List Team Scoring'!A167","v":156},{"$f":"'Start List Team Scoring'!E167","v":0},{"$f":"'Start List Team Scoring'!F167","v":0},{"$f":"'Start List Team Scoring'!G167","v":0},{"$f":"'Start List Team Scoring'!H167","v":0},{"$f":"'Start List Team Scoring'!I167","v":0},{"$f":"'Start List Team Scoring'!J167","v":0},{"$f":"'Start List Team Scoring'!K167","v":0},""]

{"sheet":"Placing Overall","index":4,"n_rows":162,"n_cols":9,"rows_kept":162,"cut":false,"hidden":false,"merged":[[3,5,3,7]]}
[{"$f":"'Start List Team Scoring'!A2","v":"AOS Druxy's Master Race League - HOST TEAM, DATE OF RACE"}]
["Individual Placing Overall"]
["(sort by Best Run)"]
[null,null,null,null,null,"TIME (seconds) or DNS, DNF, DQ"]
["BIB#","NAME","AGE","M/F","TEAM","1ST RUN","2ND RUN","BEST RUN","Place"]
[]
[{"$f":"'Start List Team Scoring'!A12","v":1},{"$f":"'Start List Team Scoring'!E12","v":"Margaret-Anne Gold *"},{"$f":"'Start List Team Scoring'!F12","v":"65-69"},{"$f":"'Start List Team Scoring'!G12","v":"F"},{"$f":"'Start List Team Scoring'!H12","v":"TDG"},{"$f":"'Start List Team Scoring'!I12","v":"DNS"},{"$f":"'Start List Team Scoring'!J12","v":"DNS"},{"$f":"'Start List Team Scoring'!K12","v":0},{"$f":"IF(H7<>0,IF(I6=\"\",1,I6+1),\"\")","v":""}]
[{"$f":"'Start List Team Scoring'!A25","v":16},{"$f":"'Start List Team Scoring'!E25","v":"Brenda Tweel"},{"$f":"'Start List Team Scoring'!F25","v":"55-59"},{"$f":"'Start List Team Scoring'!G25","v":"F"},{"$f":"'Start List Team Scoring'!H25","v":"CAL"},{"$f":"'Start List Team Scoring'!I25","v":"DNS"},{"$f":"'Start List Team Scoring'!J25","v":"DNS"},{"$f":"'Start List Team Scoring'!K25","v":0},{"$f":"IF(H8<>0,IF(I7=\"\",1,I7+1),\"\")","v":""}]
[{"$f":"'Start List Team Scoring'!A26","v":17},{"$f":"'Start List Team Scoring'!E26","v":"Mary Ferguson"},{"$f":"'Start List Team Scoring'!F26","v":"55-59"},{"$f":"'Start List Team Scoring'!G26","v":"F"},{"$f":"'Start List Team Scoring'!H26","v":"TDG"},{"$f":"'Start List Team Scoring'!I26","v":"DNS"},{"$f":"'Start List Team Scoring'!J26","v":"DNS"},{"$f":"'Start List Team Scoring'!K26","v":0},{"$f":"IF(H9<>0,IF(I8=\"\",1,I8+1),\"\")","v":""}]
[{"$f":"'Start List Team Scoring'!A29","v":20},{"$f":"'Start List Team Scoring'!E29","v":"Patricia Butler"},{"$f":"'Start List Team Scoring'!F29","v":"50-54"},{"$f":"'Start List Team Scoring'!G29","v":"F"},{"$f":"'Start List Team Scoring'!H29","v":"TDG"},{"$f":"'Start List Team Scoring'!I29","v":"DNS"},{"$f":"'Start List Team Scoring'!J29","v":"DNS"},{"$f":"'Start List Team Scoring'!K29","v":0},{"$f":"IF(H10<>0,IF(I9=\"\",1,I9+1),\"\")","v":""}]
[{"$f":"'Start List Team Scoring'!A30","v":23},{"$f":"'Start List Team Scoring'!E30","v":"Tiana Boyman"},{"$f":"'Start List Team Scoring'!F30","v":"50-54"},{"$f":"'Start List Team Scoring'!G30","v":"F"},{"$f":"'Start List Team Scoring'!H30","v":"CRA"},{"$f":"'Start List Team Scoring'!I30","v":"DNS"},{"$f":"'Start List Team Scoring'!J30","v":"DNS"},{"$f":"'Start List Team Scoring'!K30","v":0},{"$f":"IF(H11<>0,IF(I10=\"\",1,I10+1),\"\")","v":""}]
[{"$f":"'Start List Team Scoring'!A45","v":34},{"$f":"'Start List Team Scoring'!E45","v":"Barbara Fydell"},{"$f":"'Start List Team Scoring'!F45","v":"45-49"},{"$f":"'Start List Team Scoring'!G45","v":"F"},{"$f":"'Start List Team Scoring'!H45","v":"TDG"},{"$f":"'Start List Team Scoring'!I45","v":"DNS"},{"$f":"'Start List Team Scoring'!J45","v":"DNS"},{"$f":"'Start List Team Scoring'!K45","v":0},{"$f":"IF(H12<>0,IF(I11=\"\",1,I11+1),\"\")","v":""}]
[{"$f":"'Start List Team Scoring'!A76","v":65},{"$f":"'Start List Team Scoring'!E76","v":"Alana Cox"},{"$f":"'Start List Team Scoring'!F76","v":"35-39"},{"$f":"'Start List Team Scoring'!G76","v":"F"},{"$f":"'Start List Team Scoring'!H76","v":"ALP"},{"$f":"'Start List Team Scoring'!I76","v":"DNS"},{"$f":"'Start List Team Scoring'!J76","v":"DNS"},{"$f":"'Start List Team Scoring'!K76","v":0},{"$f":"IF(H13<>0,IF(I12=\"\",1,I12+1),\"\")","v":""}]
[{"$f":"'Start List Team Scoring'!A78","v":72},{"$f":"'Start List Team Scoring'!E78","v":"Stephanie Clark"},{"$f":"'Start List Team Scoring'!F78","v":"18-29"},{"$f":"'Start List Team Scoring'!G78","v":"F"},{"$f":"'Start List Team Scoring'!H78","v":"CRA"},{"$f":"'Start List Team Scoring'!I78","v":"DNS"},{"$f":"'Start List Team Scoring'!J78","v":"DNS"},{"$f":"'Start List Team Scoring'!K78","v":0},{"$f":"IF(H14<>0,IF(I13=\"\",1,I13+1),\"\")","v":""}]
[{"$f":"'Start List Team Scoring'!A79","v":71},{"$f":"'Start List Team Scoring'!E79","v":"Emily Shiletto"},{"$f":"'Start List Team Scoring'!F79","v":"18-29"},{"$f":"'Start List Team Scoring'!G79","v":"F"},{"$f":"'Start List Team Scoring'!H79","v":"CAL"},{"$f":"'Start List Team Scoring'!I79","v":24.26},{"$f":"'Start List Team Scoring'!J79","v":24.63},{"$f":"'Start List Team Scoring'!K79","v":24.26},{"$f":"IF(H15<>0,IF(I14=\"\",1,I14+1),\"\")","v":1}]
[{"$f":"'Start List Team Scoring'!A80","v":68},{"$f":"'Start List Team Scoring'!E80","v":"Laura Coward"},{"$f":"'Start List Team Scoring'!F80","v":"18-29"},{"$f":"'Start List Team Scoring'!G80","v":"F"},{"$f":"'Start List Team Scoring'!H80","v":"ALP"},{"$f":"'Start List Team Scoring'!I80","v":26.4},{"$f":"'Start List Team Scoring'!J80","v":27.2},{"$f":"'Start List Team Scoring'!K80","v":26.4},{"$f":"IF(H16<>0,IF(I15=\"\",1,I15+1),\"\")","v":2}]
[{"$f":"'Start List Team Scoring'!A81","v":70},{"$f":"'Start List Team Scoring'!E81","v":"Ashley Heenan"},{"$f":"'Start List Team Scoring'!F81","v":"18-29"},{"$f":"'Start List Team Scoring'!G81","v":"F"},{"$f":"'Start List Team Scoring'!H81","v":"GP"},{"$f":"'Start List Team Scoring'!I81","v":27.85},{"$f":"'Start List Team Scoring'!J81","v":27.46},{"$f":"'Start List Team Scoring'!K81","v":27.46},{"$f":"IF(H17<>0,IF(I16=\"\",1,I16+1),\"\")","v":3}]
[{"$f":"'Start List Team Scoring'!A31","v":21},{"$f":"'Start List Team Scoring'!E31","v":"Tracey Granger"},{"$f":"'Start List Team Scoring'!F31","v":"50-54"},{"$f":"'Start List Team Scoring'!G31","v":"F"},{"$f":"'Start List Team Scoring'!H31","v":"GP"},{"$f":"'Start List Team Scoring'!I31","v":30.24},{"$f":"'Start List Team Scoring'!J31","v":888},{"$f":"'Start List Team Scoring'!K31","v":30.24},{"$f":"IF(H18<>0,IF(I17=\"\",1,I17+1),\"\")","v":4}]
[{"$f":"'Start List Team Scoring'!A82","v":73},{"$f":"'Start List Team Scoring'!E82","v":"Courtney Claessens"},{"$f":"'Start List Team Scoring'!F82","v":"18-29"},{"$f":"'Start List Team Scoring'!G82","v":"F"},{"$f":"'Start List Team Scoring'!H82","v":"CAL"},{"$f":"'Start List Team Scoring'!I82","v":31.04},{"$f":"'Start List Team Scoring'!J82","v":31.52},{"$f":"'Start List Team Scoring'!K82","v":31.04},{"$f":"IF(H19<>0,IF(I18=\"\",1,I18+1),\"\")","v":5}]
[{"$f":"'Start List Team Scoring'!A83","v":67},{"$f":"'Start List Team Scoring'!E83","v":"Sarah Latimer"},{"$f":"'Start List Team Scoring'!F83","v":"18-29"},{"$f":"'Start List Team Scoring'!G83","v":"F"},{"$f":"'Start List Team Scoring'!H83","v":"CRA"},{"$f":"'Start List Team Scoring'!I83","v":31.5},{"$f":"'Start List Team Scoring'!J83","v":31.37},{"$f":"'Start List Team Scoring'!K83","v":31.37},{"$f":"IF(H20<>0,IF(I19=\"\",1,I19+1),\"\")","v":6}]
[{"$f":"'Start List Team Scoring'!A84","v":69},{"$f":"'Start List Team Scoring'!E84","v":"Elizabeth Perryman"},{"$f":"'Start List Team Scoring'!F84","v":"18-29"},{"$f":"'Start List Team Scoring'!G84","v":"F"},{"$f":"'Start List Team Scoring'!H84","v":"TDG"},{"$f":"'Start List Team Scoring'!I84","v":31.95},{"$f":"'Start List Team Scoring'!J84","v":33.42},{"$f":"'Start List Team Scoring'!K84","v":31.95},{"$f":"IF(H21<>0,IF(I20=\"\",1,I20+1),\"\")","v":7}]
[{"$f":"'Start List Team Scoring'!A77","v":66},{"$f":"'Start List Team Scoring'!E77","v":"Melanie Templeman"},{"$f":"'Start List Team Scoring'!F77","v":"30-34"},{"$f":"'Start List Team Scoring'!G77","v":"F"},{"$f":"'Start List Team Scoring'!H77","v":"CAL"},{"$f":"'Start List Team Scoring'!I77","v":32.11},{"$f":"'Start List Team Scoring'!J77","v":33.01},{"$f":"'Start List Team Scoring'!K77","v":32.11},{"$f":"IF(H22<>0,IF(I21=\"\",1,I21+1),\"\")","v":8}]
[{"$f":"'Start List Team Scoring'!A32","v":18},{"$f":"'Start List Team Scoring'!E32","v":"Daina Dunlop"},{"$f":"'Start List Team Scoring'!F32","v":"50-54"},{"$f":"'Start List Team Scoring'!G32","v":"F"},{"$f":"'Start List Team Scoring'!H32","v":"CRA"},{"$f":"'Start List Team Scoring'!I32","v":32.86},{"$f":"'Start List Team Scoring'!J32","v":32.979999999999997},{"$f":"'Start List Team Scoring'!K32","v":32.86},{"$f":"IF(H23<>0,IF(I22=\"\",1,I22+1),\"\")","v":9}]
[{"$f":"'Start List Team Scoring'!A27","v":15},{"$f":"'Start List Team Scoring'!E27","v":"Heather Morris Lawler"},{"$f":"'Start List Team Scoring'!F27","v":"55-59"},{"$f":"'Start List Team Scoring'!G27","v":"F"},{"$f":"'Start List Team Scoring'!H27","v":"GP"},{"$f":"'Start List Team Scoring'!I27","v":35.06},{"$f":"'Start List Team Scoring'!J27","v":35.549999999999997},{"$f":"'Start List Team Scoring'!K27","v":35.06},{"$f":"IF(H24<>0,IF(I23=\"\",1,I23+1),\"\")","v":10}]
[{"$f":"'Start List Team Scoring'!A28","v":14},{"$f":"'Start List Team Scoring'!E28","v":"Lee Anne Underwood"},{"$f":"'Start List Team Scoring'!F28","v":"55-59"},{"$f":"'Start List Team Scoring'!G28","v":"F"},{"$f":"'Start List Team Scoring'!H28","v":"TDG"},{"$f":"'Start List Team Scoring'!I28","v":35.590000000000003},{"$f":"'Start List Team Scoring'!J28","v":36.64},{"$f":"'Start List Team Scoring'!K28","v":35.590000000000003},{"$f":"IF(H25<>0,IF(I24=\"\",1,I24+1),\"\")","v":11}]
[{"$f":"'Start List Team Scoring'!A33","v":19},{"$f":"'Start List Team Scoring'!E33","v":"Sydney Graham"},{"$f":"'Start List Team Scoring'!F33","v":"50-54"},{"$f":"'Start List Team Scoring'!G33","v":"F"},{"$f":"'Start List Team Scoring'!H33","v":"ALP"},{"$f":"'Start List Team Scoring'!I33","v":36.630000000000003},{"$f":"'Start List Team Scoring'!J33","v":37.21},{"$f":"'Start List Team Scoring'!K33","v":36.630000000000003},{"$f":"IF(H26<>0,IF(I25=\"\",1,I25+1),\"\")","v":12}]
[{"$f":"'Start List Team Scoring'!A34","v":22},{"$f":"'Start List Team Scoring'!E34","v":"Judy Donaldson"},{"$f":"'Start List Team Scoring'!F34","v":"50-54"},{"$f":"'Start List Team Scoring'!G34","v":"F"},{"$f":"'Start List Team Scoring'!H34","v":"CAL"},{"$f":"'Start List Team Scoring'!I34","v":999},{"$f":"'Start List Team Scoring'!J34","v":38.53},{"$f":"'Start List Team Scoring'!K34","v":38.53},{"$f":"IF(H27<>0,IF(I26=\"\",1,I26+1),\"\")","v":13}]
[{"$f":"'Start List Team Scoring'!A14","v":3},{"$f":"'Start List Team Scoring'!E14","v":"Jane Willson"},{"$f":"'Start List Team Scoring'!F14","v":"60-64"},{"$f":"'Start List Team Scoring'!G14","v":"F"},{"$f":"'Start List Team Scoring'!H14","v":"GP"},{"$f":"'Start List Team Scoring'!I14","v":39.03},{"$f":"'Start List Team Scoring'!J14","v":39.29},{"$f":"'Start List Team Scoring'!K14","v":39.03},{"$f":"IF(H28<>0,IF(I27=\"\",1,I27+1),\"\")","v":14}]
[{"$f":"'Start List Team Scoring'!A15","v":4},{"$f":"'Start List Team Scoring'!E15","v":"Sharon Regan"},{"$f":"'Start List Team Scoring'!F15","v":"60-64"},{"$f":"'Start List Team Scoring'!G15","v":"F"},{"$f":"'Start List Team Scoring'!H15","v":"CAL"},{"$f":"'Start List Team Scoring'!I15","v":39.53},{"$f":"'Start List Team Scoring'!J15","v":40.729999999999997},{"$f":"'Start List Team Scoring'!K15","v":39.53},{"$f":"IF(H29<>0,IF(I28=\"\",1,I28+1),\"\")","v":15}]
[{"$f":"'Start List Team Scoring'!A13","v":2},{"$f":"'Start List Team Scoring'!E13","v":"Patricia Bain"},{"$f":"'Start List Team Scoring'!F13","v":"65-69"},{"$f":"'Start List Team Scoring'!G13","v":"F"},{"$f":"'Start List Team Scoring'!H13","v":"TDG"},{"$f":"'Start List Team Scoring'!I13","v":48.24},{"$f":"'Start List Team Scoring'!J13","v":"DNS"},{"$f":"'Start List Team Scoring'!K13","v":48.24},{"$f":"IF(H30<>0,IF(I29=\"\",1,I29+1),\"\")","v":16}]
[{"$f":"'Start List Team Scoring'!A20","v":13},{"$f":"'Start List Team Scoring'!E20","v":"Gerry Young"},{"$f":"'Start List Team Scoring'!F20","v":"70-74"},{"$f":"'Start List Team Scoring'!G20","v":"M"},{"$f":"'Start List Team Scoring'!H20","v":"GP"},{"$f":"'Start List Team Scoring'!I20","v":"DNS"},{"$f":"'Start List Team Scoring'!J20","v":"DNS"},{"$f":"'Start List Team Scoring'!K20","v":0},{"$f":"IF(H31<>0,IF(I30=\"\",1,I30+1),\"\")","v":""}]
[{"$f":"'Start List Team Scoring'!A36","v":28},{"$f":"'Start List Team Scoring'!E36","v":"Chris Sadler"},{"$f":"'Start List Team Scoring'!F36","v":"60-64"},{"$f":"'Start List Team Scoring'!G36","v":"M"},{"$f":"'Start List Team Scoring'!H36","v":"GP"},{"$f":"'Start List Team Scoring'!I36","v":"DNS"},{"$f":"'Start List Team Scoring'!J36","v":"DNS"},{"$f":"'Start List Team Scoring'!K36","v":0},{"$f":"IF(H32<>0,IF(I31=\"\",1,I31+1),\"\")","v":""}]
[{"$f":"'Start List Team Scoring'!A37","v":31},{"$f":"'Start List Team Scoring'!E37","v":"Chuck Reynolds *"},{"$f":"'Start List Team Scoring'!F37","v":"60-64"},{"$f":"'Start List Team Scoring'!G37","v":"M"},{"$f":"'Start List Team Scoring'!H37","v":"TDG"},{"$f":"'Start List Team Scoring'!I37","v":"DNS"},{"$f":"'Start List Team Scoring'!J37","v":"DNS"},{"$f":"'Start List Team Scoring'!K37","v":0},{"$f":"IF(H33<>0,IF(I32=\"\",1,I32+1),\"\")","v":""}]
[{"$f":"'Start List Team Scoring'!A38","v":32},{"$f":"'Start List Team Scoring'!E38","v":"Boyd Van Allen"},{"$f":"'Start List Team Scoring'!F38","v":"60-64"},{"$f":"'Start List Team Scoring'!G38","v":"M"},{"$f":"'Start List Team Scoring'!H38","v":"GP"},{"$f":"'Start List Team Scoring'!I38","v":"DNS"},{"$f":"'Start List Team Scoring'!J38","v":"DNS"},{"$f":"'Start List Team Scoring'!K38","v":0},{"$f":"IF(H34<>0,IF(I33=\"\",1,I33+1),\"\")","v":""}]
[{"$f":"'Start List Team Scoring'!A46","v":37},{"$f":"'Start List Team Scoring'!E46","v":"Michael Gagnon"},{"$f":"'Start List Team Scoring'!F46","v":"55-59"},{"$f":"'Start List Team Scoring'!G46","v":"M"},{"$f":"'Start List Team Scoring'!H46","v":"TDG"},{"$f":"'Start List Team Scoring'!I46","v":"DNS"},{"$f":"'Start List Team Scoring'!J46","v":"DNS"},{"$f":"'Start List Team Scoring'!K46","v":0},{"$f":"IF(H35<>0,IF(I34=\"\",1,I34+1),\"\")","v":""}]
[{"$f":"'Start List Team Scoring'!A47","v":45},{"$f":"'Start List Team Scoring'!E47","v":"Steve Dryden"},{"$f":"'Start List Team Scoring'!F47","v":"55-59"},{"$f":"'Start List Team Scoring'!G47","v":"M"},{"$f":"'Start List Team Scoring'!H47","v":"TDG"},{"$f":"'Start List Team Scoring'!I47","v":"DNS"},{"$f":"'Start List Team Scoring'!J47","v":"DNS"},{"$f":"'Start List Team Scoring'!K47","v":0},{"$f":"IF(H36<>0,IF(I35=\"\",1,I35+1),\"\")","v":""}]
[{"$f":"'Start List Team Scoring'!A57","v":56},{"$f":"'Start List Team Scoring'!E57","v":"Rob Muru"},{"$f":"'Start List Team Scoring'!F57","v":"50-54"},{"$f":"'Start List Team Scoring'!G57","v":"M"},{"$f":"'Start List Team Scoring'!H57","v":"CAL"},{"$f":"'Start List Team Scoring'!I57","v":"DNS"},{"$f":"'Start List Team Scoring'!J57","v":"DNS"},{"$f":"'Start List Team Scoring'!K57","v":0},{"$f":"IF(H37<>0,IF(I36=\"\",1,I36+1),\"\")","v":""}]
[{"$f":"'Start List Team Scoring'!A58","v":58},{"$f":"'Start List Team Scoring'!E58","v":"Rob Nogas"},{"$f":"'Start List Team Scoring'!F58","v":"50-54"},{"$f":"'Start List Team Scoring'!G58","v":"M"},{"$f":"'Start List Team Scoring'!H58","v":"TDG"},{"$f":"'Start List Team Scoring'!I58","v":"DNS"},{"$f":"'Start List Team Scoring'!J58","v":"DNS"},{"$f":"'Start List Team Scoring'!K58","v":0},{"$f":"IF(H38<>0,IF(I37=\"\",1,I37+1),\"\")","v":""}]
[{"$f":"'Start List Team Scoring'!A59","v":61},{"$f":"'Start List Team Scoring'!E59","v":"John Stafford"},{"$f":"'Start List Team Scoring'!F59","v":"50-54"},{"$f":"'Start List Team Scoring'!G59","v":"M"},{"$f":"'Start List Team Scoring'!H59","v":"TDG"},{"$f":"'Start List Team Scoring'!I59","v":"DNS"},{"$f":"'Start List Team Scoring'!J59","v":"DNS"},{"$f":"'Start List Team Scoring'!K59","v":0},{"$f":"IF(H39<>0,IF(I38=\"\",1,I38+1),\"\")","v":""}]
[{"$f":"'Start List Team Scoring'!A60","v":64},{"$f":"'Start List Team Scoring'!E60","v":"Thomas Kochuta *"},{"$f":"'Start List Team Scoring'!F60","v":"50-54"},{"$f":"'Start List Team Scoring'!G60","v":"M"},{"$f":"'Start List Team Scoring'!H60","v":"TDG"},{"$f":"'Start List Team Scoring'!I60","v":"DNS"},{"$f":"'Start List Team Scoring'!J60","v":"DNS"},{"$f":"'Start List Team Scoring'!K60","v":0},{"$f":"IF(H40<>0,IF(I39=\"\",1,I39+1),\"\")","v":""}]
[{"$f":"'Start List Team Scoring'!A93","v":86},{"$f":"'Start List Team Scoring'!E93","v":"Robert Linklater"},{"$f":"'Start List Team Scoring'!F93","v":"40-44"},{"$f":"'Start List Team Scoring'!G93","v":"M"},{"$f":"'Start List Team Scoring'!H93","v":"GP"},{"$f":"'Start List Team Scoring'!I93","v":"DNS"},{"$f":"'Start List Team Scoring'!J93","v":"DNS"},{"$f":"'Start List Team Scoring'!K93","v":0},{"$f":"IF(H41<>0,IF(I40=\"\",1,I40+1),\"\")","v":""}]
[{"$f":"'Start List Team Scoring'!A99","v":88},{"$f":"'Start List Team Scoring'!E99","v":"Scott McLorie"},{"$f":"'Start List Team Scoring'!F99","v":"35-39"},{"$f":"'Start List Team Scoring'!G99","v":"M"},{"$f":"'Start List Team Scoring'!H99","v":"CRA"},{"$f":"'Start List Team Scoring'!I99","v":"DNS"},{"$f":"'Start List Team Scoring'!J99","v":"DNS"},{"$f":"'Start List Team Scoring'!K99","v":0},{"$f":"IF(H42<>0,IF(I41=\"\",1,I41+1),\"\")","v":""}]
[{"$f":"'Start List Team Scoring'!A101","v":93},{"$f":"'Start List Team Scoring'!E101","v":"Justin Kowal"},{"$f":"'Start List Team Scoring'!F101","v":"30-34"},{"$f":"'Start List Team Scoring'!G101","v":"M"},{"$f":"'Start List Team Scoring'!H101","v":"CRA"},{"$f":"'Start List Team Scoring'!I101","v":"DNS"},{"$f":"'Start List Team Scoring'!J101","v":"DNS"},{"$f":"'Start List Team Scoring'!K101","v":0},{"$f":"IF(H43<>0,IF(I42=\"\",1,I42+1),\"\")","v":""}]
[{"$f":"'Start List Team Scoring'!A105","v":95},{"$f":"'Start List Team Scoring'!E105","v":"Mike Parr"},{"$f":"'Start List Team Scoring'!F105","v":"18-29"},{"$f":"'Start List Team Scoring'!G105","v":"M"},{"$f":"'Start List Team Scoring'!H105","v":"ALP"},{"$f":"'Start List Team Scoring'!I105","v":"DNS"},{"$f":"'Start List Team Scoring'!J105","v":"DNS"},{"$f":"'Start List Team Scoring'!K105","v":0},{"$f":"IF(H44<>0,IF(I43=\"\",1,I43+1),\"\")","v":""}]
[{"$f":"'Start List Team Scoring'!A106","v":99},{"$f":"'Start List Team Scoring'!E106","v":"Jorden Sherer"},{"$f":"'Start List Team Scoring'!F106","v":"18-29"},{"$f":"'Start List Team Scoring'!G106","v":"M"},{"$f":"'Start List Team Scoring'!H106","v":"GP"},{"$f":"'Start List Team Scoring'!I106","v":"DNS"},{"$f":"'Start List Team Scoring'!J106","v":"DNS"},{"$f":"'Start List Team Scoring'!K106","v":0},{"$f":"IF(H45<>0,IF(I44=\"\",1,I44+1),\"\")","v":""}]
[{"$f":"'Start List Team Scoring'!A107","v":100},{"$f":"'Start List Team Scoring'!E107","v":"Jeremy Owen"},{"$f":"'Start List Team Scoring'!F107","v":"18-29"},{"$f":"'Start List Team Scoring'!G107","v":"M"},{"$f":"'Start List Team Scoring'!H107","v":"GP"},{"$f":"'Start List Team Scoring'!I107","v":"DNS"},{"$f":"'Start List Team Scoring'!J107","v":"DNS"},{"$f":"'Start List Team Scoring'!K107","v":0},{"$f":"IF(H46<>0,IF(I45=\"\",1,I45+1),\"\")","v":""}]
[{"$f":"'Start List Team Scoring'!A108","v":94},{"$f":"'Start List Team Scoring'!E108","v":"Paul Atkinson"},{"$f":"'Start List Team Scoring'!F108","v":"18-29"},{"$f":"'Start List Team Scoring'!G108","v":"M"},{"$f":"'Start List Team Scoring'!H108","v":"CRA"},{"$f":"'Start List Team Scoring'!I108","v":22.32},{"$f":"'Start List Team Scoring'!J108","v":888},{"$f":"'Start List Team Scoring'!K108","v":22.32},{"$f":"IF(H47<>0,IF(I46=\"\",1,I46+1),\"\")","v":1}]
[{"$f":"'Start List Team Scoring'!A109","v":97},{"$f":"'Start List Team Scoring'!E109","v":"Erik Donaldson"},{"$f":"'Start List Team Scoring'!F109","v":"18-29"},{"$f":"'Start List Team Scoring'!G109","v":"M"},{"$f":"'Start List Team Scoring'!H109","v":"CAL"},{"$f":"'Start List Team Scoring'!I109","v":23.01},{"$f":"'Start List Team Scoring'!J109","v":24.22},{"$f":"'Start List Team Scoring'!K109","v":23.01},{"$f":"IF(H48<>0,IF(I47=\"\",1,I47+1),\"\")","v":2}]
[{"$f":"'Start List Team Scoring'!A110","v":98},{"$f":"'Start List Team Scoring'!E110","v":"Jesse Sheppard"},{"$f":"'Start List Team Scoring'!F110","v":"18-29"},{"$f":"'Start List Team Scoring'!G110","v":"M"},{"$f":"'Start List Team Scoring'!H110","v":"CRA"},{"$f":"'Start List Team Scoring'!I110","v":23.17},{"$f":"'Start List Team Scoring'!J110","v":888},{"$f":"'Start List Team Scoring'!K110","v":23.17},{"$f":"IF(H49<>0,IF(I48=\"\",1,I48+1),\"\")","v":3}]
[{"$f":"'Start List Team Scoring'!A102","v":90},{"$f":"'Start List Team Scoring'!E102","v":"Taylor Simms-Brown"},{"$f":"'Start List Team Scoring'!F102","v":"30-34"},{"$f":"'Start List Team Scoring'!G102","v":"M"},{"$f":"'Start List Team Scoring'!H102","v":"CRA"},{"$f":"'Start List Team Scoring'!I102","v":23.94},{"$f":"'Start List Team Scoring'!J102","v":23.91},{"$f":"'Start List Team Scoring'!K102","v":23.91},{"$f":"IF(H50<>0,IF(I49=\"\",1,I49+1),\"\")","v":4}]
[{"$f":"'Start List Team Scoring'!A94","v":82},{"$f":"'Start List Team Scoring'!E94","v":"Greg Cavers"},{"$f":"'Start List Team Scoring'!F94","v":"40-44"},{"$f":"'Start List Team Scoring'!G94","v":"M"},{"$f":"'Start List Team Scoring'!H94","v":"CRA"},{"$f":"'Start List Team Scoring'!I94","v":24.31},{"$f":"'Start List Team Scoring'!J94","v":24.98},{"$f":"'Start List Team Scoring'!K94","v":24.31},{"$f":"IF(H51<>0,IF(I50=\"\",1,I50+1),\"\")","v":5}]
[{"$f":"'Start List Team Scoring'!A85","v":76},{"$f":"'Start List Team Scoring'!E85","v":"John Mealy"},{"$f":"'Start List Team Scoring'!F85","v":"45-49"},{"$f":"'Start List Team Scoring'!G85","v":"M"},{"$f":"'Start List Team Scoring'!H85","v":"GP"},{"$f":"'Start List Team Scoring'!I85","v":24.44},{"$f":"'Start List Team Scoring'!J85","v":"DNS"},{"$f":"'Start List Team Scoring'!K85","v":24.44},{"$f":"IF(H52<>0,IF(I51=\"\",1,I51+1),\"\")","v":6}]
[{"$f":"'Start List Team Scoring'!A111","v":96},{"$f":"'Start List Team Scoring'!E111","v":"Marcus Willson"},{"$f":"'Start List Team Scoring'!F111","v":"18-29"},{"$f":"'Start List Team Scoring'!G111","v":"M"},{"$f":"'Start List Team Scoring'!H111","v":"GP"},{"$f":"'Start List Team Scoring'!I111","v":24.73},{"$f":"'Start List Team Scoring'!J111","v":24.61},{"$f":"'Start List Team Scoring'!K111","v":24.61},{"$f":"IF(H53<>0,IF(I52=\"\",1,I52+1),\"\")","v":7}]
[{"$f":"'Start List Team Scoring'!A48","v":35},{"$f":"'Start List Team Scoring'!E48","v":"Jeff Sutherland"},{"$f":"'Start List Team Scoring'!F48","v":"55-59"},{"$f":"'Start List Team Scoring'!G48","v":"M"},{"$f":"'Start List Team Scoring'!H48","v":"CRA"},{"$f":"'Start List Team Scoring'!I48","v":25.77},{"$f":"'Start List Team Scoring'!J48","v":25.31},{"$f":"'Start List Team Scoring'!K48","v":25.31},{"$f":"IF(H54<>0,IF(I53=\"\",1,I53+1),\"\")","v":8}]
[{"$f":"'Start List Team Scoring'!A61","v":48},{"$f":"'Start List Team Scoring'!E61","v":"Chris Samis"},{"$f":"'Start List Team Scoring'!F61","v":"50-54"},{"$f":"'Start List Team Scoring'!G61","v":"M"},{"$f":"'Start List Team Scoring'!H61","v":"TDG"},{"$f":"'Start List Team Scoring'!I61","v":25.34},{"$f":"'Start List Team Scoring'!J61","v":26.24},{"$f":"'Start List Team Scoring'!K61","v":25.34},{"$f":"IF(H55<>0,IF(I54=\"\",1,I54+1),\"\")","v":9}]
[{"$f":"'Start List Team Scoring'!A62","v":52},{"$f":"'Start List Team Scoring'!E62","v":"Jaime Hugessen"},{"$f":"'Start List Team Scoring'!F62","v":"50-54"},{"$f":"'Start List Team Scoring'!G62","v":"M"},{"$f":"'Start List Team Scoring'!H62","v":"TDG"},{"$f":"'Start List Team Scoring'!I62","v":25.91},{"$f":"'Start List Team Scoring'!J62","v":25.38},{"$f":"'Start List Team Scoring'!K62","v":25.38},{"$f":"IF(H56<>0,IF(I55=\"\",1,I55+1),\"\")","v":10}]
[{"$f":"'Start List Team Scoring'!A86","v":77},{"$f":"'Start List Team Scoring'!E86","v":"Kelly Shorer"},{"$f":"'Start List Team Scoring'!F86","v":"45-49"},{"$f":"'Start List Team Scoring'!G86","v":"M"},{"$f":"'Start List Team Scoring'!H86","v":"CAL"},{"$f":"'Start List Team Scoring'!I86","v":25.39},{"$f":"'Start List Team Scoring'!J86","v":26.39},{"$f":"'Start List Team Scoring'!K86","v":25.39},{"$f":"IF(H57<>0,IF(I56=\"\",1,I56+1),\"\")","v":11}]
[{"$f":"'Start List Team Scoring'!A63","v":54},{"$f":"'Start List Team Scoring'!E63","v":"Craig Shibley"},{"$f":"'Start List Team Scoring'!F63","v":"50-54"},{"$f":"'Start List Team Scoring'!G63","v":"M"},{"$f":"'Start List Team Scoring'!H63","v":"CRA"},{"$f":"'Start List Team Scoring'!I63","v":25.7},{"$f":"'Start List Team Scoring'!J63","v":26.51},{"$f":"'Start List Team Scoring'!K63","v":25.7},{"$f":"IF(H58<>0,IF(I57=\"\",1,I57+1),\"\")","v":12}]
[{"$f":"'Start List Team Scoring'!A64","v":51},{"$f":"'Start List Team Scoring'!E64","v":"Jeff Parr"},{"$f":"'Start List Team Scoring'!F64","v":"50-54"},{"$f":"'Start List Team Scoring'!G64","v":"M"},{"$f":"'Start List Team Scoring'!H64","v":"ALP"},{"$f":"'Start List Team Scoring'!I64","v":25.82},{"$f":"'Start List Team Scoring'!J64","v":26.97},{"$f":"'Start List Team Scoring'!K64","v":25.82},{"$f":"IF(H59<>0,IF(I58=\"\",1,I58+1),\"\")","v":13}]
[{"$f":"'Start List Team Scoring'!A65","v":49},{"$f":"'Start List Team Scoring'!E65","v":"Bruce Simpson"},{"$f":"'Start List Team Scoring'!F65","v":"50-54"},{"$f":"'Start List Team Scoring'!G65","v":"M"},{"$f":"'Start List Team Scoring'!H65","v":"CAL"},{"$f":"'Start List Team Scoring'!I65","v":25.9},{"$f":"'Start List Team Scoring'!J65","v":25.85},{"$f":"'Start List Team Scoring'!K65","v":25.85},{"$f":"IF(H60<>0,IF(I59=\"\",1,I59+1),\"\")","v":14}]
[{"$f":"'Start List Team Scoring'!A95","v":83},{"$f":"'Start List Team Scoring'!E95","v":"Darren Gottlieb"},{"$f":"'Start List Team Scoring'!F95","v":"40-44"},{"$f":"'Start List Team Scoring'!G95","v":"M"},{"$f":"'Start List Team Scoring'!H95","v":"ALP"},{"$f":"'Start List Team Scoring'!I95","v":25.87},{"$f":"'Start List Team Scoring'!J95","v":999},{"$f":"'Start List Team Scoring'!K95","v":25.87},{"$f":"IF(H61<>0,IF(I60=\"\",1,I60+1),\"\")","v":15}]
[{"$f":"'Start List Team Scoring'!A87","v":79},{"$f":"'Start List Team Scoring'!E87","v":"Graham Smith"},{"$f":"'Start List Team Scoring'!F87","v":"45-49"},{"$f":"'Start List Team Scoring'!G87","v":"M"},{"$f":"'Start List Team Scoring'!H87","v":"CAL"},{"$f":"'Start List Team Scoring'!I87","v":25.94},{"$f":"'Start List Team Scoring'!J87","v":26.66},{"$f":"'Start List Team Scoring'!K87","v":25.94},{"$f":"IF(H62<>0,IF(I61=\"\",1,I61+1),\"\")","v":16}]
[{"$f":"'Start List Team Scoring'!A66","v":63},{"$f":"'Start List Team Scoring'!E66","v":"Randy Dalton"},{"$f":"'Start List Team Scoring'!F66","v":"50-54"},{"$f":"'Start List Team Scoring'!G66","v":"M"},{"$f":"'Start List Team Scoring'!H66","v":"CRA"},{"$f":"'Start List Team Scoring'!I66","v":26.2},{"$f":"'Start List Team Scoring'!J66","v":26.79},{"$f":"'Start List Team Scoring'!K66","v":26.2},{"$f":"IF(H63<>0,IF(I62=\"\",1,I62+1),\"\")","v":17}]
[{"$f":"'Start List Team Scoring'!A96","v":84},{"$f":"'Start List Team Scoring'!E96","v":"Rob Furse"},{"$f":"'Start List Team Scoring'!F96","v":"40-44"},{"$f":"'Start List Team Scoring'!G96","v":"M"},{"$f":"'Start List Team Scoring'!H96","v":"GP"},{"$f":"'Start List Team Scoring'!I96","v":26.21},{"$f":"'Start List Team Scoring'!J96","v":26.73},{"$f":"'Start List Team Scoring'!K96","v":26.21},{"$f":"IF(H64<>0,IF(I63=\"\",1,I63+1),\"\")","v":18}]
[{"$f":"'Start List Team Scoring'!A67","v":50},{"$f":"'Start List Team Scoring'!E67","v":"Trent Winstone"},{"$f":"'Start List Team Scoring'!F67","v":"50-54"},{"$f":"'Start List Team Scoring'!G67","v":"M"},{"$f":"'Start List Team Scoring'!H67","v":"CRA"},{"$f":"'Start List Team Scoring'!I67","v":26.65},{"$f":"'Start List Team Scoring'!J67","v":26.42},{"$f":"'Start List Team Scoring'!K67","v":26.42},{"$f":"IF(H65<>0,IF(I64=\"\",1,I64+1),\"\")","v":19}]
[{"$f":"'Start List Team Scoring'!A112","v":101},{"$f":"'Start List Team Scoring'!E112","v":"Matt Sirek"},{"$f":"'Start List Team Scoring'!F112","v":"18-29"},{"$f":"'Start List Team Scoring'!G112","v":"M"},{"$f":"'Start List Team Scoring'!H112","v":"CAL"},{"$f":"'Start List Team Scoring'!I112","v":28.56},{"$f":"'Start List Team Scoring'!J112","v":26.61},{"$f":"'Start List Team Scoring'!K112","v":26.61},{"$f":"IF(H66<>0,IF(I65=\"\",1,I65+1),\"\")","v":20}]
[{"$f":"'Start List Team Scoring'!A68","v":60},{"$f":"'Start List Team Scoring'!E68","v":"Ian Latimer"},{"$f":"'Start List Team Scoring'!F68","v":"50-54"},{"$f":"'Start List Team Scoring'!G68","v":"M"},{"$f":"'Start List Team Scoring'!H68","v":"CRA"},{"$f":"'Start List Team Scoring'!I68","v":26.78},{"$f":"'Start List Team Scoring'!J68","v":27.11},{"$f":"'Start List Team Scoring'!K68","v":26.78},{"$f":"IF(H67<>0,IF(I66=\"\",1,I66+1),\"\")","v":21}]
[{"$f":"'Start List Team Scoring'!A88","v":78},{"$f":"'Start List Team Scoring'!E88","v":"Clarke Smith"},{"$f":"'Start List Team Scoring'!F88","v":"45-49"},{"$f":"'Start List Team Scoring'!G88","v":"M"},{"$f":"'Start List Team Scoring'!H88","v":"GP"},{"$f":"'Start List Team Scoring'!I88","v":27.14},{"$f":"'Start List Team Scoring'!J88","v":27.98},{"$f":"'Start List Team Scoring'!K88","v":27.14},{"$f":"IF(H68<>0,IF(I67=\"\",1,I67+1),\"\")","v":22}]
[{"$f":"'Start List Team Scoring'!A103","v":92},{"$f":"'Start List Team Scoring'!E103","v":"Tom Murdison"},{"$f":"'Start List Team Scoring'!F103","v":"30-34"},{"$f":"'Start List Team Scoring'!G103","v":"M"},{"$f":"'Start List Team Scoring'!H103","v":"CAL"},{"$f":"'Start List Team Scoring'!I103","v":27.2},{"$f":"'Start List Team Scoring'!J103","v":27.8},{"$f":"'Start List Team Scoring'!K103","v":27.2},{"$f":"IF(H69<>0,IF(I68=\"\",1,I68+1),\"\")","v":23}]
[{"$f":"'Start List Team Scoring'!A49","v":38},{"$f":"'Start List Team Scoring'!E49","v":"Mike Duder"},{"$f":"'Start List Team Scoring'!F49","v":"55-59"},{"$f":"'Start List Team Scoring'!G49","v":"M"},{"$f":"'Start List Team Scoring'!H49","v":"GP"},{"$f":"'Start List Team Scoring'!I49","v":27.34},{"$f":"'Start List Team Scoring'!J49","v":27.27},{"$f":"'Start List Team Scoring'!K49","v":27.27},{"$f":"IF(H70<>0,IF(I69=\"\",1,I69+1),\"\")","v":24}]
[{"$f":"'Start List Team Scoring'!A39","v":29},{"$f":"'Start List Team Scoring'!E39","v":"Ralph Ferguson"},{"$f":"'Start List Team Scoring'!F39","v":"60-64"},{"$f":"'Start List Team Scoring'!G39","v":"M"},{"$f":"'Start List Team Scoring'!H39","v":"CAL"},{"$f":"'Start List Team Scoring'!I39","v":27.36},{"$f":"'Start List Team Scoring'!J39","v":888},{"$f":"'Start List Team Scoring'!K39","v":27.36},{"$f":"IF(H71<>0,IF(I70=\"\",1,I70+1),\"\")","v":25}]
[{"$f":"'Start List Team Scoring'!A69","v":53},{"$f":"'Start List Team Scoring'!E69","v":"Peter Neumann"},{"$f":"'Start List Team Scoring'!F69","v":"50-54"},{"$f":"'Start List Team Scoring'!G69","v":"M"},{"$f":"'Start List Team Scoring'!H69","v":"CAL"},{"$f":"'Start List Team Scoring'!I69","v":27.41},{"$f":"'Start List Team Scoring'!J69","v":27.97},{"$f":"'Start List Team Scoring'!K69","v":27.41},{"$f":"IF(H72<>0,IF(I71=\"\",1,I71+1),\"\")","v":26}]
[{"$f":"'Start List Team Scoring'!A50","v":43},{"$f":"'Start List Team Scoring'!E50","v":"Peter Owen"},{"$f":"'Start List Team Scoring'!F50","v":"55-59"},{"$f":"'Start List Team Scoring'!G50","v":"M"},{"$f":"'Start List Team Scoring'!H50","v":"GP"},{"$f":"'Start List Team Scoring'!I50","v":27.94},{"$f":"'Start List Team Scoring'!J50","v":27.62},{"$f":"'Start List Team Scoring'!K50","v":27.62},{"$f":"IF(H73<>0,IF(I72=\"\",1,I72+1),\"\")","v":27}]
[{"$f":"'Start List Team Scoring'!A89","v":75},{"$f":"'Start List Team Scoring'!E89","v":"David Garber"},{"$f":"'Start List Team Scoring'!F89","v":"45-49"},{"$f":"'Start List Team Scoring'!G89","v":"M"},{"$f":"'Start List Team Scoring'!H89","v":"ALP"},{"$f":"'Start List Team Scoring'!I89","v":27.86},{"$f":"'Start List Team Scoring'!J89","v":28.41},{"$f":"'Start List Team Scoring'!K89","v":27.86},{"$f":"IF(H74<>0,IF(I73=\"\",1,I73+1),\"\")","v":28}]
[{"$f":"'Start List Team Scoring'!A100","v":89},{"$f":"'Start List Team Scoring'!E100","v":"Derek Crawford"},{"$f":"'Start List Team Scoring'!F100","v":"35-39"},{"$f":"'Start List Team Scoring'!G100","v":"M"},{"$f":"'Start List Team Scoring'!H100","v":"ALP"},{"$f":"'Start List Team Scoring'!I100","v":27.94},{"$f":"'Start List Team Scoring'!J100","v":28.32},{"$f":"'Start List Team Scoring'!K100","v":27.94},{"$f":"IF(H75<>0,IF(I74=\"\",1,I74+1),\"\")","v":29}]
[{"$f":"'Start List Team Scoring'!A51","v":40},{"$f":"'Start List Team Scoring'!E51","v":"Chris Fregren"},{"$f":"'Start List Team Scoring'!F51","v":"55-59"},{"$f":"'Start List Team Scoring'!G51","v":"M"},{"$f":"'Start List Team Scoring'!H51","v":"CRA"},{"$f":"'Start List Team Scoring'!I51","v":28.5},{"$f":"'Start List Team Scoring'!J51","v":28.04},{"$f":"'Start List Team Scoring'!K51","v":28.04},{"$f":"IF(H76<>0,IF(I75=\"\",1,I75+1),\"\")","v":30}]
[{"$f":"'Start List Team Scoring'!A52","v":39},{"$f":"'Start List Team Scoring'!E52","v":"Paul Montgomery"},{"$f":"'Start List Team Scoring'!F52","v":"55-59"},{"$f":"'Start List Team Scoring'!G52","v":"M"},{"$f":"'Start List Team Scoring'!H52","v":"CAL"},{"$f":"'Start List Team Scoring'!I52","v":28.2},{"$f":"'Start List Team Scoring'!J52","v":32.020000000000003},{"$f":"'Start List Team Scoring'!K52","v":28.2},{"$f":"IF(H77<>0,IF(I76=\"\",1,I76+1),\"\")","v":31}]
[{"$f":"'Start List Team Scoring'!A40","v":33},{"$f":"'Start List Team Scoring'!E40","v":"Grant Willson"},{"$f":"'Start List Team Scoring'!F40","v":"60-64"},{"$f":"'Start List Team Scoring'!G40","v":"M"},{"$f":"'Start List Team Scoring'!H40","v":"GP"},{"$f":"'Start List Team Scoring'!I40","v":28.22},{"$f":"'Start List Team Scoring'!J40","v":28.41},{"$f":"'Start List Team Scoring'!K40","v":28.22},{"$f":"IF(H78<>0,IF(I77=\"\",1,I77+1),\"\")","v":32}]
[{"$f":"'Start List Team Scoring'!A70","v":57},{"$f":"'Start List Team Scoring'!E70","v":"Jeff Craig"},{"$f":"'Start List Team Scoring'!F70","v":"50-54"},{"$f":"'Start List Team Scoring'!G70","v":"M"},{"$f":"'Start List Team Scoring'!H70","v":"CRA"},{"$f":"'Start List Team Scoring'!I70","v":28.46},{"$f":"'Start List Team Scoring'!J70","v":28.34},{"$f":"'Start List Team Scoring'!K70","v":28.34},{"$f":"IF(H79<>0,IF(I78=\"\",1,I78+1),\"\")","v":33}]
[{"$f":"'Start List Team Scoring'!A71","v":47},{"$f":"'Start List Team Scoring'!E71","v":"Kevin Beattie"},{"$f":"'Start List Team Scoring'!F71","v":"50-54"},{"$f":"'Start List Team Scoring'!G71","v":"M"},{"$f":"'Start List Team Scoring'!H71","v":"ALP"},{"$f":"'Start List Team Scoring'!I71","v":28.49},{"$f":"'Start List Team Scoring'!J71","v":28.94},{"$f":"'Start List Team Scoring'!K71","v":28.49},{"$f":"IF(H80<>0,IF(I79=\"\",1,I79+1),\"\")","v":34}]
[{"$f":"'Start List Team Scoring'!A90","v":80},{"$f":"'Start List Team Scoring'!E90","v":"John Brajkovich"},{"$f":"'Start List Team Scoring'!F90","v":"45-49"},{"$f":"'Start List Team Scoring'!G90","v":"M"},{"$f":"'Start List Team Scoring'!H90","v":"CAL"},{"$f":"'Start List Team Scoring'!I90","v":28.56},{"$f":"'Start List Team Scoring'!J90","v":999},{"$f":"'Start List Team Scoring'!K90","v":28.56},{"$f":"IF(H81<>0,IF(I80=\"\",1,I80+1),\"\")","v":35}]
[{"$f":"'Start List Team Scoring'!A53","v":36},{"$f":"'Start List Team Scoring'!E53","v":"Peter Coward"},{"$f":"'Start List Team Scoring'!F53","v":"55-59"},{"$f":"'Start List Team Scoring'!G53","v":"M"},{"$f":"'Start List Team Scoring'!H53","v":"ALP"},{"$f":"'Start List Team Scoring'!I53","v":28.68},{"$f":"'Start List Team Scoring'!J53","v":28.68},{"$f":"'Start List Team Scoring'!K53","v":28.68},{"$f":"IF(H82<>0,IF(I81=\"\",1,I81+1),\"\")","v":36}]
[{"$f":"'Start List Team Scoring'!A72","v":46},{"$f":"'Start List Team Scoring'!E72","v":"Robert Burnes "},{"$f":"'Start List Team Scoring'!F72","v":"50-54"},{"$f":"'Start List Team Scoring'!G72","v":"M"},{"$f":"'Start List Team Scoring'!H72","v":"CRA"},{"$f":"'Start List Team Scoring'!I72","v":28.81},{"$f":"'Start List Team Scoring'!J72","v":29.05},{"$f":"'Start List Team Scoring'!K72","v":28.81},{"$f":"IF(H83<>0,IF(I82=\"\",1,I82+1),\"\")","v":37}]
[{"$f":"'Start List Team Scoring'!A104","v":91},{"$f":"'Start List Team Scoring'!E104","v":"Mark McTaggart"},{"$f":"'Start List Team Scoring'!F104","v":"30-34"},{"$f":"'Start List Team Scoring'!G104","v":"M"},{"$f":"'Start List Team Scoring'!H104","v":"ALP"},{"$f":"'Start List Team Scoring'!I104","v":28.97},{"$f":"'Start List Team Scoring'!J104","v":29.35},{"$f":"'Start List Team Scoring'!K104","v":28.97},{"$f":"IF(H84<>0,IF(I83=\"\",1,I83+1),\"\")","v":38}]
[{"$f":"'Start List Team Scoring'!A91","v":74},{"$f":"'Start List Team Scoring'!E91","v":"Jerry Patten"},{"$f":"'Start List Team Scoring'!F91","v":"45-49"},{"$f":"'Start List Team Scoring'!G91","v":"M"},{"$f":"'Start List Team Scoring'!H91","v":"CRA"},{"$f":"'Start List Team Scoring'!I91","v":30.23},{"$f":"'Start List Team Scoring'!J91","v":28.98},{"$f":"'Start List Team Scoring'!K91","v":28.98},{"$f":"IF(H85<>0,IF(I84=\"\",1,I84+1),\"\")","v":39}]
[{"$f":"'Start List Team Scoring'!A73","v":59},{"$f":"'Start List Team Scoring'!E73","v":"Geoff Guy"},{"$f":"'Start List Team Scoring'!F73","v":"50-54"},{"$f":"'Start List Team Scoring'!G73","v":"M"},{"$f":"'Start List Team Scoring'!H73","v":"CAL"},{"$f":"'Start List Team Scoring'!I73","v":29.4},{"$f":"'Start List Team Scoring'!J73","v":888},{"$f":"'Start List Team Scoring'!K73","v":29.4},{"$f":"IF(H86<>0,IF(I85=\"\",1,I85+1),\"\")","v":40}]
[{"$f":"'Start List Team Scoring'!A97","v":87},{"$f":"'Start List Team Scoring'!E97","v":"Scott Plaskett"},{"$f":"'Start List Team Scoring'!F97","v":"40-44"},{"$f":"'Start List Team Scoring'!G97","v":"M"},{"$f":"'Start List Team Scoring'!H97","v":"CAL"},{"$f":"'Start List Team Scoring'!I97","v":29.8},{"$f":"'Start List Team Scoring'!J97","v":29.85},{"$f":"'Start List Team Scoring'!K97","v":29.8},{"$f":"IF(H87<>0,IF(I86=\"\",1,I86+1),\"\")","v":41}]
[{"$f":"'Start List Team Scoring'!A21","v":11},{"$f":"'Start List Team Scoring'!E21","v":"Heinz Grossmann "},{"$f":"'Start List Team Scoring'!F21","v":"70-74"},{"$f":"'Start List Team Scoring'!G21","v":"M"},{"$f":"'Start List Team Scoring'!H21","v":"GP"},{"$f":"'Start List Team Scoring'!I21","v":999},{"$f":"'Start List Team Scoring'!J21","v":31.06},{"$f":"'Start List Team Scoring'!K21","v":31.06},{"$f":"IF(H88<>0,IF(I87=\"\",1,I87+1),\"\")","v":42}]
[{"$f":"'Start List Team Scoring'!A41","v":30},{"$f":"'Start List Team Scoring'!E41","v":"Chris Clark"},{"$f":"'Start List Team Scoring'!F41","v":"60-64"},{"$f":"'Start List Team Scoring'!G41","v":"M"},{"$f":"'Start List Team Scoring'!H41","v":"CRA"},{"$f":"'Start List Team Scoring'!I41","v":31.3},{"$f":"'Start List Team Scoring'!J41","v":31.81},{"$f":"'Start List Team Scoring'!K41","v":31.3},{"$f":"IF(H89<>0,IF(I88=\"\",1,I88+1),\"\")","v":43}]
[{"$f":"'Start List Team Scoring'!A92","v":81},{"$f":"'Start List Team Scoring'!E92","v":"Mike Rowland"},{"$f":"'Start List Team Scoring'!F92","v":"45-49"},{"$f":"'Start List Team Scoring'!G92","v":"M"},{"$f":"'Start List Team Scoring'!H92","v":"CAL"},{"$f":"'Start List Team Scoring'!I92","v":31.62},{"$f":"'Start List Team Scoring'!J92","v":33.409999999999997},{"$f":"'Start List Team Scoring'!K92","v":31.62},{"$f":"IF(H90<>0,IF(I89=\"\",1,I89+1),\"\")","v":44}]
[{"$f":"'Start List Team Scoring'!A74","v":62},{"$f":"'Start List Team Scoring'!E74","v":"Taylor Gregory"},{"$f":"'Start List Team Scoring'!F74","v":"50-54"},{"$f":"'Start List Team Scoring'!G74","v":"M"},{"$f":"'Start List Team Scoring'!H74","v":"CAL"},{"$f":"'Start List Team Scoring'!I74","v":31.87},{"$f":"'Start List Team Scoring'!J74","v":31.79},{"$f":"'Start List Team Scoring'!K74","v":31.79},{"$f":"IF(H91<>0,IF(I90=\"\",1,I90+1),\"\")","v":45}]
[{"$f":"'Start List Team Scoring'!A54","v":42},{"$f":"'Start List Team Scoring'!E54","v":"Patrick Lee"},{"$f":"'Start List Team Scoring'!F54","v":"55-59"},{"$f":"'Start List Team Scoring'!G54","v":"M"},{"$f":"'Start List Team Scoring'!H54","v":"TDG"},{"$f":"'Start List Team Scoring'!I54","v":32.270000000000003},{"$f":"'Start List Team Scoring'!J54","v":32.85},{"$f":"'Start List Team Scoring'!K54","v":32.270000000000003},{"$f":"IF(H92<>0,IF(I91=\"\",1,I91+1),\"\")","v":46}]
[{"$f":"'Start List Team Scoring'!A55","v":41},{"$f":"'Start List Team Scoring'!E55","v":"Gary Solway"},{"$f":"'Start List Team Scoring'!F55","v":"55-59"},{"$f":"'Start List Team Scoring'!G55","v":"M"},{"$f":"'Start List Team Scoring'!H55","v":"ALP"},{"$f":"'Start List Team Scoring'!I55","v":32.92},{"$f":"'Start List Team Scoring'!J55","v":32.36},{"$f":"'Start List Team Scoring'!K55","v":32.36},{"$f":"IF(H93<>0,IF(I92=\"\",1,I92+1),\"\")","v":47}]
[{"$f":"'Start List Team Scoring'!A75","v":55},{"$f":"'Start List Team Scoring'!E75","v":"Greg Thompson"},{"$f":"'Start List Team Scoring'!F75","v":"50-54"},{"$f":"'Start List Team Scoring'!G75","v":"M"},{"$f":"'Start List Team Scoring'!H75","v":"TDG"},{"$f":"'Start List Team Scoring'!I75","v":32.61},{"$f":"'Start List Team Scoring'!J75","v":32.49},{"$f":"'Start List Team Scoring'!K75","v":32.49},{"$f":"IF(H94<>0,IF(I93=\"\",1,I93+1),\"\")","v":48}]
[{"$f":"'Start List Team Scoring'!A42","v":25},{"$f":"'Start List Team Scoring'!E42","v":"Paul Woodhouse"},{"$f":"'Start List Team Scoring'!F42","v":"60-64"},{"$f":"'Start List Team Scoring'!G42","v":"M"},{"$f":"'Start List Team Scoring'!H42","v":"CRA"},{"$f":"'Start List Team Scoring'!I42","v":888},{"$f":"'Start List Team Scoring'!J42","v":32.72},{"$f":"'Start List Team Scoring'!K42","v":32.72},{"$f":"IF(H95<>0,IF(I94=\"\",1,I94+1),\"\")","v":49}]
[{"$f":"'Start List Team Scoring'!A43","v":27},{"$f":"'Start List Team Scoring'!E43","v":"James Peacock"},{"$f":"'Start List Team Scoring'!F43","v":"60-64"},{"$f":"'Start List Team Scoring'!G43","v":"M"},{"$f":"'Start List Team Scoring'!H43","v":"TDG"},{"$f":"'Start List Team Scoring'!I43","v":33.090000000000003},{"$f":"'Start List Team Scoring'!J43","v":33.049999999999997},{"$f":"'Start List Team Scoring'!K43","v":33.049999999999997},{"$f":"IF(H96<>0,IF(I95=\"\",1,I95+1),\"\")","v":50}]
[{"$f":"'Start List Team Scoring'!A44","v":26},{"$f":"'Start List Team Scoring'!E44","v":"Tony Petrella"},{"$f":"'Start List Team Scoring'!F44","v":"60-64"},{"$f":"'Start List Team Scoring'!G44","v":"M"},{"$f":"'Start List Team Scoring'!H44","v":"ALP"},{"$f":"'Start List Team Scoring'!I44","v":33.29},{"$f":"'Start List Team Scoring'!J44","v":34.06},{"$f":"'Start List Team Scoring'!K44","v":33.29},{"$f":"IF(H97<>0,IF(I96=\"\",1,I96+1),\"\")","v":51}]
[{"$f":"'Start List Team Scoring'!A98","v":85},{"$f":"'Start List Team Scoring'!E98","v":"Francesco Fontana"},{"$f":"'Start List Team Scoring'!F98","v":"40-44"},{"$f":"'Start List Team Scoring'!G98","v":"M"},{"$f":"'Start List Team Scoring'!H98","v":"CAL"},{"$f":"'Start List Team Scoring'!I98","v":33.799999999999997},{"$f":"'Start List Team Scoring'!J98","v":36.94},{"$f":"'Start List Team Scoring'!K98","v":33.799999999999997},{"$f":"IF(H98<>0,IF(I97=\"\",1,I97+1),\"\")","v":52}]
[{"$f":"'Start List Team Scoring'!A56","v":44},{"$f":"'Start List Team Scoring'!E56","v":"Ron Perryman"},{"$f":"'Start List Team Scoring'!F56","v":"55-59"},{"$f":"'Start List Team Scoring'!G56","v":"M"},{"$f":"'Start List Team Scoring'!H56","v":"TDG"},{"$f":"'Start List Team Scoring'!I56","v":33.9},{"$f":"'Start List Team Scoring'!J56","v":888},{"$f":"'Start List Team Scoring'!K56","v":33.9},{"$f":"IF(H99<>0,IF(I98=\"\",1,I98+1),\"\")","v":53}]
[{"$f":"'Start List Team Scoring'!A22","v":12},{"$f":"'Start List Team Scoring'!E22","v":"Peter Pusitz"},{"$f":"'Start List Team Scoring'!F22","v":"70-74"},{"$f":"'Start List Team Scoring'!G22","v":"M"},{"$f":"'Start List Team Scoring'!H22","v":"CAL"},{"$f":"'Start List Team Scoring'!I22","v":36.380000000000003},{"$f":"'Start List Team Scoring'!J22","v":39.46},{"$f":"'Start List Team Scoring'!K22","v":36.380000000000003},{"$f":"IF(H100<>0,IF(I99=\"\",1,I99+1),\"\")","v":54}]
[{"$f":"'Start List Team Scoring'!A23","v":9},{"$f":"'Start List Team Scoring'!E23","v":"Rudy Berrang"},{"$f":"'Start List Team Scoring'!F23","v":"70-74"},{"$f":"'Start List Team Scoring'!G23","v":"M"},{"$f":"'Start List Team Scoring'!H23","v":"ALP"},{"$f":"'Start List Team Scoring'!I23","v":37.58},{"$f":"'Start List Team Scoring'!J23","v":"DNS"},{"$f":"'Start List Team Scoring'!K23","v":37.58},{"$f":"IF(H101<>0,IF(I100=\"\",1,I100+1),\"\")","v":55}]
[{"$f":"'Start List Team Scoring'!A16","v":5},{"$f":"'Start List Team Scoring'!E16","v":"Ken Lackner"},{"$f":"'Start List Team Scoring'!F16","v":"75-79"},{"$f":"'Start List Team Scoring'!G16","v":"M"},{"$f":"'Start List Team Scoring'!H16","v":"ALP"},{"$f":"'Start List Team Scoring'!I16","v":37.61},{"$f":"'Start List Team Scoring'!J16","v":"DNS"},{"$f":"'Start List Team Scoring'!K16","v":37.61},{"$f":"IF(H102<>0,IF(I101=\"\",1,I101+1),\"\")","v":56}]
[{"$f":"'Start List Team Scoring'!A17","v":8},{"$f":"'Start List Team Scoring'!E17","v":"Geoff Lowe"},{"$f":"'Start List Team Scoring'!F17","v":"75-79"},{"$f":"'Start List Team Scoring'!G17","v":"M"},{"$f":"'Start List Team Scoring'!H17","v":"GP"},{"$f":"'Start List Team Scoring'!I17","v":38.01},{"$f":"'Start List Team Scoring'!J17","v":888},{"$f":"'Start List Team Scoring'!K17","v":38.01},{"$f":"IF(H103<>0,IF(I102=\"\",1,I102+1),\"\")","v":57}]
[{"$f":"'Start List Team Scoring'!A18","v":6},{"$f":"'Start List Team Scoring'!E18","v":"Gene Kinoshita"},{"$f":"'Start List Team Scoring'!F18","v":"75-79"},{"$f":"'Start List Team Scoring'!G18","v":"M"},{"$f":"'Start List Team Scoring'!H18","v":"GP"},{"$f":"'Start List Team Scoring'!I18","v":38.479999999999997},{"$f":"'Start List Team Scoring'!J18","v":888},{"$f":"'Start List Team Scoring'!K18","v":38.479999999999997},{"$f":"IF(H104<>0,IF(I103=\"\",1,I103+1),\"\")","v":58}]
[{"$f":"'Start List Team Scoring'!A35","v":24},{"$f":"'Start List Team Scoring'!E35","v":"Doug Goodall"},{"$f":"'Start List Team Scoring'!F35","v":"65-69"},{"$f":"'Start List Team Scoring'!G35","v":"M"},{"$f":"'Start List Team Scoring'!H35","v":"TDG"},{"$f":"'Start List Team Scoring'!I35","v":42.53},{"$f":"'Start List Team Scoring'!J35","v":"DNS"},{"$f":"'Start List Team Scoring'!K35","v":42.53},{"$f":"IF(H105<>0,IF(I104=\"\",1,I104+1),\"\")","v":59}]
[{"$f":"'Start List Team Scoring'!A24","v":10},{"$f":"'Start List Team Scoring'!E24","v":"Thomas Bain"},{"$f":"'Start List Team Scoring'!F24","v":"70-74"},{"$f":"'Start List Team Scoring'!G24","v":"M"},{"$f":"'Start List Team Scoring'!H24","v":"TDG"},{"$f":"'Start List Team Scoring'!I24","v":44.77},{"$f":"'Start List Team Scoring'!J24","v":48.19},{"$f":"'Start List Team Scoring'!K24","v":44.77},{"$f":"IF(H106<>0,IF(I105=\"\",1,I105+1),\"\")","v":60}]
[{"$f":"'Start List Team Scoring'!A19","v":7},{"$f":"'Start List Team Scoring'!E19","v":"John Hethrington"},{"$f":"'Start List Team Scoring'!F19","v":"75-79"},{"$f":"'Start List Team Scoring'!G19","v":"M"},{"$f":"'Start List Team Scoring'!H19","v":"GP"},{"$f":"'Start List Team Scoring'!I19","v":70.040000000000006},{"$f":"'Start List Team Scoring'!J19","v":"DNS"},{"$f":"'Start List Team Scoring'!K19","v":70.040000000000006},{"$f":"IF(H107<>0,IF(I106=\"\",1,I106+1),\"\")","v":61}]
[{"$f":"'Start List Team Scoring'!A113","v":102},{"$f":"'Start List Team Scoring'!E113","v":0},{"$f":"'Start List Team Scoring'!F113","v":0},{"$f":"'Start List Team Scoring'!G113","v":0},{"$f":"'Start List Team Scoring'!H113","v":0},{"$f":"'Start List Team Scoring'!I113","v":0},{"$f":"'Start List Team Scoring'!J113","v":0},{"$f":"'Start List Team Scoring'!K113","v":0},{"$f":"IF(H108<>0,IF(I107=\"\",1,I107+1),\"\")","v":""}]
[{"$f":"'Start List Team Scoring'!A114","v":103},{"$f":"'Start List Team Scoring'!E114","v":0},{"$f":"'Start List Team Scoring'!F114","v":0},{"$f":"'Start List Team Scoring'!G114","v":0},{"$f":"'Start List Team Scoring'!H114","v":0},{"$f":"'Start List Team Scoring'!I114","v":0},{"$f":"'Start List Team Scoring'!J114","v":0},{"$f":"'Start List Team Scoring'!K114","v":0},""]
[{"$f":"'Start List Team Scoring'!A115","v":104},{"$f":"'Start List Team Scoring'!E115","v":0},{"$f":"'Start List Team Scoring'!F115","v":0},{"$f":"'Start List Team Scoring'!G115","v":0},{"$f":"'Start List Team Scoring'!H115","v":0},{"$f":"'Start List Team Scoring'!I115","v":0},{"$f":"'Start List Team Scoring'!J115","v":0},{"$f":"'Start List Team Scoring'!K115","v":0},""]
[{"$f":"'Start List Team Scoring'!A116","v":105},{"$f":"'Start List Team Scoring'!E116","v":0},{"$f":"'Start List Team Scoring'!F116","v":0},{"$f":"'Start List Team Scoring'!G116","v":0},{"$f":"'Start List Team Scoring'!H116","v":0},{"$f":"'Start List Team Scoring'!I116","v":0},{"$f":"'Start List Team Scoring'!J116","v":0},{"$f":"'Start List Team Scoring'!K116","v":0},""]
[{"$f":"'Start List Team Scoring'!A117","v":106},{"$f":"'Start List Team Scoring'!E117","v":0},{"$f":"'Start List Team Scoring'!F117","v":0},{"$f":"'Start List Team Scoring'!G117","v":0},{"$f":"'Start List Team Scoring'!H117","v":0},{"$f":"'Start List Team Scoring'!I117","v":0},{"$f":"'Start List Team Scoring'!J117","v":0},{"$f":"'Start List Team Scoring'!K117","v":0},""]
[{"$f":"'Start List Team Scoring'!A118","v":107},{"$f":"'Start List Team Scoring'!E118","v":0},{"$f":"'Start List Team Scoring'!F118","v":0},{"$f":"'Start List Team Scoring'!G118","v":0},{"$f":"'Start List Team Scoring'!H118","v":0},{"$f":"'Start List Team Scoring'!I118","v":0},{"$f":"'Start List Team Scoring'!J118","v":0},{"$f":"'Start List Team Scoring'!K118","v":0},""]
[{"$f":"'Start List Team Scoring'!A119","v":108},{"$f":"'Start List Team Scoring'!E119","v":0},{"$f":"'Start List Team Scoring'!F119","v":0},{"$f":"'Start List Team Scoring'!G119","v":0},{"$f":"'Start List Team Scoring'!H119","v":0},{"$f":"'Start List Team Scoring'!I119","v":0},{"$f":"'Start List Team Scoring'!J119","v":0},{"$f":"'Start List Team Scoring'!K119","v":0},""]
[{"$f":"'Start List Team Scoring'!A120","v":109},{"$f":"'Start List Team Scoring'!E120","v":0},{"$f":"'Start List Team Scoring'!F120","v":0},{"$f":"'Start List Team Scoring'!G120","v":0},{"$f":"'Start List Team Scoring'!H120","v":0},{"$f":"'Start List Team Scoring'!I120","v":0},{"$f":"'Start List Team Scoring'!J120","v":0},{"$f":"'Start List Team Scoring'!K120","v":0},""]
[{"$f":"'Start List Team Scoring'!A121","v":110},{"$f":"'Start List Team Scoring'!E121","v":0},{"$f":"'Start List Team Scoring'!F121","v":0},{"$f":"'Start List Team Scoring'!G121","v":0},{"$f":"'Start List Team Scoring'!H121","v":0},{"$f":"'Start List Team Scoring'!I121","v":0},{"$f":"'Start List Team Scoring'!J121","v":0},{"$f":"'Start List Team Scoring'!K121","v":0},""]
[{"$f":"'Start List Team Scoring'!A122","v":111},{"$f":"'Start List Team Scoring'!E122","v":0},{"$f":"'Start List Team Scoring'!F122","v":0},{"$f":"'Start List Team Scoring'!G122","v":0},{"$f":"'Start List Team Scoring'!H122","v":0},{"$f":"'Start List Team Scoring'!I122","v":0},{"$f":"'Start List Team Scoring'!J122","v":0},{"$f":"'Start List Team Scoring'!K122","v":0},""]
[{"$f":"'Start List Team Scoring'!A123","v":112},{"$f":"'Start List Team Scoring'!E123","v":0},{"$f":"'Start List Team Scoring'!F123","v":0},{"$f":"'Start List Team Scoring'!G123","v":0},{"$f":"'Start List Team Scoring'!H123","v":0},{"$f":"'Start List Team Scoring'!I123","v":0},{"$f":"'Start List Team Scoring'!J123","v":0},{"$f":"'Start List Team Scoring'!K123","v":0},""]
[{"$f":"'Start List Team Scoring'!A124","v":113},{"$f":"'Start List Team Scoring'!E124","v":0},{"$f":"'Start List Team Scoring'!F124","v":0},{"$f":"'Start List Team Scoring'!G124","v":0},{"$f":"'Start List Team Scoring'!H124","v":0},{"$f":"'Start List Team Scoring'!I124","v":0},{"$f":"'Start List Team Scoring'!J124","v":0},{"$f":"'Start List Team Scoring'!K124","v":0},""]
[{"$f":"'Start List Team Scoring'!A125","v":114},{"$f":"'Start List Team Scoring'!E125","v":0},{"$f":"'Start List Team Scoring'!F125","v":0},{"$f":"'Start List Team Scoring'!G125","v":0},{"$f":"'Start List Team Scoring'!H125","v":0},{"$f":"'Start List Team Scoring'!I125","v":0},{"$f":"'Start List Team Scoring'!J125","v":0},{"$f":"'Start List Team Scoring'!K125","v":0},""]
[{"$f":"'Start List Team Scoring'!A126","v":115},{"$f":"'Start List Team Scoring'!E126","v":0},{"$f":"'Start List Team Scoring'!F126","v":0},{"$f":"'Start List Team Scoring'!G126","v":0},{"$f":"'Start List Team Scoring'!H126","v":0},{"$f":"'Start List Team Scoring'!I126","v":0},{"$f":"'Start List Team Scoring'!J126","v":0},{"$f":"'Start List Team Scoring'!K126","v":0},""]
[{"$f":"'Start List Team Scoring'!A127","v":116},{"$f":"'Start List Team Scoring'!E127","v":0},{"$f":"'Start List Team Scoring'!F127","v":0},{"$f":"'Start List Team Scoring'!G127","v":0},{"$f":"'Start List Team Scoring'!H127","v":0},{"$f":"'Start List Team Scoring'!I127","v":0},{"$f":"'Start List Team Scoring'!J127","v":0},{"$f":"'Start List Team Scoring'!K127","v":0},""]
[{"$f":"'Start List Team Scoring'!A128","v":117},{"$f":"'Start List Team Scoring'!E128","v":0},{"$f":"'Start List Team Scoring'!F128","v":0},{"$f":"'Start List Team Scoring'!G128","v":0},{"$f":"'Start List Team Scoring'!H128","v":0},{"$f":"'Start List Team Scoring'!I128","v":0},{"$f":"'Start List Team Scoring'!J128","v":0},{"$f":"'Start List Team Scoring'!K128","v":0},""]
[{"$f":"'Start List Team Scoring'!A129","v":118},{"$f":"'Start List Team Scoring'!E129","v":0},{"$f":"'Start List Team Scoring'!F129","v":0},{"$f":"'Start List Team Scoring'!G129","v":0},{"$f":"'Start List Team Scoring'!H129","v":0},{"$f":"'Start List Team Scoring'!I129","v":0},{"$f":"'Start List Team Scoring'!J129","v":0},{"$f":"'Start List Team Scoring'!K129","v":0},""]
[{"$f":"'Start List Team Scoring'!A130","v":119},{"$f":"'Start List Team Scoring'!E130","v":0},{"$f":"'Start List Team Scoring'!F130","v":0},{"$f":"'Start List Team Scoring'!G130","v":0},{"$f":"'Start List Team Scoring'!H130","v":0},{"$f":"'Start List Team Scoring'!I130","v":0},{"$f":"'Start List Team Scoring'!J130","v":0},{"$f":"'Start List Team Scoring'!K130","v":0},""]
[{"$f":"'Start List Team Scoring'!A131","v":120},{"$f":"'Start List Team Scoring'!E131","v":0},{"$f":"'Start List Team Scoring'!F131","v":0},{"$f":"'Start List Team Scoring'!G131","v":0},{"$f":"'Start List Team Scoring'!H131","v":0},{"$f":"'Start List Team Scoring'!I131","v":0},{"$f":"'Start List Team Scoring'!J131","v":0},{"$f":"'Start List Team Scoring'!K131","v":0},""]
[{"$f":"'Start List Team Scoring'!A132","v":121},{"$f":"'Start List Team Scoring'!E132","v":0},{"$f":"'Start List Team Scoring'!F132","v":0},{"$f":"'Start List Team Scoring'!G132","v":0},{"$f":"'Start List Team Scoring'!H132","v":0},{"$f":"'Start List Team Scoring'!I132","v":0},{"$f":"'Start List Team Scoring'!J132","v":0},{"$f":"'Start List Team Scoring'!K132","v":0},""]
[{"$f":"'Start List Team Scoring'!A133","v":122},{"$f":"'Start List Team Scoring'!E133","v":0},{"$f":"'Start List Team Scoring'!F133","v":0},{"$f":"'Start List Team Scoring'!G133","v":0},{"$f":"'Start List Team Scoring'!H133","v":0},{"$f":"'Start List Team Scoring'!I133","v":0},{"$f":"'Start List Team Scoring'!J133","v":0},{"$f":"'Start List Team Scoring'!K133","v":0},""]
[{"$f":"'Start List Team Scoring'!A134","v":123},{"$f":"'Start List Team Scoring'!E134","v":0},{"$f":"'Start List Team Scoring'!F134","v":0},{"$f":"'Start List Team Scoring'!G134","v":0},{"$f":"'Start List Team Scoring'!H134","v":0},{"$f":"'Start List Team Scoring'!I134","v":0},{"$f":"'Start List Team Scoring'!J134","v":0},{"$f":"'Start List Team Scoring'!K134","v":0},""]
[{"$f":"'Start List Team Scoring'!A135","v":124},{"$f":"'Start List Team Scoring'!E135","v":0},{"$f":"'Start List Team Scoring'!F135","v":0},{"$f":"'Start List Team Scoring'!G135","v":0},{"$f":"'Start List Team Scoring'!H135","v":0},{"$f":"'Start List Team Scoring'!I135","v":0},{"$f":"'Start List Team Scoring'!J135","v":0},{"$f":"'Start List Team Scoring'!K135","v":0},""]
[{"$f":"'Start List Team Scoring'!A136","v":125},{"$f":"'Start List Team Scoring'!E136","v":0},{"$f":"'Start List Team Scoring'!F136","v":0},{"$f":"'Start List Team Scoring'!G136","v":0},{"$f":"'Start List Team Scoring'!H136","v":0},{"$f":"'Start List Team Scoring'!I136","v":0},{"$f":"'Start List Team Scoring'!J136","v":0},{"$f":"'Start List Team Scoring'!K136","v":0},""]
[{"$f":"'Start List Team Scoring'!A137","v":126},{"$f":"'Start List Team Scoring'!E137","v":0},{"$f":"'Start List Team Scoring'!F137","v":0},{"$f":"'Start List Team Scoring'!G137","v":0},{"$f":"'Start List Team Scoring'!H137","v":0},{"$f":"'Start List Team Scoring'!I137","v":0},{"$f":"'Start List Team Scoring'!J137","v":0},{"$f":"'Start List Team Scoring'!K137","v":0},""]
[{"$f":"'Start List Team Scoring'!A138","v":127},{"$f":"'Start List Team Scoring'!E138","v":0},{"$f":"'Start List Team Scoring'!F138","v":0},{"$f":"'Start List Team Scoring'!G138","v":0},{"$f":"'Start List Team Scoring'!H138","v":0},{"$f":"'Start List Team Scoring'!I138","v":0},{"$f":"'Start List Team Scoring'!J138","v":0},{"$f":"'Start List Team Scoring'!K138","v":0},""]
[{"$f":"'Start List Team Scoring'!A139","v":128},{"$f":"'Start List Team Scoring'!E139","v":0},{"$f":"'Start List Team Scoring'!F139","v":0},{"$f":"'Start List Team Scoring'!G139","v":0},{"$f":"'Start List Team Scoring'!H139","v":0},{"$f":"'Start List Team Scoring'!I139","v":0},{"$f":"'Start List Team Scoring'!J139","v":0},{"$f":"'Start List Team Scoring'!K139","v":0},""]
[{"$f":"'Start List Team Scoring'!A140","v":129},{"$f":"'Start List Team Scoring'!E140","v":0},{"$f":"'Start List Team Scoring'!F140","v":0},{"$f":"'Start List Team Scoring'!G140","v":0},{"$f":"'Start List Team Scoring'!H140","v":0},{"$f":"'Start List Team Scoring'!I140","v":0},{"$f":"'Start List Team Scoring'!J140","v":0},{"$f":"'Start List Team Scoring'!K140","v":0},{"$f":"IF(H135<>0,IF(I134=\"\",1,I134+1),\"\")","v":""}]
[{"$f":"'Start List Team Scoring'!A141","v":130},{"$f":"'Start List Team Scoring'!E141","v":0},{"$f":"'Start List Team Scoring'!F141","v":0},{"$f":"'Start List Team Scoring'!G141","v":0},{"$f":"'Start List Team Scoring'!H141","v":0},{"$f":"'Start List Team Scoring'!I141","v":0},{"$f":"'Start List Team Scoring'!J141","v":0},{"$f":"'Start List Team Scoring'!K141","v":0},""]
[{"$f":"'Start List Team Scoring'!A142","v":131},{"$f":"'Start List Team Scoring'!E142","v":0},{"$f":"'Start List Team Scoring'!F142","v":0},{"$f":"'Start List Team Scoring'!G142","v":0},{"$f":"'Start List Team Scoring'!H142","v":0},{"$f":"'Start List Team Scoring'!I142","v":0},{"$f":"'Start List Team Scoring'!J142","v":0},{"$f":"'Start List Team Scoring'!K142","v":0},""]
[{"$f":"'Start List Team Scoring'!A143","v":132},{"$f":"'Start List Team Scoring'!E143","v":0},{"$f":"'Start List Team Scoring'!F143","v":0},{"$f":"'Start List Team Scoring'!G143","v":0},{"$f":"'Start List Team Scoring'!H143","v":0},{"$f":"'Start List Team Scoring'!I143","v":0},{"$f":"'Start List Team Scoring'!J143","v":0},{"$f":"'Start List Team Scoring'!K143","v":0},""]
[{"$f":"'Start List Team Scoring'!A144","v":133},{"$f":"'Start List Team Scoring'!E144","v":0},{"$f":"'Start List Team Scoring'!F144","v":0},{"$f":"'Start List Team Scoring'!G144","v":0},{"$f":"'Start List Team Scoring'!H144","v":0},{"$f":"'Start List Team Scoring'!I144","v":0},{"$f":"'Start List Team Scoring'!J144","v":0},{"$f":"'Start List Team Scoring'!K144","v":0},""]
[{"$f":"'Start List Team Scoring'!A145","v":134},{"$f":"'Start List Team Scoring'!E145","v":0},{"$f":"'Start List Team Scoring'!F145","v":0},{"$f":"'Start List Team Scoring'!G145","v":0},{"$f":"'Start List Team Scoring'!H145","v":0},{"$f":"'Start List Team Scoring'!I145","v":0},{"$f":"'Start List Team Scoring'!J145","v":0},{"$f":"'Start List Team Scoring'!K145","v":0},""]
[{"$f":"'Start List Team Scoring'!A146","v":135},{"$f":"'Start List Team Scoring'!E146","v":0},{"$f":"'Start List Team Scoring'!F146","v":0},{"$f":"'Start List Team Scoring'!G146","v":0},{"$f":"'Start List Team Scoring'!H146","v":0},{"$f":"'Start List Team Scoring'!I146","v":0},{"$f":"'Start List Team Scoring'!J146","v":0},{"$f":"'Start List Team Scoring'!K146","v":0},""]
[{"$f":"'Start List Team Scoring'!A147","v":136},{"$f":"'Start List Team Scoring'!E147","v":0},{"$f":"'Start List Team Scoring'!F147","v":0},{"$f":"'Start List Team Scoring'!G147","v":0},{"$f":"'Start List Team Scoring'!H147","v":0},{"$f":"'Start List Team Scoring'!I147","v":0},{"$f":"'Start List Team Scoring'!J147","v":0},{"$f":"'Start List Team Scoring'!K147","v":0},""]
[{"$f":"'Start List Team Scoring'!A148","v":137},{"$f":"'Start List Team Scoring'!E148","v":0},{"$f":"'Start List Team Scoring'!F148","v":0},{"$f":"'Start List Team Scoring'!G148","v":0},{"$f":"'Start List Team Scoring'!H148","v":0},{"$f":"'Start List Team Scoring'!I148","v":0},{"$f":"'Start List Team Scoring'!J148","v":0},{"$f":"'Start List Team Scoring'!K148","v":0},""]
[{"$f":"'Start List Team Scoring'!A149","v":138},{"$f":"'Start List Team Scoring'!E149","v":0},{"$f":"'Start List Team Scoring'!F149","v":0},{"$f":"'Start List Team Scoring'!G149","v":0},{"$f":"'Start List Team Scoring'!H149","v":0},{"$f":"'Start List Team Scoring'!I149","v":0},{"$f":"'Start List Team Scoring'!J149","v":0},{"$f":"'Start List Team Scoring'!K149","v":0},""]
[{"$f":"'Start List Team Scoring'!A150","v":139},{"$f":"'Start List Team Scoring'!E150","v":0},{"$f":"'Start List Team Scoring'!F150","v":0},{"$f":"'Start List Team Scoring'!G150","v":0},{"$f":"'Start List Team Scoring'!H150","v":0},{"$f":"'Start List Team Scoring'!I150","v":0},{"$f":"'Start List Team Scoring'!J150","v":0},{"$f":"'Start List Team Scoring'!K150","v":0},""]
[{"$f":"'Start List Team Scoring'!A151","v":140},{"$f":"'Start List Team Scoring'!E151","v":0},{"$f":"'Start List Team Scoring'!F151","v":0},{"$f":"'Start List Team Scoring'!G151","v":0},{"$f":"'Start List Team Scoring'!H151","v":0},{"$f":"'Start List Team Scoring'!I151","v":0},{"$f":"'Start List Team Scoring'!J151","v":0},{"$f":"'Start List Team Scoring'!K151","v":0},""]
[{"$f":"'Start List Team Scoring'!A152","v":141},{"$f":"'Start List Team Scoring'!E152","v":0},{"$f":"'Start List Team Scoring'!F152","v":0},{"$f":"'Start List Team Scoring'!G152","v":0},{"$f":"'Start List Team Scoring'!H152","v":0},{"$f":"'Start List Team Scoring'!I152","v":0},{"$f":"'Start List Team Scoring'!J152","v":0},{"$f":"'Start List Team Scoring'!K152","v":0},""]
[{"$f":"'Start List Team Scoring'!A153","v":142},{"$f":"'Start List Team Scoring'!E153","v":0},{"$f":"'Start List Team Scoring'!F153","v":0},{"$f":"'Start List Team Scoring'!G153","v":0},{"$f":"'Start List Team Scoring'!H153","v":0},{"$f":"'Start List Team Scoring'!I153","v":0},{"$f":"'Start List Team Scoring'!J153","v":0},{"$f":"'Start List Team Scoring'!K153","v":0},""]
[{"$f":"'Start List Team Scoring'!A154","v":143},{"$f":"'Start List Team Scoring'!E154","v":0},{"$f":"'Start List Team Scoring'!F154","v":0},{"$f":"'Start List Team Scoring'!G154","v":0},{"$f":"'Start List Team Scoring'!H154","v":0},{"$f":"'Start List Team Scoring'!I154","v":0},{"$f":"'Start List Team Scoring'!J154","v":0},{"$f":"'Start List Team Scoring'!K154","v":0},""]
[{"$f":"'Start List Team Scoring'!A155","v":144},{"$f":"'Start List Team Scoring'!E155","v":0},{"$f":"'Start List Team Scoring'!F155","v":0},{"$f":"'Start List Team Scoring'!G155","v":0},{"$f":"'Start List Team Scoring'!H155","v":0},{"$f":"'Start List Team Scoring'!I155","v":0},{"$f":"'Start List Team Scoring'!J155","v":0},{"$f":"'Start List Team Scoring'!K155","v":0},""]
[{"$f":"'Start List Team Scoring'!A156","v":145},{"$f":"'Start List Team Scoring'!E156","v":0},{"$f":"'Start List Team Scoring'!F156","v":0},{"$f":"'Start List Team Scoring'!G156","v":0},{"$f":"'Start List Team Scoring'!H156","v":0},{"$f":"'Start List Team Scoring'!I156","v":0},{"$f":"'Start List Team Scoring'!J156","v":0},{"$f":"'Start List Team Scoring'!K156","v":0},""]
[{"$f":"'Start List Team Scoring'!A157","v":146},{"$f":"'Start List Team Scoring'!E157","v":0},{"$f":"'Start List Team Scoring'!F157","v":0},{"$f":"'Start List Team Scoring'!G157","v":0},{"$f":"'Start List Team Scoring'!H157","v":0},{"$f":"'Start List Team Scoring'!I157","v":0},{"$f":"'Start List Team Scoring'!J157","v":0},{"$f":"'Start List Team Scoring'!K157","v":0},""]
[{"$f":"'Start List Team Scoring'!A158","v":147},{"$f":"'Start List Team Scoring'!E158","v":0},{"$f":"'Start List Team Scoring'!F158","v":0},{"$f":"'Start List Team Scoring'!G158","v":0},{"$f":"'Start List Team Scoring'!H158","v":0},{"$f":"'Start List Team Scoring'!I158","v":0},{"$f":"'Start List Team Scoring'!J158","v":0},{"$f":"'Start List Team Scoring'!K158","v":0},""]
[{"$f":"'Start List Team Scoring'!A159","v":148},{"$f":"'Start List Team Scoring'!E159","v":0},{"$f":"'Start List Team Scoring'!F159","v":0},{"$f":"'Start List Team Scoring'!G159","v":0},{"$f":"'Start List Team Scoring'!H159","v":0},{"$f":"'Start List Team Scoring'!I159","v":0},{"$f":"'Start List Team Scoring'!J159","v":0},{"$f":"'Start List Team Scoring'!K159","v":0},""]
[{"$f":"'Start List Team Scoring'!A160","v":149},{"$f":"'Start List Team Scoring'!E160","v":0},{"$f":"'Start List Team Scoring'!F160","v":0},{"$f":"'Start List Team Scoring'!G160","v":0},{"$f":"'Start List Team Scoring'!H160","v":0},{"$f":"'Start List Team Scoring'!I160","v":0},{"$f":"'Start List Team Scoring'!J160","v":0},{"$f":"'Start List Team Scoring'!K160","v":0},""]
[{"$f":"'Start List Team Scoring'!A161","v":150},{"$f":"'Start List Team Scoring'!E161","v":0},{"$f":"'Start List Team Scoring'!F161","v":0},{"$f":"'Start List Team Scoring'!G161","v":0},{"$f":"'Start List Team Scoring'!H161","v":0},{"$f":"'Start List Team Scoring'!I161","v":0},{"$f":"'Start List Team Scoring'!J161","v":0},{"$f":"'Start List Team Scoring'!K161","v":0},""]
[{"$f":"'Start List Team Scoring'!A162","v":151},{"$f":"'Start List Team Scoring'!E162","v":0},{"$f":"'Start List Team Scoring'!F162","v":0},{"$f":"'Start List Team Scoring'!G162","v":0},{"$f":"'Start List Team Scoring'!H162","v":0},{"$f":"'Start List Team Scoring'!I162","v":0},{"$f":"'Start List Team Scoring'!J162","v":0},{"$f":"'Start List Team Scoring'!K162","v":0},""]
[{"$f":"'Start List Team Scoring'!A163","v":152},{"$f":"'Start List Team Scoring'!E163","v":0},{"$f":"'Start List Team Scoring'!F163","v":0},{"$f":"'Start List Team Scoring'!G163","v":0},{"$f":"'Start List Team Scoring'!H163","v":0},{"$f":"'Start List Team Scoring'!I163","v":0},{"$f":"'Start List Team Scoring'!J163","v":0},{"$f":"'Start List Team Scoring'!K163","v":0},""]
[{"$f":"'Start List Team Scoring'!A164","v":153},{"$f":"'Start List Team Scoring'!E164","v":0},{"$f":"'Start List Team Scoring'!F164","v":0},{"$f":"'Start List Team Scoring'!G164","v":0},{"$f":"'Start List Team Scoring'!H164","v":0},{"$f":"'Start List Team Scoring'!I164","v":0},{"$f":"'Start List Team Scoring'!J164","v":0},{"$f":"'Start List Team Scoring'!K164","v":0},""]
[{"$f":"'Start List Team Scoring'!A165","v":154},{"$f":"'Start List Team Scoring'!E165","v":0},{"$f":"'Start List Team Scoring'!F165","v":0},{"$f":"'Start List Team Scoring'!G165","v":0},{"$f":"'Start List Team Scoring'!H165","v":0},{"$f":"'Start List Team Scoring'!I165","v":0},{"$f":"'Start List Team Scoring'!J165","v":0},{"$f":"'Start List Team Scoring'!K165","v":0},""]
[{"$f":"'Start List Team Scoring'!A166","v":155},{"$f":"'Start List Team Scoring'!E166","v":0},{"$f":"'Start List Team Scoring'!F166","v":0},{"$f":"'Start List Team Scoring'!G166","v":0},{"$f":"'Start List Team Scoring'!H166","v":0},{"$f":"'Start List Team Scoring'!I166","v":0},{"$f":"'Start List Team Scoring'!J166","v":0},{"$f":"'Start List Team Scoring'!K166","v":0},""]
[{"$f":"'Start List Team Scoring'!A167","v":156},{"$f":"'Start List Team Scoring'!E167","v":0},{"$f":"'Start List Team Scoring'!F167","v":0},{"$f":"'Start List Team Scoring'!G167","v":0},{"$f":"'Start List Team Scoring'!H167","v":0},{"$f":"'Start List Team Scoring'!I167","v":0},{"$f":"'Start List Team Scoring'!J167","v":0},{"$f":"'Start List Team Scoring'!K167","v":0},""]

{"sheet":"ScTbl","index":5,"n_rows":28,"n_cols":27,"rows_kept":28,"cut":false,"hidden":false,"merged":[[1,1,1,24]]}
["SCORING TABLE"]
[null,"# of Racers",null,null,null,null,null,null,null,null,null,null,null,null,null,null,null,null,null,null,null,null,null,null,null,null,{"$f":"HLOOKUP(2,B3:Y27,2,FALSE)","v":22}]
["Place",24,23,22,21,20,19,18,17,16,15,14,13,12,11,10,9,8,7,6,5,4,3,2,1]
[1,33,32,32,31,31,30,30,29,29,28,28,27,27,26,26,25,25,24,24,23,23,22,22,21]
[2,32,31,31,30,{"$f":"+F4-1","v":30},29,29,28,28,27,27,26,26,25,25,24,24,23,23,22,22,21,{"$f":"+X4-1","v":21}]
[3,31,30,30,29,{"$f":"+F5-1","v":29},{"$f":"+G5-1","v":28},{"$f":"+H5-1","v":28},{"$f":"+I5-1","v":27},{"$f":"+J5-1","v":27},{"$f":"+K5-1","v":26},{"$f":"+L5-1","v":26},{"$f":"+M5-1","v":25},{"$f":"+N5-1","v":25},{"$f":"+O5-1","v":24},{"$f":"+P5-1","v":24},23,23,22,22,21,21,20]
[4,30,29,29,28,28,27,27,26,26,25,25,24,24,23,{"$f":"+P6-1","v":23},22,22,21,21,20,20]
[5,29,28,28,27,27,26,26,25,25,24,24,23,23,22,{"$f":"+P7-1","v":22},21,21,20,20,19]
[6,28,27,27,26,26,25,25,24,24,23,23,22,22,21,{"$f":"+P8-1","v":21},{"$f":"+Q8-1","v":20},{"$f":"+R8-1","v":20},{"$f":"+S8-1","v":19},{"$f":"+T8-1","v":19}]
[7,27,26,26,25,25,24,24,23,23,22,22,21,21,20,{"$f":"+P9-1","v":20},{"$f":"+Q9-1","v":19},{"$f":"+R9-1","v":19},{"$f":"+S9-1","v":18}]
[8,26,25,25,24,24,23,23,22,22,21,21,20,20,19,{"$f":"+P10-1","v":19},{"$f":"+Q10-1","v":18},{"$f":"+R10-1","v":18}]
[9,25,24,24,23,23,22,22,21,21,20,20,19,19,18,{"$f":"+P11-1","v":18},{"$f":"+Q11-1","v":17}]
[10,24,23,23,22,22,21,21,20,20,19,19,18,18,17,{"$f":"+P12-1","v":17}]
[11,23,22,22,21,21,20,20,19,19,18,18,17,17,16]
[12,22,21,21,20,20,19,19,18,18,17,17,16,16]
[13,21,20,20,19,19,18,18,17,17,16,16,15]
[14,20,19,19,18,18,17,17,16,16,15,15]
[15,19,18,18,17,17,16,16,15,15,14]
[16,18,17,17,16,16,15,15,14,14]
[17,17,16,16,15,15,14,14,13]
[18,16,15,15,14,14,13,13]
[19,15,14,14,13,13,12]
[20,14,13,13,12,12]
[21,13,12,12,11]
[22,12,11,11]
[23,11,10]
[24,10]
["Avg.",{"$f":"+SUM(B4:B27)/COUNT(B4:B27)","v":21.5},{"$f":"+SUM(C4:C27)/COUNT(C4:C27)","v":21},21.5,21,21.5,21,21.5,21,21.5,21,21.5,21,21.5,21,21.5,21,21.5,21,21.5,21,21.5,21,21.5,21]